Workbook

Sheet Week_1..
A1: 嘉義市東區民族國小 2025年6月1週午餐菜單
B2: 44640 | D2: 日 | F2: 人 | G2: 45810 | I2: 一 | J2: 761 | K2: 人 | N2: =G2+1 -> 45811 | P2: 二 | Q2: 761 | R2: 人 | U2: =N2+1 -> 45812 | W2: 三 | X2: 709 | Y2: 人 | AB2: =U2+1 -> 45813 | AD2: 四 | AE2: 761 | AF2: 人 | AI2: =AB2+1 -> 45814 | AK2: 五 | AL2: 750 | AM2: 人
B3: 菜名 | C3: 食材 | D3: 規格 | E3: 數量 | F3: 單位 | G3: 菜名 | H3: 食材 | I3: 規格 | J3: 數量 | K3: 單位 | N3: 菜名 | O3: 食材 | P3: 規格 | Q3: 數量 | R3: 單位 | U3: 菜名 | V3: 食材 | W3: 規格 | X3: 數量 | Y3: 單位 | AB3: 菜名 | AC3: 食材 | AD3: 規格 | AE3: 數量 | AF3: 單位 | AI3: 菜名 | AJ3: 食材 | AK3: 規格 | AM3: 數量
A4: 主食 | G4: 胚芽米 | H4: 英語村52葷 | N4: 白米飯 | O4: 英語村52葷 | U4: 特餐 | AB4: 白米飯 | AC4: 英語村52葷 | AI4: 薏仁飯 | AJ4: 英語村41葷
A19: 主食二
A34: 主菜 | G34: 照燒雞丁 | H34: 腿丁 | J34: 56 | K34: kg | L34: 190 | M34: =L34*J34 -> 10640 | N34: 馬鈴薯燉肉 | O34: 肉丁 | Q34: 45 | R34: kg | S34: 220 | T34: =S34*Q34 -> 9900 | U34: 鮮肉絲羹飯 | V34: 大白菜 | W34: 段 | X34: 25 | Y34: kg | Z34: 40 | AA34: =Z34*X34 -> 1000 | AB34: 香酥魚 | AC34: 油甘魚 | AE34: 761 | AF34: 片 | AG34: 13 | AH34: =AG34*AE34 -> 9893 | AI34: 黑醋雞 | AJ34: 腿丁 | AL34: 55 | AM34: kg | AN34: 190 | AO34: =AN34*AL34 -> 10450
H35: 洋蔥 | I35: 大丁 | J35: 16 | K35: kg | L35: 60 | M35: =L35*J35 -> 960 | O35: 馬鈴薯 | P35: 手切大丁 | Q35: 21 | R35: kg | S35: 60 | T35: =S35*Q35 -> 1260 | V35: 肉絲 | X35: 21 | Y35: kg | Z35: 220 | AA35: =Z35*X35 -> 4620 | AC35: 備品 | AE35: 10 | AF35: 片 | AH35: =AG35*AE35 -> 0 | AJ35: 洋蔥 | AK35: 片 | AL35: 19 | AM35: kg | AN35: 60 | AO35: =AN35*AL35 -> 1140
H36: 紅蘿蔔(手切) | I36: 大丁 | J36: 3 | K36: kg | L36: 45 | M36: =L36*J36 -> 135 | O36: 洋蔥 | P36: 中丁 | Q36: 11 | R36: kg | S36: 60 | T36: =S36*Q36 -> 660 | V36: 木耳 | W36: 絲 | X36: 3 | Y36: kg | Z36: 130 | AA36: =Z36*X36 -> 390 | AH36: =AG36*AE36 -> 0 | AJ36: 薑泥 | AL36: 1 | AM36: kg | AN36: 200 | AO36: =AN36*AL36 -> 200
H37: 熟白芝麻 | J37: 0.3 | K37: kg | L37: 300 | M37: =L37*J37 -> 90 | O37: 紅蘿蔔 | P37: 手切 | Q37: 3 | R37: kg | S37: 40 | T37: =S37*Q37 -> 120 | V37: 紅蘿蔔 | W37: 絲 | X37: 2 | Y37: kg | Z37: 40 | AA37: =Z37*X37 -> 80 | AH37: =AG37*AE37 -> 0 | AJ37: 紅蘿蔔 | AK37: 片 | AL37: 2 | AM37: kg | AN37: 40 | AO37: =AN37*AL37 -> 80
H38: 照燒醬 | I38: 穀盛1.8L | J38: 2 | K38: 大罐 | L38: 350 | M38: =L38*J38 -> 700 | T38: =S38*Q38 -> 0 | V38: 鮮筍絲 | W38: 絲 | X38: 20 | Y38: kg | Z38: 120 | AA38: =Z38*X38 -> 2400 | AC38: 薏仁 | AD38: 6/5 | AE38: 5 | AF38: kg | AG38: 100 | AH38: =AG38*AE38 -> 500 | AO38: =AN38*AL38 -> 0
M39: =L39*J39 -> 0 | T39: =S39*Q39 -> 0 | V39: 鮮香菇 | W39: 絲 | X39: 4 | Y39: kg | Z39: 100 | AA39: =Z39*X39 -> 400 | AH39: =AG39*AE39 -> 0 | AO39: =AN39*AL39 -> 0
M40: =L40*J40 -> 0 | T40: =S40*Q40 -> 0 | V40: 雞蛋 | X40: 10 | Y40: kg | Z40: 100 | AA40: =Z40*X40 -> 1000 | AH40: =AG40*AE40 -> 0 | AJ40: 醬油白醋糖比例各一.淋上香油勾薄芡 | AO40: =AN40*AL40 -> 0
H41: 胚芽米 | I41: 6/2 | J41: 5 | K41: kg | L41: 100 | M41: =L41*J41 -> 500 | T41: =S41*Q41 -> 0 | AA41: =Z41*X41 -> 0 | AC41: 筆管麵沒有備案螺旋麵 | AH41: =AG41*AE41 -> 0 | AO41: =AN41*AL41 -> 0
M42: =L42*J42 -> 0 | T42: =S42*Q42 -> 0 | AA42: =Z42*X42 -> 0 | AC42: 番茄醬 | AD42: 3K | AE42: 2 | AF42: 桶 | AG42: 280 | AH42: =AG42*AE42 -> 560 | AO42: =AN42*AL42 -> 0
M43: =L43*J43 -> 0 | T43: =S43*Q43 -> 0 | AA43: =Z43*X43 -> 0 | AH43: =AG43*AE43 -> 0 | AO43: =AN43*AL43 -> 0
M44: =L44*J44 -> 0 | T44: =S44*Q44 -> 0 | AA44: =Z44*X44 -> 0 | AH44: =AG44*AE44 -> 0 | AO44: =AN44*AL44 -> 0
M45: =L45*J45 -> 0 | T45: =S45*Q45 -> 0 | AA45: =Z45*X45 -> 0 | AH45: =AG45*AE45 -> 0 | AO45: =AN45*AL45 -> 0
M46: =L46*J46 -> 0 | T46: =S46*Q46 -> 0 | AA46: =Z46*X46 -> 0 | AH46: =AG46*AE46 -> 0 | AO46: =AN46*AL46 -> 0
M47: =L47*J47 -> 0 | T47: =S47*Q47 -> 0 | AA47: =Z47*X47 -> 0 | AH47: =AG47*AE47 -> 0 | AO47: =AN47*AL47 -> 0
M48: =L48*J48 -> 0 | T48: =S48*Q48 -> 0 | AA48: =Z48*X48 -> 0 | AH48: =AG48*AE48 -> 0 | AO48: =AN48*AL48 -> 0
A49: 主菜二 | M49: =L49*J49 -> 0 | T49: =S49*Q49 -> 0 | X49: 10 | AA49: =Z49*X49 -> 0 | AH49: =AG49*AE49 -> 0 | AO49: =AN49*AL49 -> 0
M50: =L50*J50 -> 0 | T50: =S50*Q50 -> 0 | X50: 10 | AA50: =Z50*X50 -> 0 | AH50: =AG50*AE50 -> 0 | AO50: =AN50*AL50 -> 0
M51: =L51*J51 -> 0 | T51: =S51*Q51 -> 0 | X51: 10 | AA51: =Z51*X51 -> 0 | AH51: =AG51*AE51 -> 0 | AO51: =AN51*AL51 -> 0
M52: =L52*J52 -> 0 | T52: =S52*Q52 -> 0 | X52: 10 | AA52: =Z52*X52 -> 0 | AH52: =AG52*AE52 -> 0 | AO52: =AN52*AL52 -> 0
M53: =L53*J53 -> 0 | T53: =S53*Q53 -> 0 | X53: 10 | AA53: =Z53*X53 -> 0 | AH53: =AG53*AE53 -> 0 | AO53: =AN53*AL53 -> 0
M54: =L54*J54 -> 0 | T54: =S54*Q54 -> 0 | X54: 10 | AA54: =Z54*X54 -> 0 | AH54: =AG54*AE54 -> 0 | AO54: =AN54*AL54 -> 0
M55: =L55*J55 -> 0 | T55: =S55*Q55 -> 0 | X55: 10 | AA55: =Z55*X55 -> 0 | AH55: =AG55*AE55 -> 0 | AO55: =AN55*AL55 -> 0
M56: =L56*J56 -> 0 | T56: =S56*Q56 -> 0 | X56: 10 | AA56: =Z56*X56 -> 0 | AH56: =AG56*AE56 -> 0 | AO56: =AN56*AL56 -> 0
M57: =L57*J57 -> 0 | T57: =S57*Q57 -> 0 | X57: 10 | AA57: =Z57*X57 -> 0 | AH57: =AG57*AE57 -> 0 | AO57: =AN57*AL57 -> 0
M58: =L58*J58 -> 0 | T58: =S58*Q58 -> 0 | X58: 10 | AA58: =Z58*X58 -> 0 | AH58: =AG58*AE58 -> 0 | AO58: =AN58*AL58 -> 0
M59: =L59*J59 -> 0 | T59: =S59*Q59 -> 0 | X59: 10 | AA59: =Z59*X59 -> 0 | AH59: =AG59*AE59 -> 0 | AO59: =AN59*AL59 -> 0
M60: =L60*J60 -> 0 | T60: =S60*Q60 -> 0 | X60: 10 | AA60: =Z60*X60 -> 0 | AH60: =AG60*AE60 -> 0 | AO60: =AN60*AL60 -> 0
M61: =L61*J61 -> 0 | T61: =S61*Q61 -> 0 | X61: 10 | AA61: =Z61*X61 -> 0 | AH61: =AG61*AE61 -> 0 | AO61: =AN61*AL61 -> 0
... M63: =L63*J63 -> 0 | T63: =S63*Q63 -> 0 | X63: 10 | AA63: =Z63*X63 -> 0 | AH63: =AG63*AE63 -> 0 | AO63: =AN63*AL63 -> 0
A64: 主菜三 | M64: =L64*J64 -> 0 | T64: =S64*Q64 -> 0 | X64: 10 | AA64: =Z64*X64 -> 0 | AH64: =AG64*AE64 -> 0 | AO64: =AN64*AL64 -> 0
M65: =L65*J65 -> 0 | T65: =S65*Q65 -> 0 | X65: 10 | AA65: =Z65*X65 -> 0 | AH65: =AG65*AE65 -> 0 | AO65: =AN65*AL65 -> 0
M66: =L66*J66 -> 0 | T66: =S66*Q66 -> 0 | X66: 10 | AA66: =Z66*X66 -> 0 | AH66: =AG66*AE66 -> 0 | AO66: =AN66*AL66 -> 0
M67: =L67*J67 -> 0 | T67: =S67*Q67 -> 0 | X67: 10 | AA67: =Z67*X67 -> 0 | AH67: =AG67*AE67 -> 0 | AO67: =AN67*AL67 -> 0
M68: =L68*J68 -> 0 | T68: =S68*Q68 -> 0 | X68: 10 | AA68: =Z68*X68 -> 0 | AH68: =AG68*AE68 -> 0 | AO68: =AN68*AL68 -> 0
M69: =L69*J69 -> 0 | T69: =S69*Q69 -> 0 | X69: 10 | AA69: =Z69*X69 -> 0 | AH69: =AG69*AE69 -> 0 | AO69: =AN69*AL69 -> 0
M70: =L70*J70 -> 0 | T70: =S70*Q70 -> 0 | X70: 10 | AA70: =Z70*X70 -> 0 | AH70: =AG70*AE70 -> 0 | AO70: =AN70*AL70 -> 0
M71: =L71*J71 -> 0 | T71: =S71*Q71 -> 0 | X71: 10 | AA71: =Z71*X71 -> 0 | AH71: =AG71*AE71 -> 0 | AO71: =AN71*AL71 -> 0
M72: =L72*J72 -> 0 | T72: =S72*Q72 -> 0 | X72: 10 | AA72: =Z72*X72 -> 0 | AH72: =AG72*AE72 -> 0 | AO72: =AN72*AL72 -> 0
M73: =L73*J73 -> 0 | T73: =S73*Q73 -> 0 | X73: 10 | AA73: =Z73*X73 -> 0 | AH73: =AG73*AE73 -> 0 | AO73: =AN73*AL73 -> 0
M74: =L74*J74 -> 0 | T74: =S74*Q74 -> 0 | X74: 10 | AA74: =Z74*X74 -> 0 | AH74: =AG74*AE74 -> 0 | AO74: =AN74*AL74 -> 0
M75: =L75*J75 -> 0 | T75: =S75*Q75 -> 0 | X75: 10 | AA75: =Z75*X75 -> 0 | AH75: =AG75*AE75 -> 0 | AO75: =AN75*AL75 -> 0
M76: =L76*J76 -> 0 | T76: =S76*Q76 -> 0 | X76: 10 | AA76: =Z76*X76 -> 0 | AH76: =AG76*AE76 -> 0 | AO76: =AN76*AL76 -> 0
... M78: =L78*J78 -> 0 | T78: =S78*Q78 -> 0 | X78: 10 | AA78: =Z78*X78 -> 0 | AH78: =AG78*AE78 -> 0 | AO78: =AN78*AL78 -> 0
A79: 主菜四 | M79: =L79*J79 -> 0 | T79: =S79*Q79 -> 0 | X79: 10 | AA79: =Z79*X79 -> 0 | AH79: =AG79*AE79 -> 0 | AO79: =AN79*AL79 -> 0
M80: =L80*J80 -> 0 | T80: =S80*Q80 -> 0 | X80: 10 | AA80: =Z80*X80 -> 0 | AH80: =AG80*AE80 -> 0 | AO80: =AN80*AL80 -> 0
M81: =L81*J81 -> 0 | T81: =S81*Q81 -> 0 | X81: 10 | AA81: =Z81*X81 -> 0 | AH81: =AG81*AE81 -> 0 | AO81: =AN81*AL81 -> 0
M82: =L82*J82 -> 0 | T82: =S82*Q82 -> 0 | X82: 10 | AA82: =Z82*X82 -> 0 | AH82: =AG82*AE82 -> 0 | AO82: =AN82*AL82 -> 0
M83: =L83*J83 -> 0 | T83: =S83*Q83 -> 0 | X83: 10 | AA83: =Z83*X83 -> 0 | AH83: =AG83*AE83 -> 0 | AO83: =AN83*AL83 -> 0
M84: =L84*J84 -> 0 | T84: =S84*Q84 -> 0 | X84: 10 | AA84: =Z84*X84 -> 0 | AH84: =AG84*AE84 -> 0 | AO84: =AN84*AL84 -> 0
M85: =L85*J85 -> 0 | T85: =S85*Q85 -> 0 | X85: 10 | AA85: =Z85*X85 -> 0 | AH85: =AG85*AE85 -> 0 | AO85: =AN85*AL85 -> 0
M86: =L86*J86 -> 0 | T86: =S86*Q86 -> 0 | X86: 10 | AA86: =Z86*X86 -> 0 | AH86: =AG86*AE86 -> 0 | AO86: =AN86*AL86 -> 0
M87: =L87*J87 -> 0 | T87: =S87*Q87 -> 0 | X87: 10 | AA87: =Z87*X87 -> 0 | AH87: =AG87*AE87 -> 0 | AO87: =AN87*AL87 -> 0
M88: =L88*J88 -> 0 | T88: =S88*Q88 -> 0 | X88: 10 | AA88: =Z88*X88 -> 0 | AH88: =AG88*AE88 -> 0 | AO88: =AN88*AL88 -> 0
M89: =L89*J89 -> 0 | T89: =S89*Q89 -> 0 | X89: 10 | AA89: =Z89*X89 -> 0 | AH89: =AG89*AE89 -> 0 | AO89: =AN89*AL89 -> 0
M90: =L90*J90 -> 0 | T90: =S90*Q90 -> 0 | X90: 10 | AA90: =Z90*X90 -> 0 | AH90: =AG90*AE90 -> 0 | AO90: =AN90*AL90 -> 0
M91: =L91*J91 -> 0 | T91: =S91*Q91 -> 0 | X91: 10 | AA91: =Z91*X91 -> 0 | AH91: =AG91*AE91 -> 0 | AO91: =AN91*AL91 -> 0
... M93: =L93*J93 -> 0 | T93: =S93*Q93 -> 0 | X93: 10 | AA93: =Z93*X93 -> 0 | AH93: =AG93*AE93 -> 0 | AO93: =AN93*AL93 -> 0
A94: 副菜 | G94: 鮮蔬甜不辣 | H94: 高麗菜片 | J94: 27 | K94: kg | L94: 40 | M94: =L94*J94 -> 1080 | N94: 黃金玉米炒蛋 | O94: 洗選蛋Q | Q94: 32 | R94: kg | S94: 100 | T94: =S94*Q94 -> 3200 | U94: 東山滷味 | V94: 海帶結 | X94: 10 | Y94: kg | Z94: 75 | AA94: =Z94*X94 -> 750 | AB94: 茄汁筆管麵 | AC94: 筆管麵 | AD94: 0.5K | AE94: 28 | AF94: 包 | AG94: 50 | AH94: =AG94*AE94 -> 1400 | AI94: 筍香豆腐 | AJ94: 鮮筍 | AK94: 片 | AL94: 21 | AM94: kg | AN94: 120 | AO94: =AN94*AL94 -> 2520
H95: 袖珍菇 | J95: 3 | K95: kg | L95: 180 | M95: =L95*J95 -> 540 | O95: 玉米粒 | Q95: 21 | R95: kg | S95: 75 | T95: =S95*Q95 -> 1575 | V95: 大黑豆干 | W95: 1開6 | X95: 10 | Y95: kg | Z95: 100 | AA95: =Z95*X95 -> 1000 | AC95: 肉片 | AD95: 片 | AE95: 6 | AF95: kg | AG95: 220 | AH95: =AG95*AE95 -> 1320 | AJ95: 板豆腐 | AK95: 5K | AL95: 6 | AM95: 板 | AN95: 230 | AO95: =AN95*AL95 -> 1380
H96: 紅蘿蔔片 | J96: 2 | K96: kg | L96: 40 | M96: =L96*J96 -> 80 | O96: 紅蘿蔔 | P96: 小丁 | Q96: 3 | R96: kg | S96: 40 | T96: =S96*Q96 -> 120 | V96: 高麗菜 | W96: 片 | X96: 15 | Y96: kg | Z96: 40 | AA96: =Z96*X96 -> 600 | AC96: 白精靈菇 | AE96: 6 | AF96: kg | AG96: 280 | AH96: =AG96*AE96 -> 1680 | AJ96: 紅蘿蔔 | AK96: 片 | AL96: 3 | AM96: kg | AN96: 40 | AO96: =AN96*AL96 -> 120
H97: 肉片 | J97: 6 | K97: kg | L97: 215 | M97: =L97*J97 -> 1290 | O97: 蒜末 | Q97: 1 | R97: 斤 | S97: 120 | T97: =S97*Q97 -> 120 | V97: 竹切 | X97: 3 | Y97: kg | Z97: 330 | AA97: =Z97*X97 -> 990 | AC97: 紅蘿蔔小丁 | AE97: 1 | AF97: kg | AG97: 40 | AH97: =AG97*AE97 -> 40 | AJ97: 玉米筍 | AK97: 片 | AL97: 3 | AM97: kg | AN97: 300 | AO97: =AN97*AL97 -> 900
H98: 洋蔥絲 | J98: 11 | K98: kg | L98: 60 | M98: =L98*J98 -> 660 | T98: =S98*Q98 -> 0 | V98: 鳥蛋 | X98: 12 | Y98: kg | Z98: 250 | AA98: =Z98*X98 -> 3000 | AC98: 義式綜合香料粉 | AD98: 120g | AE98: 1 | AF98: 罐 | AG98: 200 | AH98: =AG98*AE98 -> 200 | AJ98: 青蔥 | AK98: 段 | AL98: 1 | AM98: kg | AN98: 95 | AO98: =AN98*AL98 -> 95
H99: 甜不辣絲 | I99: Q | J99: 9 | K99: kg | L99: 100 | M99: =L99*J99 -> 900 | T99: =S99*Q99 -> 0 | V99: 蒜泥 | W99: 0.6k | X99: 1 | Y99: 包 | Z99: 120 | AA99: =Z99*X99 -> 120 | AC99: 番茄切 | AE99: 9 | AF99: kg | AG99: 60 | AH99: =AG99*AE99 -> 540 | AJ99: 瘦絞肉 | AL99: 6 | AM99: kg | AN99: 180 | AO99: =AN99*AL99 -> 1080
M100: =L100*J100 -> 0 | T100: =S100*Q100 -> 0 | AA100: =Z100*X100 -> 0 | AC100: 三色豆 | AE100: 3 | AF100: kg | AG100: 65 | AH100: =AG100*AE100 -> 195 | AO100: =AN100*AL100 -> 0
A101: 蔬菜 | G101: 炒產銷蔬菜 | H101: 產銷蔬菜 | I101: 切 | J101: 47 | K101: kg | L101: 65 | M101: =L101*J101 -> 3055 | N101: 炒高麗菜 | O101: 高麗菜 | P101: 切 | Q101: 47 | R101: kg | S101: 40 | T101: =S101*Q101 -> 1880 | U101: 炒產銷蔬菜 | V101: 產銷蔬菜 | W101: 切 | X101: 44 | Y101: kg | Z101: 65 | AA101: =Z101*X101 -> 2860 | AB101: 炒莧菜 | AC101: CAS莧菜 | AD101: 切 | AE101: 48 | AF101: kg | AG101: 50 | AH101: =AG101*AE101 -> 2400 | AI101: 炒有機蔬菜 | AJ101: 有機蔬菜 | AK101: 切 | AL101: 47 | AM101: kg | AN101: 75 | AO101: =AN101*AL101 -> 3525
H102: 蒜末 | J102: 2 | K102: 包 | L102: 120 | M102: =L102*J102 -> 240 | O102: 蒜末 | Q102: 2 | R102: 包 | S102: 120 | T102: =S102*Q102 -> 240 | V102: 蒜末 | X102: 2 | Y102: 包 | Z102: 120 | AA102: =Z102*X102 -> 240 | AC102: 紅蘿蔔片 | AE102: 2 | AF102: kg | AG102: 120 | AH102: =AG102*AE102 -> 240 | AJ102: 蒜末 | AL102: 2 | AM102: 包 | AN102: 120 | AO102: =AN102*AL102 -> 240
M103: =L103*J103 -> 0 | T103: =S103*Q103 -> 0 | AA103: =Z103*X103 -> 0 | AH103: =AG103*AE103 -> 0 | AO103: =AN103*AL103 -> 0
M104: =L104*J104 -> 0 | T104: =S104*Q104 -> 0 | AA104: =Z104*X104 -> 0 | AH104: =AG104*AE104 -> 0 | AO104: =AN104*AL104 -> 0
M105: =L105*J105 -> 0 | T105: =S105*Q105 -> 0 | AA105: =Z105*X105 -> 0 | AH105: =AG105*AE105 -> 0 | AO105: =AN105*AL105 -> 0
M106: =L106*J106 -> 0 | T106: =S106*Q106 -> 0 | AA106: =Z106*X106 -> 0 | AH106: =AG106*AE106 -> 0 | AO106: =AN106*AL106 -> 0
M107: =L107*J107 -> 0 | T107: =S107*Q107 -> 0 | AA107: =Z107*X107 -> 0 | AH107: =AG107*AE107 -> 0 | AO107: =AN107*AL107 -> 0
M108: =L108*J108 -> 0 | T108: =S108*Q108 -> 0 | AA108: =Z108*X108 -> 0 | AH108: =AG108*AE108 -> 0 | AO108: =AN108*AL108 -> 0
M109: =L109*J109 -> 0 | T109: =S109*Q109 -> 0 | AA109: =Z109*X109 -> 0 | AH109: =AG109*AE109 -> 0 | AO109: =AN109*AL109 -> 0
M110: =L110*J110 -> 0 | T110: =S110*Q110 -> 0 | AA110: =Z110*X110 -> 0 | AH110: =AG110*AE110 -> 0 | AO110: =AN110*AL110 -> 0
M111: =L111*J111 -> 0 | T111: =S111*Q111 -> 0 | AA111: =Z111*X111 -> 0 | AH111: =AG111*AE111 -> 0 | AO111: =AN111*AL111 -> 0
M112: =L112*J112 -> 0 | T112: =S112*Q112 -> 0 | AA112: =Z112*X112 -> 0 | AH112: =AG112*AE112 -> 0 | AO112: =AN112*AL112 -> 0
M113: =L113*J113 -> 0 | T113: =S113*Q113 -> 0 | AA113: =Z113*X113 -> 0 | AH113: =AG113*AE113 -> 0 | AO113: =AN113*AL113 -> 0
M114: =L114*J114 -> 0 | T114: =S114*Q114 -> 0 | AA114: =Z114*X114 -> 0 | AH114: =AG114*AE114 -> 0 | AO114: =AN114*AL114 -> 0
M115: =L115*J115 -> 0 | T115: =S115*Q115 -> 0 | AA115: =Z115*X115 -> 0 | AH115: =AG115*AE115 -> 0 | AO115: =AN115*AL115 -> 0
A116: 湯 | G116: 海帶芽蛋花湯 | H116: 海帶芽 | I116: 濕切 | J116: 2 | K116: kg | L116: 65 | M116: =L116*J116 -> 130 | N116: 結頭排骨湯 | O116: 結頭 | P116: 大丁 | Q116: 29 | R116: kg | S116: 40 | T116: =S116*Q116 -> 1160 | U116: 豬肉餡餅 | V116: 桂冠豬肉餡餅 | W116: CAS | X116: 692 | Y116: 個 | Z116: 7 | AA116: =Z116*X116 -> 4844 | AB116: 藥膳湯 | AC116: 白蘿蔔 | AD116: 大丁 | AE116: 30 | AF116: kg | AG116: 40 | AH116: =AG116*AE116 -> 1200 | AI116: 綠豆脆圓 | AJ116: 綠豆 | AK116: 提前 | AL116: 17 | AM116: kg | AN116: 100 | AO116: =AN116*AL116 -> 1700
H117: 雞蛋 | J117: 9 | K117: kg | L117: 100 | M117: =L117*J117 -> 900 | O117: 中排骨 | Q117: 6 | R117: kg | S117: 75 | T117: =S117*Q117 -> 450 | V117: 備品 | X117: 10 | Y117: 個 | AA117: =Z117*X117 -> 0 | AC117: 中排骨 | AE117: 9 | AF117: kg | AG117: 75 | AH117: =AG117*AE117 -> 675 | AJ117: 脆圓 | AL117: 6 | AM117: kg | AN117: 120 | AO117: =AN117*AL117 -> 720
H118: 雞骨 | J118: 6 | K118: kg | L118: 55 | M118: =L118*J118 -> 330 | O118: 魚丸 | P118: 認證 | Q118: 6 | R118: kg | S118: 180 | T118: =S118*Q118 -> 1080 | AA118: =Z118*X118 -> 0 | AC118: 薑片 | AE118: 1 | AF118: kg | AG118: 120 | AH118: =AG118*AE118 -> 120 | AO118: =AN118*AL118 -> 0
M119: =L119*J119 -> 0 | T119: =S119*Q119 -> 0 | AA119: =Z119*X119 -> 0 | AC119: 藥膳包 | AE119: 5 | AF119: 包 | AG119: 80 | AH119: =AG119*AE119 -> 400 | AO119: =AN119*AL119 -> 0
M120: =L120*J120 -> 0 | T120: =S120*Q120 -> 0 | AA120: =Z120*X120 -> 0 | AC120: 烤麩 | AE120: 3 | AF120: kg | AG120: 250 | AH120: =AG120*AE120 -> 750 | AO120: =AN120*AL120 -> 0
M121: =L121*J121 -> 0 | T121: =S121*Q121 -> 0 | AA121: =Z121*X121 -> 0 | AH121: =AG121*AE121 -> 0 | AO121: =AN121*AL121 -> 0
M122: =L122*J122 -> 0 | T122: =S122*Q122 -> 0 | AA122: =Z122*X122 -> 0 | AH122: =AG122*AE122 -> 0 | AO122: =AN122*AL122 -> 0
M123: =L123*J123 -> 0 | T123: =S123*Q123 -> 0 | AA123: =Z123*X123 -> 0 | AH123: =AG123*AE123 -> 0 | AO123: =AN123*AL123 -> 0
M124: =L124*J124 -> 0 | T124: =S124*Q124 -> 0 | AA124: =Z124*X124 -> 0 | AH124: =AG124*AE124 -> 0 | AO124: =AN124*AL124 -> 0
M125: =L125*J125 -> 0 | T125: =S125*Q125 -> 0 | AA125: =Z125*X125 -> 0 | AH125: =AG125*AE125 -> 0 | AO125: =AN125*AL125 -> 0
M126: =L126*J126 -> 0 | T126: =S126*Q126 -> 0 | AA126: =Z126*X126 -> 0 | AH126: =AG126*AE126 -> 0 | AO126: =AN126*AL126 -> 0
M127: =L127*J127 -> 0 | T127: =S127*Q127 -> 0 | AA127: =Z127*X127 -> 0 | AH127: =AG127*AE127 -> 0 | AO127: =AN127*AL127 -> 0
M128: =L128*J128 -> 0 | T128: =S128*Q128 -> 0 | AA128: =Z128*X128 -> 0 | AH128: =AG128*AE128 -> 0 | AO128: =AN128*AL128 -> 0
M129: =L129*J129 -> 0 | T129: =S129*Q129 -> 0 | AA129: =Z129*X129 -> 0 | AH129: =AG129*AE129 -> 0 | AO129: =AN129*AL129 -> 0
M130: =L130*J130 -> 0 | T130: =S130*Q130 -> 0 | AA130: =Z130*X130 -> 0 | AH130: =AG130*AE130 -> 0 | AO130: =AN130*AL130 -> 0
A131: 附餐 | M131: =L131*J131 -> 0 | O131: 水果 | P131: 含素 | Q131: 799 | S131: 8 | T131: =S131*Q131 -> 6392 | AA131: =Z131*X131 -> 0 | AC131: 水果 | AD131: 含素 | AE131: 799 | AG131: 8 | AH131: =AG131*AE131 -> 6392 | AO131: =AN131*AL131 -> 0 | AP131: =AP163-AP146 -> -1.9198872
...

Sheet Week_1.. (素)
A1: 嘉義市東區民族國小 2025年6月1週午餐菜單素
B2: 44640 | D2: 日 | F2: 人 | G2: 45810 | I2: 一 | J2: 23 | K2: 人 | N2: =G2+1 -> 45811 | P2: 二 | Q2: 23 | R2: 人 | U2: =N2+1 -> 45812 | W2: 三 | X2: 23 | Y2: 人 | AB2: =U2+1 -> 45813 | AD2: 四 | AE2: 23 | AF2: 人 | AI2: =AB2+1 -> 45814 | AK2: 五 | AL2: 23 | AM2: 人
B3: 菜名 | C3: 食材 | D3: 規格 | E3: 數量 | F3: 單位 | G3: 菜名 | H3: 食材 | I3: 規格 | J3: 數量 | K3: 單位 | N3: 菜名 | O3: 食材 | P3: 規格 | Q3: 數量 | R3: 單位 | U3: 菜名 | V3: 食材 | W3: 規格 | X3: 數量 | Y3: 單位 | AB3: 菜名 | AC3: 食材 | AD3: 規格 | AE3: 數量 | AF3: 單位 | AI3: 菜名 | AJ3: 食材 | AK3: 規格 | AL3: 數量 | AM3: 單位
A4: 主食
A19: 主食二
A34: 主菜 | G34: 照燒雞丁 | H34: 小四方豆干 | J34: 1 | K34: kg | L34: 100 | M34: =L34*J34 -> 100 | N34: 馬鈴薯燉肉 | O34: 素雞丁 | Q34: 2 | R34: kg | S34: 190 | T34: =S34*Q34 -> 380 | U34: 鮮肉絲羹飯 | V34: 大白菜 | W34: 段 | X34: 0.6 | Y34: kg | Z34: 40 | AA34: =Z34*X34 -> 24 | AB34: 炸鰻魚 | AC34: 素鰻魚 | AD34: 每人1片 | AE34: 23 | AF34: 片 | AI34: 黑醋雞 | AJ34: 杏鮑菇 | AK34: 大丁 | AL34: 1 | AM34: kg | AN34: 190 | AO34: =AN34*AL34 -> 190
H35: 素雞丁 | J35: 1 | K35: kg | L35: 250 | M35: =L35*J35 -> 250 | O35: 馬K | P35: 手切大丁 | Q35: 1.5 | R35: kg | S35: 60 | T35: =S35*Q35 -> 90 | V35: 素皮絲 | W35: 濕切 | X35: 0.6 | Y35: kg | Z35: 190 | AA35: =Z35*X35 -> 114 | AC35: 地瓜削皮 | AD35: 不切 | AE35: 2 | AF35: kg | AJ35: 小四方豆干 | AL35: 1 | AM35: kg | AN35: 40 | AO35: =AN35*AL35 -> 40
H36: 紅蘿蔔 | I36: 大丁 | J36: 0.2 | K36: kg | L36: 40 | M36: =L36*J36 -> 8 | O36: 紅蘿蔔 | P36: 手切 | Q36: 0.3 | R36: kg | S36: 40 | T36: =S36*Q36 -> 12 | V36: 木耳 | W36: 絲 | X36: 0.1 | Y36: kg | Z36: 130 | AA36: =Z36*X36 -> 13 | AN36: 150 | AO36: =AN36*AL36 -> 0
H37: 小黃瓜 | I37: 大丁 | J37: 0.2 | K37: kg | L37: 40 | M37: =L37*J37 -> 8 | S37: 95 | T37: =S37*Q37 -> 0 | V37: 紅蘿蔔 | W37: 絲 | X37: 0.1 | Y37: kg | Z37: 40 | AA37: =Z37*X37 -> 4 | AN37: 130 | AO37: =AN37*AL37 -> 0
H38: 白芝麻 | J38: 同葷 | M38: 0 | S38: 200 | T38: =S38*Q38 -> 0 | V38: 鮮筍絲 | W38: 絲 | X38: 0.3 | Y38: kg | Z38: 95 | AA38: =Z38*X38 -> 28.5 | AN38: 120 | AO38: =AN38*AL38 -> 0
M39: =L39*J39 -> 0 | T39: =S39*Q39 -> 0 | V39: 鮮香菇 | W39: 絲 | X39: 0.1 | Y39: kg | Z39: 155 | AA39: =Z39*X39 -> 15.5 | AN39: 180 | AO39: =AN39*AL39 -> 0
M40: =L40*J40 -> 0 | T40: =S40*Q40 -> 0 | V40: 雞蛋 | X40: 0.1 | Y40: kg | Z40: 113 | AA40: =Z40*X40 -> 11.3 | AN40: 180 | AO40: =AN40*AL40 -> 0
M41: =L41*J41 -> 0 | T41: =S41*Q41 -> 0 | Z41: 150 | AA41: =Z41*X41 -> 0 | AO41: =AN41*AL41 -> 0
M42: =L42*J42 -> 0 | T42: =S42*Q42 -> 0 | AA42: =Z42*X42 -> 0 | AO42: =AN42*AL42 -> 0
M43: =L43*J43 -> 0 | T43: =S43*Q43 -> 0 | AA43: =Z43*X43 -> 0 | AO43: =AN43*AL43 -> 0
M44: =L44*J44 -> 0 | T44: =S44*Q44 -> 0 | AA44: =Z44*X44 -> 0 | AO44: =AN44*AL44 -> 0
M45: =L45*J45 -> 0 | T45: =S45*Q45 -> 0 | AA45: =Z45*X45 -> 0 | AO45: =AN45*AL45 -> 0
M46: =L46*J46 -> 0 | T46: =S46*Q46 -> 0 | AA46: =Z46*X46 -> 0 | AO46: =AN46*AL46 -> 0
M47: =L47*J47 -> 0 | T47: =S47*Q47 -> 0 | AA47: =Z47*X47 -> 0 | AO47: =AN47*AL47 -> 0
M48: =L48*J48 -> 0 | T48: =S48*Q48 -> 0 | AA48: =Z48*X48 -> 0 | AO48: =AN48*AL48 -> 0
A49: 主菜二 | M49: =L49*J49 -> 0 | T49: =S49*Q49 -> 0 | X49: 10 | AA49: =Z49*X49 -> 0 | AO49: =AN49*AL49 -> 0
M50: =L50*J50 -> 0 | T50: =S50*Q50 -> 0 | X50: 10 | AA50: =Z50*X50 -> 0 | AO50: =AN50*AL50 -> 0
M51: =L51*J51 -> 0 | T51: =S51*Q51 -> 0 | X51: 10 | AA51: =Z51*X51 -> 0 | AO51: =AN51*AL51 -> 0
M52: =L52*J52 -> 0 | T52: =S52*Q52 -> 0 | X52: 10 | AA52: =Z52*X52 -> 0 | AO52: =AN52*AL52 -> 0
M53: =L53*J53 -> 0 | T53: =S53*Q53 -> 0 | X53: 10 | AA53: =Z53*X53 -> 0 | AO53: =AN53*AL53 -> 0
M54: =L54*J54 -> 0 | T54: =S54*Q54 -> 0 | X54: 10 | AA54: =Z54*X54 -> 0 | AO54: =AN54*AL54 -> 0
M55: =L55*J55 -> 0 | T55: =S55*Q55 -> 0 | X55: 10 | AA55: =Z55*X55 -> 0 | AO55: =AN55*AL55 -> 0
M56: =L56*J56 -> 0 | T56: =S56*Q56 -> 0 | X56: 10 | AA56: =Z56*X56 -> 0 | AO56: =AN56*AL56 -> 0
M57: =L57*J57 -> 0 | T57: =S57*Q57 -> 0 | X57: 10 | AA57: =Z57*X57 -> 0 | AO57: =AN57*AL57 -> 0
M58: =L58*J58 -> 0 | T58: =S58*Q58 -> 0 | X58: 10 | AA58: =Z58*X58 -> 0 | AO58: =AN58*AL58 -> 0
M59: =L59*J59 -> 0 | T59: =S59*Q59 -> 0 | X59: 10 | AA59: =Z59*X59 -> 0 | AO59: =AN59*AL59 -> 0
M60: =L60*J60 -> 0 | T60: =S60*Q60 -> 0 | X60: 10 | AA60: =Z60*X60 -> 0 | AO60: =AN60*AL60 -> 0
M61: =L61*J61 -> 0 | T61: =S61*Q61 -> 0 | X61: 10 | AA61: =Z61*X61 -> 0 | AO61: =AN61*AL61 -> 0
... M63: =L63*J63 -> 0 | T63: =S63*Q63 -> 0 | X63: 10 | AA63: =Z63*X63 -> 0 | AO63: =AN63*AL63 -> 0
A64: 主菜三 | M64: =L64*J64 -> 0 | T64: =S64*Q64 -> 0 | X64: 10 | AA64: =Z64*X64 -> 0 | AO64: =AN64*AL64 -> 0
M65: =L65*J65 -> 0 | T65: =S65*Q65 -> 0 | X65: 10 | AA65: =Z65*X65 -> 0 | AO65: =AN65*AL65 -> 0
M66: =L66*J66 -> 0 | T66: =S66*Q66 -> 0 | X66: 10 | AA66: =Z66*X66 -> 0 | AO66: =AN66*AL66 -> 0
M67: =L67*J67 -> 0 | T67: =S67*Q67 -> 0 | X67: 10 | AA67: =Z67*X67 -> 0 | AO67: =AN67*AL67 -> 0
M68: =L68*J68 -> 0 | T68: =S68*Q68 -> 0 | X68: 10 | AA68: =Z68*X68 -> 0 | AO68: =AN68*AL68 -> 0
M69: =L69*J69 -> 0 | T69: =S69*Q69 -> 0 | X69: 10 | AA69: =Z69*X69 -> 0 | AO69: =AN69*AL69 -> 0
M70: =L70*J70 -> 0 | T70: =S70*Q70 -> 0 | X70: 10 | AA70: =Z70*X70 -> 0 | AO70: =AN70*AL70 -> 0
M71: =L71*J71 -> 0 | T71: =S71*Q71 -> 0 | X71: 10 | AA71: =Z71*X71 -> 0 | AO71: =AN71*AL71 -> 0
M72: =L72*J72 -> 0 | T72: =S72*Q72 -> 0 | X72: 10 | AA72: =Z72*X72 -> 0 | AO72: =AN72*AL72 -> 0
M73: =L73*J73 -> 0 | T73: =S73*Q73 -> 0 | X73: 10 | AA73: =Z73*X73 -> 0 | AO73: =AN73*AL73 -> 0
M74: =L74*J74 -> 0 | T74: =S74*Q74 -> 0 | X74: 10 | AA74: =Z74*X74 -> 0 | AO74: =AN74*AL74 -> 0
M75: =L75*J75 -> 0 | T75: =S75*Q75 -> 0 | X75: 10 | AA75: =Z75*X75 -> 0 | AO75: =AN75*AL75 -> 0
M76: =L76*J76 -> 0 | T76: =S76*Q76 -> 0 | X76: 10 | AA76: =Z76*X76 -> 0 | AO76: =AN76*AL76 -> 0
... M78: =L78*J78 -> 0 | T78: =S78*Q78 -> 0 | X78: 10 | AA78: =Z78*X78 -> 0 | AO78: =AN78*AL78 -> 0
A79: 主菜四 | M79: =L79*J79 -> 0 | T79: =S79*Q79 -> 0 | X79: 10 | AA79: =Z79*X79 -> 0 | AO79: =AN79*AL79 -> 0
M80: =L80*J80 -> 0 | T80: =S80*Q80 -> 0 | X80: 10 | AA80: =Z80*X80 -> 0 | AO80: =AN80*AL80 -> 0
M81: =L81*J81 -> 0 | T81: =S81*Q81 -> 0 | X81: 10 | AA81: =Z81*X81 -> 0 | AO81: =AN81*AL81 -> 0
M82: =L82*J82 -> 0 | T82: =S82*Q82 -> 0 | X82: 10 | AA82: =Z82*X82 -> 0 | AO82: =AN82*AL82 -> 0
M83: =L83*J83 -> 0 | T83: =S83*Q83 -> 0 | X83: 10 | AA83: =Z83*X83 -> 0 | AO83: =AN83*AL83 -> 0
M84: =L84*J84 -> 0 | T84: =S84*Q84 -> 0 | X84: 10 | AA84: =Z84*X84 -> 0 | AO84: =AN84*AL84 -> 0
M85: =L85*J85 -> 0 | T85: =S85*Q85 -> 0 | X85: 10 | AA85: =Z85*X85 -> 0 | AO85: =AN85*AL85 -> 0
M86: =L86*J86 -> 0 | T86: =S86*Q86 -> 0 | X86: 10 | AA86: =Z86*X86 -> 0 | AO86: =AN86*AL86 -> 0
M87: =L87*J87 -> 0 | T87: =S87*Q87 -> 0 | X87: 10 | AA87: =Z87*X87 -> 0 | AO87: =AN87*AL87 -> 0
M88: =L88*J88 -> 0 | T88: =S88*Q88 -> 0 | X88: 10 | AA88: =Z88*X88 -> 0 | AO88: =AN88*AL88 -> 0
M89: =L89*J89 -> 0 | T89: =S89*Q89 -> 0 | X89: 10 | AA89: =Z89*X89 -> 0 | AO89: =AN89*AL89 -> 0
M90: =L90*J90 -> 0 | T90: =S90*Q90 -> 0 | X90: 10 | AA90: =Z90*X90 -> 0 | AO90: =AN90*AL90 -> 0
M91: =L91*J91 -> 0 | T91: =S91*Q91 -> 0 | X91: 10 | AA91: =Z91*X91 -> 0 | AO91: =AN91*AL91 -> 0
... M93: =L93*J93 -> 0 | T93: =S93*Q93 -> 0 | X93: 10 | AA93: =Z93*X93 -> 0 | AO93: =AN93*AL93 -> 0
A94: 副菜 | G94: 鮮蔬甜不辣 | H94: 素牛蒡排 | J94: 0.3 | K94: 包 | L94: 100 | M94: =L94*J94 -> 30 | N94: 黃金玉米炒蛋 | O94: 洗選蛋Q | Q94: 1 | R94: kg | S94: 75 | T94: =S94*#REF! -> #REF! | U94: 東山滷味 | V94: 素甜不辣條 | X94: 0.3 | Y94: kg | Z94: 7 | AA94: =Z94*X94 -> 2.1 | AB94: 茄汁筆管麵 | AC94: 筆管麵 | AD94: 0.5K | AE94: 2 | AF94: 包 | AI94: 筍香豆腐 | AJ94: 鮮筍 | AK94: 片 | AL94: 2 | AM94: kg | AN94: 100 | AO94: =AN94*AL94 -> 200
H95: 玉米筍片 | J95: 0.3 | K95: kg | L95: 250 | M95: =L95*J95 -> 75 | O95: 玉米粒15K裝 | Q95: 1 | R95: kg | S95: 113 | T95: =S95*#REF! -> #REF! | V95: 黑豆干 | W95: 丁 | X95: 0.3 | Y95: kg | AA95: =Z95*X95 -> 0 | AC95: 炸豆包 | AE95: 0.5 | AF95: kg | AJ95: 板豆腐 | AK95: 1.2 | AL95: 1 | AM95: 板 | AN95: 40 | AO95: =AN95*AL95 -> 40
H96: 紅蘿蔔 | I96: 片 | J96: 0.2 | K96: kg | L96: 40 | M96: =L96*J96 -> 8 | O96: 素火腿 | Q96: 0.3 | R96: kg | S96: 40 | T96: =S96*#REF! -> #REF! | V96: 高麗菜 | W96: 片 | X96: 0.6 | Y96: kg | AA96: =Z96*X96 -> 0 | AC96: 白精靈菇 | AE96: 0.3 | AF96: kg | AJ96: 紅蘿蔔 | AK96: 片 | AL96: 0.2 | AM96: kg | AN96: 65 | AO96: =AN96*AL96 -> 13
H97: 袖珍菇 | J97: 0.3 | K97: kg | L97: 180 | M97: =L97*J97 -> 54 | O97: 三色豆 | Q97: 3.2 | R97: kg | T97: =S97*#REF! -> #REF! | V97: 竹切 | X97: 0.1 | Y97: kg | AA97: =Z97*X97 -> 0 | AC97: 紅蘿蔔小丁 | AE97: 0.1 | AF97: kg | AJ97: 玉米筍 | AK97: 片 | AL97: 0.2 | AM97: kg | AN97: 65 | AO97: =AN97*AL97 -> 13
H98: 素燻茶鵝 | J98: 1 | K98: 條 | L98: 250 | M98: =L98*J98 -> 250 | T98: =S98*#REF! -> #REF! | V98: 鳥蛋 | X98: 葷取 | Y98: kg | AA98: =Z98*X98 -> #VALUE! | AC98: 番茄醬 | AE98: 同葷 | AN98: 10 | AO98: =AN98*AL98 -> 0
M99: =L99*J99 -> 0 | T99: =S99*#REF! -> #REF! | AA99: =Z99*X99 -> 0 | AC99: 番茄切 | AE99: 0.8 | AF99: kg | AN99: 250 | AO99: =AN99*AL99 -> 0
M100: =L100*J100 -> 0 | T100: =S100*#REF! -> #REF! | AA100: =Z100*X100 -> 0 | AC100: 三色豆 | AE100: 0.2 | AF100: kg | AO100: =AN100*AL100 -> 0
M101: =L101*J101 -> 0 | T101: =S101*#REF! -> #REF! | AA101: =Z101*X101 -> 0 | AO101: =AN101*AL101 -> 0
M102: =L102*J102 -> 0 | T102: =S102*#REF! -> #REF! | AA102: =Z102*X102 -> 0 | AO102: =AN102*AL102 -> 0
M103: =L103*J103 -> 0 | T103: =S103*#REF! -> #REF! | AA103: =Z103*X103 -> 0 | AO103: =AN103*AL103 -> 0
M104: =L104*J104 -> 0 | T104: =S104*#REF! -> #REF! | AA104: =Z104*X104 -> 0 | AO104: =AN104*AL104 -> 0
M105: =L105*J105 -> 0 | T105: =S105*#REF! -> #REF! | AA105: =Z105*X105 -> 0 | AO105: =AN105*AL105 -> 0
M106: =L106*J106 -> 0 | T106: =S106*#REF! -> #REF! | AA106: =Z106*X106 -> 0 | AO106: =AN106*AL106 -> 0
M107: =L107*J107 -> 0 | T107: =S107*#REF! -> #REF! | AA107: =Z107*X107 -> 0 | AO107: =AN107*AL107 -> 0
M108: =L108*J108 -> 0 | T108: =S108*#REF! -> #REF! | AA108: =Z108*X108 -> 0 | AO108: =AN108*AL108 -> 0
A109: 副菜二 | M109: =L109*J109 -> 0 | T109: =S109*Q109 -> 0 | AA109: =Z109*X109 -> 0 | AO109: =AN109*AL109 -> 0
M110: =L110*J110 -> 0 | T110: =S110*Q110 -> 0 | AA110: =Z110*X110 -> 0 | AO110: =AN110*AL110 -> 0
M111: =L111*J111 -> 0 | T111: =S111*Q111 -> 0 | AA111: =Z111*X111 -> 0 | AO111: =AN111*AL111 -> 0
M112: =L112*J112 -> 0 | T112: =S112*Q112 -> 0 | AA112: =Z112*X112 -> 0 | AO112: =AN112*AL112 -> 0
M113: =L113*J113 -> 0 | T113: =S113*Q113 -> 0 | AA113: =Z113*X113 -> 0 | AO113: =AN113*AL113 -> 0
M114: =L114*J114 -> 0 | T114: =S114*Q114 -> 0 | AA114: =Z114*X114 -> 0 | AO114: =AN114*AL114 -> 0
M115: =L115*J115 -> 0 | T115: =S115*Q115 -> 0 | AA115: =Z115*X115 -> 0 | AO115: =AN115*AL115 -> 0
M116: =L116*J116 -> 0 | T116: =S116*Q116 -> 0 | AA116: =Z116*X116 -> 0 | AO116: =AN116*AL116 -> 0
M117: =L117*J117 -> 0 | T117: =S117*Q117 -> 0 | AA117: =Z117*X117 -> 0 | AO117: =AN117*AL117 -> 0
M118: =L118*J118 -> 0 | T118: =S118*Q118 -> 0 | AA118: =Z118*X118 -> 0 | AO118: =AN118*AL118 -> 0
M119: =L119*J119 -> 0 | T119: =S119*Q119 -> 0 | AA119: =Z119*X119 -> 0 | AO119: =AN119*AL119 -> 0
M120: =L120*J120 -> 0 | T120: =S120*Q120 -> 0 | AA120: =Z120*X120 -> 0 | AO120: =AN120*AL120 -> 0
M121: =L121*J121 -> 0 | T121: =S121*Q121 -> 0 | AA121: =Z121*X121 -> 0 | AO121: =AN121*AL121 -> 0
... M123: =L123*J123 -> 0 | T123: =S123*Q123 -> 0 | AA123: =Z123*X123 -> 0 | AO123: =AN123*AL123 -> 0
A124: 副菜三 | M124: =L124*J124 -> 0 | T124: =S124*Q124 -> 0 | AA124: =Z124*X124 -> 0 | AO124: =AN124*AL124 -> 0
M125: =L125*J125 -> 0 | T125: =S125*Q125 -> 0 | AA125: =Z125*X125 -> 0 | AO125: =AN125*AL125 -> 0
M126: =L126*J126 -> 0 | T126: =S126*Q126 -> 0 | AA126: =Z126*X126 -> 0 | AO126: =AN126*AL126 -> 0
M127: =L127*J127 -> 0 | T127: =S127*Q127 -> 0 | AA127: =Z127*X127 -> 0 | AO127: =AN127*AL127 -> 0
M128: =L128*J128 -> 0 | T128: =S128*Q128 -> 0 | AA128: =Z128*X128 -> 0 | AO128: =AN128*AL128 -> 0
M129: =L129*J129 -> 0 | T129: =S129*Q129 -> 0 | AA129: =Z129*X129 -> 0 | AO129: =AN129*AL129 -> 0
M130: =L130*J130 -> 0 | T130: =S130*Q130 -> 0 | AA130: =Z130*X130 -> 0 | AO130: =AN130*AL130 -> 0
M131: =L131*J131 -> 0 | T131: =S131*Q131 -> 0 | AA131: =Z131*X131 -> 0 | AO131: =AN131*AL131 -> 0
M132: =L132*J132 -> 0 | T132: =S132*Q132 -> 0 | AA132: =Z132*X132 -> 0 | AO132: =AN132*AL132 -> 0
...

Sheet Week_2
A1: 嘉義市東區民族國小 2025年6月2週午餐菜單
D2: 日 | F2: 人 | G2: 45817 | I2: 一 | J2: 709 | K2: 人 | N2: =G2+1 -> 45818 | P2: 二 | Q2: 765 | R2: 人 | U2: =N2+1 -> 45819 | W2: 三 | X2: 709 | Y2: 人 | AB2: =U2+1 -> 45820 | AD2: 四 | AE2: 709 | AF2: 人 | AI2: =AB2+1 -> 45821 | AK2: 五 | AL2: 621 | AM2: 人
B3: 菜名 | C3: 食材 | D3: 規格 | E3: 數量 | F3: 單位 | G3: 菜名 | H3: 食材 | I3: 規格 | J3: 數量 | K3: 單位 | N3: 菜名 | O3: 食材 | P3: 規格 | Q3: 數量 | R3: 單位 | U3: 菜名 | V3: 食材 | W3: 規格 | X3: 數量 | Y3: 單位 | AB3: 菜名 | AC3: 食材 | AD3: 規格 | AE3: 數量 | AF3: 單位 | AI3: 菜名 | AJ3: 食材 | AK3: 規格 | AL3: 數量 | AM3: 單位
A4: 主食 | G4: 燕麥飯 | N4: 白米飯 | O4: 英語村56葷1素 | U4: 麵 | AB4: 白米飯 | AI4: 糙米飯 | AJ4: 六年級畢業典禮 當天開始六年級不用餐88葷+1素
A6: 主菜 | G6: 紅燒豬腳 | H6: 肉丁 | J6: 21 | K6: kg | L6: 220 | M6: =J6*L6 -> 4620 | N6: 泰式檸檬魚 | O6: 水鯊魚丁 | Q6: 81 | R6: kg | S6: 130 | T6: =S6*Q6 -> 10530 | U6: 榨菜肉絲乾麵 | V6: 肉絲 | X6: 24 | Y6: kg | Z6: 220 | AA6: =Z6*X6 -> 5280 | AB6: 薑汁燒肉 | AC6: 肉片 | AE6: 45 | AF6: kg | AG6: 220 | AH6: =AG6*AE6 -> 9900 | AI6: 香酥雞翅 | AJ6: 卜蜂裹粉雞翅 | AK6: CAS | AL6: 621 | AM6: 片 | AN6: 13 | AO6: =AN6*AL6 -> 8073
H7: 蹄膀 | I7: 溫 | J7: 27 | K7: kg | L7: 190 | M7: =J7*L7 -> 5130 | O7: 番茄 | P7: 小丁 | Q7: 6 | R7: kg | S7: 80 | T7: =S7*Q7 -> 480 | V7: 白豆干絲 | X7: 15 | Y7: kg | Z7: 100 | AA7: =Z7*X7 -> 1500 | AC7: 杏鮑菇 | AD7: 片 | AE7: 7 | AF7: kg | AG7: 130 | AH7: =AG7*AE7 -> 910 | AJ7: 備份 | AL7: 10 | AM7: 片 | AO7: =AN7*AL7 -> 0
H8: 紅蘿蔔 | I8: 手切大丁 | J8: 5 | K8: kg | L8: 40 | M8: =J8*L8 -> 200 | O8: 洋蔥 | P8: 小丁 | Q8: 11 | R8: kg | S8: 60 | T8: =S8*Q8 -> 660 | V8: 榨菜絲 | X8: 5 | Y8: kg | Z8: 75 | AA8: =Z8*X8 -> 375 | AC8: 洋蔥 | AD8: 絲 | AE8: 12 | AF8: kg | AG8: 60 | AH8: =AG8*AE8 -> 720 | AO8: =AN8*AL8 -> 0
H9: 白蘿蔔 | I9: 手切大丁 | J9: 20 | K9: kg | L9: 40 | M9: =J9*L9 -> 800 | O9: 九層塔 | Q9: 2 | R9: kg | S9: 150 | T9: =S9*Q9 -> 300 | V9: 高麗菜 | W9: 段 | X9: 10 | Y9: kg | Z9: 40 | AA9: =Z9*X9 -> 400 | AC9: 薑片 | AE9: 1 | AF9: kg | AG9: 120 | AH9: =AG9*AE9 -> 120 | AO9: =AN9*AL9 -> 0
H10: 薑片 | J10: 1 | K10: kg | L10: 120 | M10: =J10*L10 -> 120 | O10: 新鮮檸檬汁 | P10: 700cc | Q10: 3 | R10: 罐 | S10: 120 | T10: =S10*Q10 -> 360 | V10: 蒜末 | X10: 2 | Y10: kg | Z10: 200 | AA10: =Z10*X10 -> 400 | AC10: 薑汁 | AD10: 700cc | AE10: 1 | AF10: 罐 | AG10: 120 | AH10: =AG10*AE10 -> 120 | AO10: =AN10*AL10 -> 0
M11: =J11*L11 -> 0 | O11: 魚露 | P11: 700cc | Q11: 1 | R11: 罐 | S11: 180 | T11: =S11*Q11 -> 180 | V11: 陽春麵 | X11: 150 | Y11: 斤 | Z11: 27 | AA11: =Z11*X11 -> 4050 | AC11: 味霖 | AD11: 3k | AE11: 1 | AF11: 罐 | AG11: 280 | AH11: =AG11*AE11 -> 280 | AO11: =AN11*AL11 -> 0
M12: =J12*L12 -> 0 | T12: =S12*Q12 -> 0 | AA12: =Z12*X12 -> 0 | AC12: 薄鹽醬油 | AD12: 3k | AE12: 2 | AF12: 罐 | AG12: 280 | AH12: =AG12*AE12 -> 560 | AO12: =AN12*AL12 -> 0
H13: 燕麥 | I13: 6/2 | J13: 5 | K13: kg | L13: 100 | M13: =J13*L13 -> 500 | T13: =S13*Q13 -> 0 | AA13: =Z13*X13 -> 0 | AH13: =AG13*AE13 -> 0 | AJ13: 糙米 | AK13: 6/6 | AL13: 5 | AM13: kg | AN13: 100 | AO13: =AN13*AL13 -> 500
M14: =J14*L14 -> 0 | T14: =S14*Q14 -> 0 | AA14: =Z14*X14 -> 0 | AH14: =AG14*AE14 -> 0 | AJ14: 凍豆腐 | AL14: 18 | AM14: kg | AN14: 100 | AO14: =AN14*AL14 -> 1800
M15: =J15*L15 -> 0 | T15: =S15*Q15 -> 0 | AA15: =Z15*X15 -> 0 | AH15: =AG15*AE15 -> 0 | AO15: =AN15*AL15 -> 0
M16: =J16*L16 -> 0 | T16: =S16*Q16 -> 0 | AA16: =Z16*X16 -> 0 | AH16: =AG16*AE16 -> 0 | AO16: =AN16*AL16 -> 0
M17: =J17*L17 -> 0 | T17: =S17*Q17 -> 0 | AA17: =Z17*X17 -> 0 | AH17: =AG17*AE17 -> 0 | AO17: =AN17*AL17 -> 0
M18: =J18*L18 -> 0 | T18: =S18*Q18 -> 0 | AA18: =Z18*X18 -> 0 | AH18: =AG18*AE18 -> 0 | AO18: =AN18*AL18 -> 0
M19: =J19*L19 -> 0 | T19: =S19*Q19 -> 0 | AA19: =Z19*X19 -> 0 | AH19: =AG19*AE19 -> 0 | AO19: =AN19*AL19 -> 0
M20: =J20*L20 -> 0 | T20: =S20*Q20 -> 0 | AA20: =Z20*X20 -> 0 | AH20: =AG20*AE20 -> 0 | AO20: =AN20*AL20 -> 0
A21: 主菜二 | M21: =J21*L21 -> 0 | T21: =S21*Q21 -> 0 | AA21: =Z21*X21 -> 0 | AH21: =AG21*AE21 -> 0 | AO21: =AN21*AL21 -> 0
M22: =J22*L22 -> 0 | T22: =S22*Q22 -> 0 | AA22: =Z22*X22 -> 0 | AH22: =AG22*AE22 -> 0 | AO22: =AN22*AL22 -> 0
M23: =J23*L23 -> 0 | T23: =S23*Q23 -> 0 | AA23: =Z23*X23 -> 0 | AH23: =AG23*AE23 -> 0 | AO23: =AN23*AL23 -> 0
M24: =J24*L24 -> 0 | T24: =S24*Q24 -> 0 | AA24: =Z24*X24 -> 0 | AH24: =AG24*AE24 -> 0 | AO24: =AN24*AL24 -> 0
M25: =J25*L25 -> 0 | T25: =S25*Q25 -> 0 | AA25: =Z25*X25 -> 0 | AH25: =AG25*AE25 -> 0 | AO25: =AN25*AL25 -> 0
M26: =J26*L26 -> 0 | T26: =S26*Q26 -> 0 | AA26: =Z26*X26 -> 0 | AH26: =AG26*AE26 -> 0 | AO26: =AN26*AL26 -> 0
M27: =J27*L27 -> 0 | T27: =S27*Q27 -> 0 | AA27: =Z27*X27 -> 0 | AH27: =AG27*AE27 -> 0 | AO27: =AN27*AL27 -> 0
M28: =J28*L28 -> 0 | T28: =S28*Q28 -> 0 | AA28: =Z28*X28 -> 0 | AH28: =AG28*AE28 -> 0 | AO28: =AN28*AL28 -> 0
M29: =J29*L29 -> 0 | T29: =S29*Q29 -> 0 | AA29: =Z29*X29 -> 0 | AH29: =AG29*AE29 -> 0 | AO29: =AN29*AL29 -> 0
M30: =J30*L30 -> 0 | T30: =S30*Q30 -> 0 | AA30: =Z30*X30 -> 0 | AH30: =AG30*AE30 -> 0 | AO30: =AN30*AL30 -> 0
M31: =J31*L31 -> 0 | T31: =S31*Q31 -> 0 | AA31: =Z31*X31 -> 0 | AH31: =AG31*AE31 -> 0 | AO31: =AN31*AL31 -> 0
M32: =J32*L32 -> 0 | T32: =S32*Q32 -> 0 | AA32: =Z32*X32 -> 0 | AH32: =AG32*AE32 -> 0 | AO32: =AN32*AL32 -> 0
M33: =J33*L33 -> 0 | T33: =S33*Q33 -> 0 | AA33: =Z33*X33 -> 0 | AH33: =AG33*AE33 -> 0 | AO33: =AN33*AL33 -> 0
... M35: =J35*L35 -> 0 | T35: =S35*Q35 -> 0 | AA35: =Z35*X35 -> 0 | AH35: =AG35*AE35 -> 0 | AO35: =AN35*AL35 -> 0
A36: 主菜三 | M36: =J36*L36 -> 0 | T36: =S36*Q36 -> 0 | AA36: =Z36*X36 -> 0 | AH36: =AG36*AE36 -> 0 | AO36: =AN36*AL36 -> 0
M37: =J37*L37 -> 0 | T37: =S37*Q37 -> 0 | AA37: =Z37*X37 -> 0 | AH37: =AG37*AE37 -> 0 | AO37: =AN37*AL37 -> 0
M38: =J38*L38 -> 0 | T38: =S38*Q38 -> 0 | AA38: =Z38*X38 -> 0 | AH38: =AG38*AE38 -> 0 | AO38: =AN38*AL38 -> 0
M39: =J39*L39 -> 0 | T39: =S39*Q39 -> 0 | AA39: =Z39*X39 -> 0 | AH39: =AG39*AE39 -> 0 | AO39: =AN39*AL39 -> 0
M40: =J40*L40 -> 0 | T40: =S40*Q40 -> 0 | AA40: =Z40*X40 -> 0 | AH40: =AG40*AE40 -> 0 | AO40: =AN40*AL40 -> 0
M41: =J41*L41 -> 0 | T41: =S41*Q41 -> 0 | AA41: =Z41*X41 -> 0 | AH41: =AG41*AE41 -> 0 | AO41: =AN41*AL41 -> 0
M42: =J42*L42 -> 0 | T42: =S42*Q42 -> 0 | AA42: =Z42*X42 -> 0 | AH42: =AG42*AE42 -> 0 | AO42: =AN42*AL42 -> 0
M43: =J43*L43 -> 0 | T43: =S43*Q43 -> 0 | AA43: =Z43*X43 -> 0 | AH43: =AG43*AE43 -> 0 | AO43: =AN43*AL43 -> 0
M44: =J44*L44 -> 0 | T44: =S44*Q44 -> 0 | AA44: =Z44*X44 -> 0 | AH44: =AG44*AE44 -> 0 | AO44: =AN44*AL44 -> 0
M45: =J45*L45 -> 0 | T45: =S45*Q45 -> 0 | AA45: =Z45*X45 -> 0 | AH45: =AG45*AE45 -> 0 | AO45: =AN45*AL45 -> 0
M46: =J46*L46 -> 0 | T46: =S46*Q46 -> 0 | AA46: =Z46*X46 -> 0 | AH46: =AG46*AE46 -> 0 | AO46: =AN46*AL46 -> 0
M47: =J47*L47 -> 0 | T47: =S47*Q47 -> 0 | AA47: =Z47*X47 -> 0 | AH47: =AG47*AE47 -> 0 | AO47: =AN47*AL47 -> 0
M48: =J48*L48 -> 0 | T48: =S48*Q48 -> 0 | AA48: =Z48*X48 -> 0 | AH48: =AG48*AE48 -> 0 | AO48: =AN48*AL48 -> 0
... M50: =J50*L50 -> 0 | T50: =S50*Q50 -> 0 | AA50: =Z50*X50 -> 0 | AH50: =AG50*AE50 -> 0 | AO50: =AN50*AL50 -> 0
A51: 主菜四 | M51: =J51*L51 -> 0 | T51: =S51*Q51 -> 0 | AA51: =Z51*X51 -> 0 | AH51: =AG51*AE51 -> 0 | AO51: =AN51*AL51 -> 0
M52: =J52*L52 -> 0 | T52: =S52*Q52 -> 0 | AA52: =Z52*X52 -> 0 | AH52: =AG52*AE52 -> 0 | AO52: =AN52*AL52 -> 0
M53: =J53*L53 -> 0 | T53: =S53*Q53 -> 0 | AA53: =Z53*X53 -> 0 | AH53: =AG53*AE53 -> 0 | AO53: =AN53*AL53 -> 0
M54: =J54*L54 -> 0 | T54: =S54*Q54 -> 0 | AA54: =Z54*X54 -> 0 | AH54: =AG54*AE54 -> 0 | AO54: =AN54*AL54 -> 0
M55: =J55*L55 -> 0 | T55: =S55*Q55 -> 0 | AA55: =Z55*X55 -> 0 | AH55: =AG55*AE55 -> 0 | AO55: =AN55*AL55 -> 0
M56: =J56*L56 -> 0 | T56: =S56*Q56 -> 0 | AA56: =Z56*X56 -> 0 | AH56: =AG56*AE56 -> 0 | AO56: =AN56*AL56 -> 0
M57: =J57*L57 -> 0 | T57: =S57*Q57 -> 0 | AA57: =Z57*X57 -> 0 | AH57: =AG57*AE57 -> 0 | AO57: =AN57*AL57 -> 0
M58: =J58*L58 -> 0 | T58: =S58*Q58 -> 0 | AA58: =Z58*X58 -> 0 | AH58: =AG58*AE58 -> 0 | AO58: =AN58*AL58 -> 0
M59: =J59*L59 -> 0 | T59: =S59*Q59 -> 0 | AA59: =Z59*X59 -> 0 | AH59: =AG59*AE59 -> 0 | AO59: =AN59*AL59 -> 0
M60: =J60*L60 -> 0 | T60: =S60*Q60 -> 0 | AA60: =Z60*X60 -> 0 | AH60: =AG60*AE60 -> 0 | AO60: =AN60*AL60 -> 0
M61: =J61*L61 -> 0 | T61: =S61*Q61 -> 0 | AA61: =Z61*X61 -> 0 | AH61: =AG61*AE61 -> 0 | AO61: =AN61*AL61 -> 0
M62: =J62*L62 -> 0 | T62: =S62*Q62 -> 0 | AA62: =Z62*X62 -> 0 | AH62: =AG62*AE62 -> 0 | AO62: =AN62*AL62 -> 0
M63: =J63*L63 -> 0 | T63: =S63*Q63 -> 0 | AA63: =Z63*X63 -> 0 | AH63: =AG63*AE63 -> 0 | AO63: =AN63*AL63 -> 0
... M65: =J65*L65 -> 0 | T65: =S65*Q65 -> 0 | AA65: =Z65*X65 -> 0 | AH65: =AG65*AE65 -> 0 | AO65: =AN65*AL65 -> 0
A66: 副菜 | G66: 螞蟻上樹 | H66: 瘦絞肉-立 | J66: 6 | K66: kg | L66: 180 | M66: =J66*L66 -> 1080 | N66: 雙絲炒蛋 | O66: 杏鮑菇 | P66: 絲 | Q66: 8 | R66: kg | S66: 130 | T66: =S66*Q66 -> 1040 | U66: 滷蛋 | V66: 滷蛋 | X66: 709 | Y66: 顆 | Z66: 10 | AA66: =Z66*X66 -> 7090 | AB66: 魷魚羹 | AC66: 魷魚條 | AD66: 認證 | AE66: 15 | AF66: kg | AG66: 160 | AH66: =AG66*AE66 -> 2400 | AI66: 壽喜燒 | AJ66: 高麗菜 | AK66: 絲 | AL66: 18 | AM66: kg | AN66: 40 | AO66: =AN66*AL66 -> 720
H67: 冬粉 | I67: 絲 | J67: 6 | K67: kg | L67: 110 | M67: =J67*L67 -> 660 | O67: 紅蘿蔔 | P67: 絲 | Q67: 8 | R67: kg | S67: 40 | T67: =S67*Q67 -> 320 | V67: 備份 | X67: 10 | Y67: 顆 | AA67: =Z67*X67 -> 0 | AC67: 大白菜 | AD67: 段 | AE67: 30 | AF67: kg | AG67: 40 | AH67: =AG67*AE67 -> 1200 | AJ67: 金針菇 | AK67: 段 | AL67: 4 | AM67: kg | AN67: 100 | AO67: =AN67*AL67 -> 400
H68: 紅蘿蔔 | I68: 絲 | J68: 2 | K68: kg | L68: 40 | M68: =J68*L68 -> 80 | O68: 蛋 | Q68: 32 | R68: kg | S68: 100 | T68: =S68*Q68 -> 3200 | V68: 國產證明 | AA68: =Z68*X68 -> 0 | AC68: 鮮筍絲 | AE68: 10 | AF68: kg | AG68: 120 | AH68: =AG68*AE68 -> 1200 | AJ68: 洋蔥 | AK68: 絲 | AL68: 5 | AM68: kg | AN68: 60 | AO68: =AN68*AL68 -> 300
H69: 高麗菜絲 | J69: 15 | K69: kg | L69: 40 | M69: =J69*L69 -> 600 | O69: 蔥花 | Q69: 1 | R69: kg | S69: 95 | T69: =S69*Q69 -> 95 | AA69: =Z69*X69 -> 0 | AC69: 鮮香菇 | AD69: 絲 | AE69: 3 | AF69: kg | AG69: 155 | AH69: =AG69*AE69 -> 465 | AJ69: 肉片 | AL69: 6 | AM69: kg | AN69: 220 | AO69: =AN69*AL69 -> 1320
H70: 木耳絲 | J70: 1 | K70: kg | L70: 130 | M70: =J70*L70 -> 130 | O70: 蒜末 | Q70: 1 | R70: kg | S70: 200 | T70: =S70*Q70 -> 200 | AA70: =Z70*X70 -> 0 | AC70: 紅蘿蔔 | AD70: 絲 | AE70: 3 | AF70: kg | AG70: 40 | AH70: =AG70*AE70 -> 120 | AJ70: 紅蘿蔔 | AK70: 絲 | AL70: 3 | AM70: kg | AN70: 40 | AO70: =AN70*AL70 -> 120
H71: 蒜末 | I71: 0.6k | J71: 1 | K71: 包 | L71: 120 | M71: =J71*L71 -> 120 | T71: =S71*Q71 -> 0 | AA71: =Z71*X71 -> 0 | AC71: 蒜泥 | AE71: 1 | AF71: kg | AG71: 120 | AH71: =AG71*AE71 -> 120 | AJ71: 柴魚片 | AK71: 300g | AL71: 1 | AM71: 包 | AN71: 180 | AO71: =AN71*AL71 -> 180
M72: =J72*L72 -> 0 | T72: =S72*Q72 -> 0 | AA72: =Z72*X72 -> 0 | AH72: =AG72*AE72 -> 0 | AJ72: 味霖 | AK72: 3k | AL72: 1 | AM72: 大罐 | AN72: 220 | AO72: =AN72*AL72 -> 220
M73: =J73*L73 -> 0 | T73: =S73*Q73 -> 0 | AA73: =Z73*X73 -> 0 | AH73: =AG73*AE73 -> 0 | AO73: =AN73*AL73 -> 0
M74: =J74*L74 -> 0 | T74: =S74*Q74 -> 0 | AA74: =Z74*X74 -> 0 | AH74: =AG74*AE74 -> 0 | AO74: =AN74*AL74 -> 0
M75: =J75*L75 -> 0 | T75: =S75*Q75 -> 0 | AA75: =Z75*X75 -> 0 | AH75: =AG75*AE75 -> 0 | AO75: =AN75*AL75 -> 0
M76: =J76*L76 -> 0 | T76: =S76*Q76 -> 0 | AA76: =Z76*X76 -> 0 | AH76: =AG76*AE76 -> 0 | AO76: =AN76*AL76 -> 0
M77: =J77*L77 -> 0 | T77: =S77*Q77 -> 0 | AA77: =Z77*X77 -> 0 | AH77: =AG77*AE77 -> 0 | AO77: =AN77*AL77 -> 0
M78: =J78*L78 -> 0 | T78: =S78*Q78 -> 0 | AA78: =Z78*X78 -> 0 | AH78: =AG78*AE78 -> 0 | AO78: =AN78*AL78 -> 0
M79: =J79*L79 -> 0 | T79: =S79*Q79 -> 0 | AA79: =Z79*X79 -> 0 | AH79: =AG79*AE79 -> 0 | AO79: =AN79*AL79 -> 0
M80: =J80*L80 -> 0 | T80: =S80*Q80 -> 0 | AA80: =Z80*X80 -> 0 | AH80: =AG80*AE80 -> 0 | AO80: =AN80*AL80 -> 0
A81: 副菜二 | M81: =J81*L81 -> 0 | T81: =S81*Q81 -> 0 | AA81: =Z81*X81 -> 0 | AH81: =AG81*AE81 -> 0 | AO81: =AN81*AL81 -> 0
M82: =J82*L82 -> 0 | T82: =S82*Q82 -> 0 | AA82: =Z82*X82 -> 0 | AH82: =AG82*AE82 -> 0 | AO82: =AN82*AL82 -> 0
M83: =J83*L83 -> 0 | T83: =S83*Q83 -> 0 | AA83: =Z83*X83 -> 0 | AH83: =AG83*AE83 -> 0 | AO83: =AN83*AL83 -> 0
M84: =J84*L84 -> 0 | T84: =S84*Q84 -> 0 | AA84: =Z84*X84 -> 0 | AH84: =AG84*AE84 -> 0 | AO84: =AN84*AL84 -> 0
M85: =J85*L85 -> 0 | T85: =S85*Q85 -> 0 | AA85: =Z85*X85 -> 0 | AH85: =AG85*AE85 -> 0 | AO85: =AN85*AL85 -> 0
M86: =J86*L86 -> 0 | T86: =S86*Q86 -> 0 | AA86: =Z86*X86 -> 0 | AH86: =AG86*AE86 -> 0 | AO86: =AN86*AL86 -> 0
M87: =J87*L87 -> 0 | T87: =S87*Q87 -> 0 | AA87: =Z87*X87 -> 0 | AH87: =AG87*AE87 -> 0 | AO87: =AN87*AL87 -> 0
M88: =J88*L88 -> 0 | T88: =S88*Q88 -> 0 | AA88: =Z88*X88 -> 0 | AH88: =AG88*AE88 -> 0 | AO88: =AN88*AL88 -> 0
M89: =J89*L89 -> 0 | T89: =S89*Q89 -> 0 | AA89: =Z89*X89 -> 0 | AH89: =AG89*AE89 -> 0 | AO89: =AN89*AL89 -> 0
M90: =J90*L90 -> 0 | T90: =S90*Q90 -> 0 | AA90: =Z90*X90 -> 0 | AH90: =AG90*AE90 -> 0 | AO90: =AN90*AL90 -> 0
M91: =J91*L91 -> 0 | T91: =S91*Q91 -> 0 | AA91: =Z91*X91 -> 0 | AH91: =AG91*AE91 -> 0 | AO91: =AN91*AL91 -> 0
M92: =J92*L92 -> 0 | T92: =S92*Q92 -> 0 | AA92: =Z92*X92 -> 0 | AH92: =AG92*AE92 -> 0 | AO92: =AN92*AL92 -> 0
M93: =J93*L93 -> 0 | T93: =S93*Q93 -> 0 | AA93: =Z93*X93 -> 0 | AH93: =AG93*AE93 -> 0 | AO93: =AN93*AL93 -> 0
... M95: =J95*L95 -> 0 | T95: =S95*Q95 -> 0 | AA95: =Z95*X95 -> 0 | AH95: =AG95*AE95 -> 0 | AO95: =AN95*AL95 -> 0
A96: 副菜三 | M96: =J96*L96 -> 0 | T96: =S96*Q96 -> 0 | AA96: =Z96*X96 -> 0 | AH96: =AG96*AE96 -> 0 | AO96: =AN96*AL96 -> 0
M97: =J97*L97 -> 0 | T97: =S97*Q97 -> 0 | AA97: =Z97*X97 -> 0 | AF97: kg | AH97: =AG97*AE97 -> 0 | AO97: =AN97*AL97 -> 0
M98: =J98*L98 -> 0 | T98: =S98*Q98 -> 0 | AA98: =Z98*X98 -> 0 | AH98: =AG98*AE98 -> 0 | AO98: =AN98*AL98 -> 0
M99: =J99*L99 -> 0 | T99: =S99*Q99 -> 0 | AA99: =Z99*X99 -> 0 | AH99: =AG99*AE99 -> 0 | AO99: =AN99*AL99 -> 0
M100: =J100*L100 -> 0 | T100: =S100*Q100 -> 0 | AA100: =Z100*X100 -> 0 | AH100: =AG100*AE100 -> 0 | AO100: =AN100*AL100 -> 0
M101: =J101*L101 -> 0 | T101: =S101*Q101 -> 0 | AA101: =Z101*X101 -> 0 | AH101: =AG101*AE101 -> 0 | AO101: =AN101*AL101 -> 0
M102: =J102*L102 -> 0 | T102: =S102*Q102 -> 0 | AA102: =Z102*X102 -> 0 | AH102: =AG102*AE102 -> 0 | AO102: =AN102*AL102 -> 0
M103: =J103*L103 -> 0 | T103: =S103*Q103 -> 0 | AA103: =Z103*X103 -> 0 | AH103: =AG103*AE103 -> 0 | AO103: =AN103*AL103 -> 0
M104: =J104*L104 -> 0 | T104: =S104*Q104 -> 0 | AA104: =Z104*X104 -> 0 | AH104: =AG104*AE104 -> 0 | AO104: =AN104*AL104 -> 0
M105: =J105*L105 -> 0 | T105: =S105*Q105 -> 0 | AA105: =Z105*X105 -> 0 | AH105: =AG105*AE105 -> 0 | AO105: =AN105*AL105 -> 0
...

Sheet 4.10校外研習另計
A1: 嘉義市東區民族國小 2024年4月2週午餐菜單
D2: 日 | F2: 人 | G2: 45390 | I2: 一 | K2: 人 | N2: =G2+1 -> 45391 | P2: 二 | R2: 人 | U2: =N2+1 -> 45392 | W2: 三 | X2: 60 | Y2: 人 | AB2: =U2+1 -> 45393 | AD2: 四 | AF2: 人 | AI2: =AB2+1 -> 45394 | AK2: 五 | AM2: 人
B3: 菜名 | C3: 食材 | D3: 規格 | E3: 數量 | F3: 單位 | G3: 菜名 | H3: 食材 | I3: 規格 | J3: 數量 | K3: 單位 | N3: 菜名 | O3: 食材 | P3: 規格 | Q3: 數量 | R3: 單位 | U3: 菜名 | V3: 食材 | W3: 規格 | X3: 數量 | Y3: 單位 | AB3: 菜名 | AC3: 食材 | AD3: 規格 | AE3: 數量 | AF3: 單位 | AI3: 菜名 | AJ3: 食材 | AK3: 規格 | AL3: 數量 | AM3: 單位
A4: 主食 | U4: 白米飯 | V4: 校外研習另計
A6: 主菜 | S6: 13 | T6: =S6*Q6 -> 0 | U6: 筍絲肉粥 | V6: 絞肉 | X6: 1.5 | Y6: kg | Z6: 180 | AA6: =Z6*X6 -> 270 | AN6: 170 | AO6: =AN6*AL6 -> 0
T7: =S7*Q7 -> 0 | V7: 鮮筍絲 | X7: 1.5 | Y7: kg | Z7: 95 | AA7: =Z7*X7 -> 142.5 | AN7: 350 | AO7: =AN7*AL7 -> 0
S8: 150 | T8: =S8*Q8 -> 0 | V8: 鮮香菇 | W8: 絲 | X8: 0.5 | Y8: kg | Z8: 155 | AA8: =Z8*X8 -> 77.5 | AN8: 200 | AO8: =AN8*AL8 -> 0
S9: 120 | T9: =S9*Q9 -> 0 | V9: 乾香菇 | W9: 絲 | X9: 0.1 | Y9: 斤 | Z9: 1200 | AA9: =Z9*X9 -> 120 | AN9: 120 | AO9: =AN9*AL9 -> 0
S10: 450 | T10: =S10*Q10 -> 0 | V10: 高麗菜 | W10: 絲 | X10: 1 | Y10: kg | Z10: 40 | AA10: =Z10*X10 -> 40 | AN10: 130 | AO10: =AN10*AL10 -> 0
T11: =S11*Q11 -> 0 | V11: 芹菜珠 | W11: 切珠 | X11: 0.5 | Y11: kg | Z11: 100 | AA11: =Z11*X11 -> 50 | AO11: =AN11*AL11 -> 0
T12: =S12*Q12 -> 0 | V12: 紅蔥頭 | W12: 片 | X12: 0.1 | Y12: kg | Z12: 180 | AA12: =Z12*X12 -> 18 | AO12: =AN12*AL12 -> 0
T13: =S13*Q13 -> 0 | V13: 油蔥酥廚房叫貨 | AA13: =Z13*X13 -> 0 | AO13: =AN13*AL13 -> 0
T14: =S14*Q14 -> 0 | AA14: =Z14*X14 -> 0 | AO14: =AN14*AL14 -> 0
T15: =S15*Q15 -> 0 | AA15: =Z15*X15 -> 0 | AO15: =AN15*AL15 -> 0
T16: =S16*Q16 -> 0 | AA16: =Z16*X16 -> 0 | AO16: =AN16*AL16 -> 0
T17: =S17*Q17 -> 0 | AA17: =Z17*X17 -> 0 | AO17: =AN17*AL17 -> 0
T18: =S18*Q18 -> 0 | AA18: =Z18*X18 -> 0 | AO18: =AN18*AL18 -> 0
T19: =S19*Q19 -> 0 | AA19: =Z19*X19 -> 0 | AO19: =AN19*AL19 -> 0
T20: =S20*Q20 -> 0 | AA20: =Z20*X20 -> 0 | AO20: =AN20*AL20 -> 0
A21: 主菜二 | T21: =S21*Q21 -> 0 | AA21: =Z21*X21 -> 0 | AO21: =AN21*AL21 -> 0
T22: =S22*Q22 -> 0 | AA22: =Z22*X22 -> 0 | AO22: =AN22*AL22 -> 0
T23: =S23*Q23 -> 0 | AA23: =Z23*X23 -> 0 | AO23: =AN23*AL23 -> 0
T24: =S24*Q24 -> 0 | AA24: =Z24*X24 -> 0 | AO24: =AN24*AL24 -> 0
T25: =S25*Q25 -> 0 | AA25: =Z25*X25 -> 0 | AO25: =AN25*AL25 -> 0
T26: =S26*Q26 -> 0 | AA26: =Z26*X26 -> 0 | AO26: =AN26*AL26 -> 0
T27: =S27*Q27 -> 0 | AA27: =Z27*X27 -> 0 | AO27: =AN27*AL27 -> 0
T28: =S28*Q28 -> 0 | AA28: =Z28*X28 -> 0 | AO28: =AN28*AL28 -> 0
T29: =S29*Q29 -> 0 | AA29: =Z29*X29 -> 0 | AO29: =AN29*AL29 -> 0
T30: =S30*Q30 -> 0 | AA30: =Z30*X30 -> 0 | AO30: =AN30*AL30 -> 0
T31: =S31*Q31 -> 0 | AA31: =Z31*X31 -> 0 | AO31: =AN31*AL31 -> 0
T32: =S32*Q32 -> 0 | AA32: =Z32*X32 -> 0 | AO32: =AN32*AL32 -> 0
T33: =S33*Q33 -> 0 | AA33: =Z33*X33 -> 0 | AO33: =AN33*AL33 -> 0
... T35: =S35*Q35 -> 0 | AA35: =Z35*X35 -> 0 | AO35: =AN35*AL35 -> 0
A36: 主菜三 | T36: =S36*Q36 -> 0 | AA36: =Z36*X36 -> 0 | AO36: =AN36*AL36 -> 0
T37: =S37*Q37 -> 0 | AA37: =Z37*X37 -> 0 | AO37: =AN37*AL37 -> 0
T38: =S38*Q38 -> 0 | AA38: =Z38*X38 -> 0 | AO38: =AN38*AL38 -> 0
T39: =S39*Q39 -> 0 | AA39: =Z39*X39 -> 0 | AO39: =AN39*AL39 -> 0
T40: =S40*Q40 -> 0 | AA40: =Z40*X40 -> 0 | AO40: =AN40*AL40 -> 0
T41: =S41*Q41 -> 0 | AA41: =Z41*X41 -> 0 | AO41: =AN41*AL41 -> 0
T42: =S42*Q42 -> 0 | AA42: =Z42*X42 -> 0 | AO42: =AN42*AL42 -> 0
T43: =S43*Q43 -> 0 | AA43: =Z43*X43 -> 0 | AO43: =AN43*AL43 -> 0
T44: =S44*Q44 -> 0 | AA44: =Z44*X44 -> 0 | AO44: =AN44*AL44 -> 0
T45: =S45*Q45 -> 0 | AA45: =Z45*X45 -> 0 | AO45: =AN45*AL45 -> 0
T46: =S46*Q46 -> 0 | AA46: =Z46*X46 -> 0 | AO46: =AN46*AL46 -> 0
T47: =S47*Q47 -> 0 | AA47: =Z47*X47 -> 0 | AO47: =AN47*AL47 -> 0
T48: =S48*Q48 -> 0 | AA48: =Z48*X48 -> 0 | AO48: =AN48*AL48 -> 0
... T50: =S50*Q50 -> 0 | AA50: =Z50*X50 -> 0 | AO50: =AN50*AL50 -> 0
A51: 主菜四 | T51: =S51*Q51 -> 0 | AA51: =Z51*X51 -> 0 | AO51: =AN51*AL51 -> 0
T52: =S52*Q52 -> 0 | AA52: =Z52*X52 -> 0 | AO52: =AN52*AL52 -> 0
T53: =S53*Q53 -> 0 | AA53: =Z53*X53 -> 0 | AO53: =AN53*AL53 -> 0
T54: =S54*Q54 -> 0 | AA54: =Z54*X54 -> 0 | AO54: =AN54*AL54 -> 0
T55: =S55*Q55 -> 0 | AA55: =Z55*X55 -> 0 | AO55: =AN55*AL55 -> 0
T56: =S56*Q56 -> 0 | AA56: =Z56*X56 -> 0 | AO56: =AN56*AL56 -> 0
T57: =S57*Q57 -> 0 | AA57: =Z57*X57 -> 0 | AO57: =AN57*AL57 -> 0
T58: =S58*Q58 -> 0 | AA58: =Z58*X58 -> 0 | AO58: =AN58*AL58 -> 0
T59: =S59*Q59 -> 0 | AA59: =Z59*X59 -> 0 | AO59: =AN59*AL59 -> 0
T60: =S60*Q60 -> 0 | AA60: =Z60*X60 -> 0 | AO60: =AN60*AL60 -> 0
T61: =S61*Q61 -> 0 | AA61: =Z61*X61 -> 0 | AO61: =AN61*AL61 -> 0
T62: =S62*Q62 -> 0 | AA62: =Z62*X62 -> 0 | AO62: =AN62*AL62 -> 0
T63: =S63*Q63 -> 0 | AA63: =Z63*X63 -> 0 | AO63: =AN63*AL63 -> 0
... T65: =S65*Q65 -> 0 | AA65: =Z65*X65 -> 0 | AO65: =AN65*AL65 -> 0
A66: 副菜 | S66: 210 | T66: =S66*Q66 -> 0 | U66: 洋蔥肉片 | V66: 肉片 | X66: 4 | Y66: kg | Z66: 190 | AA66: =Z66*X66 -> 760 | AN66: 40 | AO66: =AN66*AL66 -> 0
S67: 180 | T67: =S67*Q67 -> 0 | V67: 洋蔥絲 | X67: 1.5 | Y67: kg | Z67: 60 | AA67: =Z67*X67 -> 90 | AN67: 40 | AO67: =AN67*AL67 -> 0
S68: 130 | T68: =S68*Q68 -> 0 | AA68: =Z68*X68 -> 0 | AN68: 60 | AO68: =AN68*AL68 -> 0
S69: 200 | T69: =S69*Q69 -> 0 | AA69: =Z69*X69 -> 0 | AN69: 190 | AO69: =AN69*AL69 -> 0
S70: 95 | T70: =S70*Q70 -> 0 | AA70: =Z70*X70 -> 0 | AN70: 100 | AO70: =AN70*AL70 -> 0
T71: =S71*Q71 -> 0 | AA71: =Z71*X71 -> 0 | AN71: 250 | AO71: =AN71*AL71 -> 0
S72: 75 | T72: =S72*Q72 -> 0 | AA72: =Z72*X72 -> 0 | AO72: =AN72*AL72 -> 0
T73: =S73*Q73 -> 0 | AA73: =Z73*X73 -> 0 | AO73: =AN73*AL73 -> 0
T74: =S74*Q74 -> 0 | AA74: =Z74*X74 -> 0 | AO74: =AN74*AL74 -> 0
T75: =S75*Q75 -> 0 | AA75: =Z75*X75 -> 0 | AO75: =AN75*AL75 -> 0
T76: =S76*Q76 -> 0 | AA76: =Z76*X76 -> 0 | AO76: =AN76*AL76 -> 0
T77: =S77*Q77 -> 0 | AA77: =Z77*X77 -> 0 | AO77: =AN77*AL77 -> 0
T78: =S78*Q78 -> 0 | AA78: =Z78*X78 -> 0 | AO78: =AN78*AL78 -> 0
T79: =S79*Q79 -> 0 | AA79: =Z79*X79 -> 0 | AO79: =AN79*AL79 -> 0
T80: =S80*Q80 -> 0 | AA80: =Z80*X80 -> 0 | AO80: =AN80*AL80 -> 0
A81: 副菜二 | T81: =S81*Q81 -> 0 | AA81: =Z81*X81 -> 0 | AO81: =AN81*AL81 -> 0
T82: =S82*Q82 -> 0 | AA82: =Z82*X82 -> 0 | AO82: =AN82*AL82 -> 0
T83: =S83*Q83 -> 0 | AA83: =Z83*X83 -> 0 | AO83: =AN83*AL83 -> 0
T84: =S84*Q84 -> 0 | AA84: =Z84*X84 -> 0 | AO84: =AN84*AL84 -> 0
T85: =S85*Q85 -> 0 | AA85: =Z85*X85 -> 0 | AO85: =AN85*AL85 -> 0
T86: =S86*Q86 -> 0 | AA86: =Z86*X86 -> 0 | AO86: =AN86*AL86 -> 0
T87: =S87*Q87 -> 0 | AA87: =Z87*X87 -> 0 | AO87: =AN87*AL87 -> 0
T88: =S88*Q88 -> 0 | AA88: =Z88*X88 -> 0 | AO88: =AN88*AL88 -> 0
T89: =S89*Q89 -> 0 | AA89: =Z89*X89 -> 0 | AO89: =AN89*AL89 -> 0
T90: =S90*Q90 -> 0 | AA90: =Z90*X90 -> 0 | AO90: =AN90*AL90 -> 0
T91: =S91*Q91 -> 0 | AA91: =Z91*X91 -> 0 | AO91: =AN91*AL91 -> 0
T92: =S92*Q92 -> 0 | AA92: =Z92*X92 -> 0 | AO92: =AN92*AL92 -> 0
T93: =S93*Q93 -> 0 | AA93: =Z93*X93 -> 0 | AO93: =AN93*AL93 -> 0
... T95: =S95*Q95 -> 0 | AA95: =Z95*X95 -> 0 | AO95: =AN95*AL95 -> 0
A96: 副菜三 | T96: =S96*Q96 -> 0 | AA96: =Z96*X96 -> 0 | AO96: =AN96*AL96 -> 0
T97: =S97*Q97 -> 0 | AA97: =Z97*X97 -> 0 | AO97: =AN97*AL97 -> 0
T98: =S98*Q98 -> 0 | AA98: =Z98*X98 -> 0 | AO98: =AN98*AL98 -> 0
T99: =S99*Q99 -> 0 | AA99: =Z99*X99 -> 0 | AO99: =AN99*AL99 -> 0
T100: =S100*Q100 -> 0 | AA100: =Z100*X100 -> 0 | AO100: =AN100*AL100 -> 0
T101: =S101*Q101 -> 0 | AA101: =Z101*X101 -> 0 | AO101: =AN101*AL101 -> 0
T102: =S102*Q102 -> 0 | AA102: =Z102*X102 -> 0 | AO102: =AN102*AL102 -> 0
T103: =S103*Q103 -> 0 | AA103: =Z103*X103 -> 0 | AO103: =AN103*AL103 -> 0
T104: =S104*Q104 -> 0 | AA104: =Z104*X104 -> 0 | AO104: =AN104*AL104 -> 0
T105: =S105*Q105 -> 0 | AA105: =Z105*X105 -> 0 | AO105: =AN105*AL105 -> 0
...

Sheet Week_2(素)
A1: 嘉義市東區民族國小 2025年6月2週午餐菜單素
D2: 日 | F2: 人 | G2: 45817 | I2: 一 | J2: 23 | K2: 人 | N2: =G2+1 -> 45818 | P2: 二 | Q2: 24 | R2: 人 | U2: =N2+1 -> 45819 | W2: 三 | X2: 23 | Y2: 人 | AB2: =U2+1 -> 45820 | AD2: 四 | AE2: 23 | AF2: 人 | AI2: =AB2+1 -> 45821 | AK2: 五 | AL2: 22 | AM2: 人
B3: 菜名 | C3: 食材 | D3: 規格 | E3: 數量 | F3: 單位 | G3: 菜名 | H3: 食材 | I3: 規格 | J3: 數量 | K3: 單位 | N3: 菜名 | O3: 食材 | P3: 規格 | Q3: 數量 | R3: 單位 | U3: 菜名 | V3: 食材 | W3: 規格 | X3: 數量 | Y3: 單位 | AB3: 菜名 | AC3: 食材 | AD3: 規格 | AE3: 數量 | AF3: 單位 | AI3: 菜名 | AJ3: 食材 | AK3: 規格 | AL3: 數量 | AM3: 單位
A4: 主食
A19: 主食二
A34: 主菜 | G34: 紅燒豬腳 | L34: 150 | M34: =L34*J34 -> 0 | N34: 打拋麵腸 | O34: 麵腸 | P34: 不切 | Q34: 1 | R34: kg | S34: 15 | T34: =S34*AE34 -> 22.5 | U34: 榨菜肉絲乾麵 | V34: 白豆干絲 | X34: 2 | Y34: kg | Z34: 24 | AA34: =Z34*X34 -> 48 | AB34: 薑汁燒肉 | AC34: 豆腸 | AE34: 1.5 | AF34: kg | AG34: 150 | AH34: =AG34*Q35 -> 90 | AI34: 香酥豬排 | AJ34: 素豬排 | AL34: 22 | AM34: 片 | AN34: 130 | AO34: =AN34*AL34 -> 2860
H35: 麵輪 | I35: 濕 | J35: 1.5 | K35: kg | L35: 35 | M35: =L35*J35 -> 52.5 | O35: 番茄 | P35: 不切 | Q35: 0.6 | R35: kg | V35: 杏鮑菇 | W35: 不切 | X35: 1 | Y35: kg | Z35: 120 | AA35: =Z35*X35 -> 120 | AC35: 杏鮑菇 | AD35: 手切大丁 | AE35: 0.3 | AF35: kg | AG35: 35 | AH35: =AG35*#REF! -> #REF! | AJ35: 備份 | AL35: 3 | AM35: 片 | AN35: 35 | AO35: =AN35*AL35 -> 105
H36: 紅蘿蔔 | I36: 手切大丁 | J36: 0.1 | K36: kg | L36: 100 | M36: =L36*J36 -> 10 | O36: 杏鮑菇 | P36: 不切 | Q36: 0.6 | R36: kg | V36: 高麗菜 | W36: 片 | X36: 0.5 | Y36: kg | Z36: 800 | AA36: =Z36*X36 -> 400 | AC36: 紅蘿蔔 | AD36: 中丁 | AE36: 0.2 | AF36: kg | AG36: 85 | AH36: =AG36*Q36 -> 51 | AJ36: 四季豆 | AK36: (去頭尾) | AL36: 1.5 | AM36: kg | AN36: 100 | AO36: =AN36*AL36 -> 150
H37: 白蘿蔔 | I37: 手切大丁 | J37: 0.5 | K37: kg | L37: 450 | M37: =L37*J37 -> 225 | O37: 九層塔 | Q37: 0.1 | R37: kg | V37: 榨菜絲 | X37: 0.3 | Y37: kg | Z37: 150 | AA37: =Z37*X37 -> 45 | AG37: 120 | AH37: =AG37*Q37 -> 12 | AN37: 100 | AO37: =AN37*AL37 -> 0
H38: 薑片 | J38: 0.1 | K38: kg | M38: =L38*J38 -> 0 | O38: 新鮮檸檬汁 | Q38: 葷取 | AA38: =Z38*X38 -> 0 | AC38: 薑片 | AE38: 0.1 | AF38: kg | AG38: 50 | AH38: =AG38*Q38 -> #VALUE! | AN38: 100 | AO38: =AN38*AL38 -> 0
M39: =L39*J39 -> 0 | AA39: =Z39*X39 -> 0 | AC39: 薑汁 | AE39: 葷取 | AF39: 罐 | AG39: 100 | AH39: =AG39*Q39 -> 0 | AO39: =AN39*AL39 -> 0
M40: =L40*J40 -> 0 | AA40: =Z40*X40 -> 0 | AO40: =AN40*AL40 -> 0
M41: =L41*J41 -> 0 | AA41: =Z41*X41 -> 0 | AO41: =AN41*AL41 -> 0
M42: =L42*J42 -> 0 | AA42: =Z42*X42 -> 0 | AO42: =AN42*AL42 -> 0
M43: =L43*J43 -> 0 | AA43: =Z43*X43 -> 0 | AO43: =AN43*AL43 -> 0
M44: =L44*J44 -> 0 | AA44: =Z44*X44 -> 0 | AO44: =AN44*AL44 -> 0
M45: =L45*J45 -> 0 | AA45: =Z45*X45 -> 0 | AO45: =AN45*AL45 -> 0
M46: =L46*J46 -> 0 | AA46: =Z46*X46 -> 0 | AO46: =AN46*AL46 -> 0
M47: =L47*J47 -> 0 | AA47: =Z47*X47 -> 0 | AO47: =AN47*AL47 -> 0
M48: =L48*J48 -> 0 | AA48: =Z48*X48 -> 0 | AO48: =AN48*AL48 -> 0
A49: 主菜二 | AO49: =AN49*AL49 -> 0
AO50: =AN50*AL50 -> 0
AO51: =AN51*AL51 -> 0
AO52: =AN52*AL52 -> 0
AO53: =AN53*AL53 -> 0
AO54: =AN54*AL54 -> 0
AO55: =AN55*AL55 -> 0
AO56: =AN56*AL56 -> 0
AO57: =AN57*AL57 -> 0
AO58: =AN58*AL58 -> 0
AO59: =AN59*AL59 -> 0
AO60: =AN60*AL60 -> 0
AO61: =AN61*AL61 -> 0
... AO63: =AN63*AL63 -> 0
A64: 主菜三 | AO64: =AN64*AL64 -> 0
AO65: =AN65*AL65 -> 0
AO66: =AN66*AL66 -> 0
AO67: =AN67*AL67 -> 0
AO68: =AN68*AL68 -> 0
AO69: =AN69*AL69 -> 0
AO70: =AN70*AL70 -> 0
AO71: =AN71*AL71 -> 0
AO72: =AN72*AL72 -> 0
AO73: =AN73*AL73 -> 0
AO74: =AN74*AL74 -> 0
AO75: =AN75*AL75 -> 0
AO76: =AN76*AL76 -> 0
... AO78: =AN78*AL78 -> 0
A79: 主菜四 | AO79: =AN79*AL79 -> 0
AO80: =AN80*AL80 -> 0
AO81: =AN81*AL81 -> 0
AO82: =AN82*AL82 -> 0
AO83: =AN83*AL83 -> 0
AO84: =AN84*AL84 -> 0
AO85: =AN85*AL85 -> 0
AO86: =AN86*AL86 -> 0
AO87: =AN87*AL87 -> 0
AO88: =AN88*AL88 -> 0
AO89: =AN89*AL89 -> 0
AO90: =AN90*AL90 -> 0
AO91: =AN91*AL91 -> 0
... AO93: =AN93*AL93 -> 0
A94: 副菜 | G94: 螞蟻上樹 | L94: 75 | M94: =L94*J94 -> 0 | N94: 雙絲炒蛋 | O94: 杏鮑菇 | P94: 絲 | Q94: 0.6 | R94: kg | S94: 45 | T94: =S94*#REF! -> #REF! | U94: 滷蛋 | V94: 滷蛋 | X94: 20 | Y94: kg | Z94: 85 | AA94: =Z94*X94 -> 1700 | AB94: 魷魚羹 | AC94: 素魷魚 | AE94: 0.3 | AF94: kg | AG94: ７０ | AH94: =AG94*AE94 -> 21 | AI94: 壽喜燒凍豆腐 | AJ94: 高麗菜 | AK94: 片 | AL94: 1.2 | AM94: kg | AN94: 45 | AO94: =AN94*AL94 -> 54
H95: 冬粉 | I95: 絲 | J95: 0.6 | K95: kg | L95: 35 | M95: =L95*J95 -> 21 | O95: 紅蘿蔔 | P95: 絲 | Q95: 0.5 | R95: kg | S95: 35 | T95: =S95*#REF! -> #REF! | V95: 備份 | X95: 5 | Y95: kg | Z95: 35 | AA95: =Z95*X95 -> 175 | AC95: 大白菜 | AD95: 段 | AE95: 1 | AF95: kg | AG95: １５０ | AH95: =AG95*AE95 -> 150 | AJ95: 紅蘿蔔 | AK95: 絲 | AL95: 0.1 | AM95: kg | AN95: 150 | AO95: =AN95*AL95 -> 15
H96: 紅蘿蔔 | I96: 絲 | J96: 0.2 | K96: kg | L96: 35 | M96: =L96*J96 -> 7 | O96: 蛋 | Q96: 1.5 | R96: kg | S96: 35 | T96: =S96*#REF! -> #REF! | Z96: 60 | AA96: =Z96*X96 -> 0 | AC96: 鮮筍絲 | AE96: 0.3 | AF96: kg | AG96: ３５ | AH96: =AG96*AE96 -> 10.5 | AJ96: 木耳 | AK96: 絲 | AL96: 0.1 | AM96: kg | AN96: 90 | AO96: =AN96*AL96 -> 9
H97: 高麗菜絲 | J97: 1.2 | K97: kg | L97: 80 | M97: =L97*J97 -> 96 | S97: 75 | T97: =S97*#REF! -> #REF! | Z97: 35 | AA97: =Z97*X97 -> 0 | AC97: 鮮香菇 | AD97: 絲 | AE97: 0.1 | AF97: kg | AG97: １００ | AH97: =AG97*AE97 -> 10 | AJ97: 凍豆腐 | AL97: 1.2 | AM97: kg | AN97: 120 | AO97: =AN97*AL97 -> 144
H98: 木耳絲 | J98: 0.2 | K98: kg | M98: =L98*J98 -> 0 | S98: 90 | T98: =S98*#REF! -> #REF! | Z98: 15 | AA98: =Z98*X98 -> 0 | AC98: 紅蘿蔔 | AD98: 絲 | AE98: 0.1 | AF98: kg | AO98: =AN98*AL98 -> 0
M99: =L99*J99 -> 0 | S99: 150 | T99: =S99*#REF! -> #REF! | AA99: =Z99*X99 -> 0 | AO99: =AN99*AL99 -> 0
M100: =L100*J100 -> 0 | S100: 150 | T100: =S100*#REF! -> #REF! | AA100: =Z100*X100 -> 0 | AO100: =AN100*AL100 -> 0
M101: =L101*J101 -> 0 | T101: =S101*#REF! -> #REF! | AA101: =Z101*X101 -> 0 | AC101: 辣豆瓣 | AO101: =AN101*AL101 -> 0
M102: =L102*J102 -> 0 | T102: =S102*#REF! -> #REF! | AA102: =Z102*X102 -> 0 | AC102: 辣豆瓣 | AO102: =AN102*AL102 -> 0
M103: =L103*J103 -> 0 | T103: =S103*#REF! -> #REF! | AA103: =Z103*X103 -> 0 | AC103: 辣豆瓣 | AO103: =AN103*AL103 -> 0
M104: =L104*J104 -> 0 | T104: =S104*#REF! -> #REF! | AA104: =Z104*X104 -> 0 | AC104: 辣豆瓣 | AO104: =AN104*AL104 -> 0
M105: =L105*J105 -> 0 | T105: =S105*#REF! -> #REF! | AA105: =Z105*X105 -> 0 | AC105: 辣豆瓣 | AO105: =AN105*AL105 -> 0
M106: =L106*J106 -> 0 | T106: =S106*#REF! -> #REF! | AA106: =Z106*X106 -> 0 | AC106: 辣豆瓣 | AO106: =AN106*AL106 -> 0
M107: =L107*J107 -> 0 | T107: =S107*#REF! -> #REF! | AA107: =Z107*X107 -> 0 | AC107: 辣豆瓣 | AO107: =AN107*AL107 -> 0
M108: =L108*J108 -> 0 | T108: =S108*#REF! -> #REF! | AA108: =Z108*X108 -> 0 | AC108: 辣豆瓣 | AO108: =AN108*AL108 -> 0
A109: 副菜二 | AA109: =Z109*X109 -> 0 | AO109: =AN109*AL109 -> 0
AA110: =Z110*X110 -> 0 | AO110: =AN110*AL110 -> 0
AA111: =Z111*X111 -> 0 | AO111: =AN111*AL111 -> 0
AA112: =Z112*X112 -> 0 | AO112: =AN112*AL112 -> 0
AA113: =Z113*X113 -> 0 | AO113: =AN113*AL113 -> 0
AA114: =Z114*X114 -> 0 | AO114: =AN114*AL114 -> 0
AA115: =Z115*X115 -> 0 | AO115: =AN115*AL115 -> 0
AA116: =Z116*X116 -> 0 | AO116: =AN116*AL116 -> 0
AA117: =Z117*X117 -> 0 | AO117: =AN117*AL117 -> 0
AA118: =Z118*X118 -> 0 | AO118: =AN118*AL118 -> 0
AA119: =Z119*X119 -> 0 | AO119: =AN119*AL119 -> 0
AA120: =Z120*X120 -> 0 | AO120: =AN120*AL120 -> 0
AA121: =Z121*X121 -> 0 | AO121: =AN121*AL121 -> 0
... AA123: =Z123*X123 -> 0 | AO123: =AN123*AL123 -> 0
A124: 副菜三 | AA124: =Z124*X124 -> 0 | AO124: =AN124*AL124 -> 0
AA125: =Z125*X125 -> 0 | AO125: =AN125*AL125 -> 0
AA126: =Z126*X126 -> 0 | AO126: =AN126*AL126 -> 0
AA127: =Z127*X127 -> 0 | AO127: =AN127*AL127 -> 0
AA128: =Z128*X128 -> 0 | AO128: =AN128*AL128 -> 0
AA129: =Z129*X129 -> 0 | AO129: =AN129*AL129 -> 0
AA130: =Z130*X130 -> 0 | AO130: =AN130*AL130 -> 0
AA131: =Z131*X131 -> 0 | AO131: =AN131*AL131 -> 0
AA132: =Z132*X132 -> 0 | AO132: =AN132*AL132 -> 0
...

Sheet Week_3
A1: 嘉義市東區民族國小 2025年6月3週午餐菜單
B2: 44626 | D2: 日 | F2: 人 | G2: 45824 | I2: 一 | J2: 672 | K2: 人 | N2: =G2+1 -> 45825 | P2: 二 | Q2: 671 | R2: 人 | U2: =N2+1 -> 45826 | W2: 三 | X2: 621 | Y2: 人 | AB2: =U2+1 -> 45827 | AD2: 四 | AE2: 621 | AF2: 人 | AI2: =AB2+1 -> 45828 | AK2: 五 | AL2: 621 | AM2: 人
B3: 菜名 | C3: 食材 | D3: 規格 | E3: 數量 | F3: 單位 | G3: 菜名 | H3: 食材 | I3: 規格 | J3: 數量 | K3: 單位 | N3: 菜名 | O3: 食材 | P3: 規格 | Q3: 數量 | R3: 單位 | U3: 菜名 | V3: 食材 | W3: 規格 | X3: 數量 | Y3: 單位 | AB3: 菜名 | AC3: 食材 | AD3: 規格 | AE3: 數量 | AF3: 單位 | AI3: 菜名 | AJ3: 食材 | AK3: 規格 | AL3: 數量 | AM3: 單位
A4: 主食 | G4: 小米飯 | H4: 英語村51葷 | N4: 白米飯 | O4: 英語村50葷2素 | U4: 白米飯 | AB4: 白米飯 | AI4: 紅黎飯
A19: 主食二
A34: 主菜 | G34: 香滷翅小腿 | H34: 翅小腿 | J34: 1344 | K34: 塊 | L34: 7 | M34: =L34*J34 -> 9408 | N34: 香菇肉燥 | O34: 瘦絞肉 | Q34: 42 | R34: kg | S34: 180 | T34: =S34*Q34 -> 7560 | U34: 茄汁菇菇燉飯 | V34: 清雞胸肉 | W34: 片 | X34: 26 | Y34: kg | Z34: 180 | AA34: =Z34*X34 -> 4680 | AB34: 香酥魚排 | AC34: 調理魚排 | AE34: 621 | AF34: 片 | AG34: 10 | AH34: =AG34*AE34 -> 6210 | AI34: 安東燉雞 | AJ34: 腿丁 | AL34: 46 | AM34: kg | AN34: 190 | AO34: =AN34*AL34 -> 8740
H35: 備品 | J35: 20 | K35: 塊 | M35: =L35*J35 -> 0 | O35: 香菇小朵 | Q35: 9 | R35: kg | S35: 155 | T35: =S35*Q35 -> 1395 | V35: 秀珍菇 | X35: 8 | Y35: kg | Z35: 180 | AA35: =Z35*X35 -> 1440 | AC35: 備 | AE35: 10 | AF35: 顆 | AH35: =AG35*AE35 -> 0 | AJ35: 馬鈴薯 | AK35: 片 | AL35: 11 | AM35: kg | AN35: 60 | AO35: =AN35*AL35 -> 660
H36: 一人兩隻 | M36: =L36*J36 -> 0 | O36: 乾香菇 | P36: 提前送 | Q36: 1 | R36: 斤 | S36: 1200 | T36: =S36*Q36 -> 1200 | V36: 洋蔥 | W36: 小丁 | X36: 13 | Y36: kg | Z36: 60 | AA36: =Z36*X36 -> 780 | AH36: =AG36*AE36 -> 0 | AJ36: 薑片 | AL36: 1 | AM36: kg | AN36: 120 | AO36: =AN36*AL36 -> 120
M37: =L37*J37 -> 0 | O37: 薑片 | Q37: 1 | R37: 斤 | S37: 120 | T37: =S37*Q37 -> 120 | V37: 杏鮑菇 | W37: 小丁 | X37: 4 | Y37: kg | Z37: 130 | AA37: =Z37*X37 -> 520 | AH37: =AG37*AE37 -> 0 | AJ37: 紅蘿蔔 | AK37: 片 | AL37: 4 | AM37: kg | AN37: 40 | AO37: =AN37*AL37 -> 160
M38: =L38*J38 -> 0 | O38: 油蔥酥 | P38: 0.6k | Q38: 2 | R38: 包 | S38: 90 | T38: =S38*Q38 -> 180 | V38: 玉米粒 | X38: 6 | Y38: kg | Z38: 75 | AA38: =Z38*X38 -> 450 | AH38: =AG38*AE38 -> 0 | AJ38: 冬粉 | AL38: 3 | AM38: kg | AN38: 110 | AO38: =AN38*AL38 -> 330
M39: =L39*J39 -> 0 | T39: =S39*Q39 -> 0 | V39: 紅蘿蔔 | W39: 小丁 | X39: 3 | Y39: kg | Z39: 40 | AA39: =Z39*X39 -> 120 | AH39: =AG39*AE39 -> 0 | AJ39: 蔥段 | AL39: 1 | AM39: kg | AN39: 95 | AO39: =AN39*AL39 -> 95
M40: =L40*J40 -> 0 | T40: =S40*Q40 -> 0 | V40: 番茄糊 | W40: 3k | X40: 2 | Y40: 罐 | Z40: 350 | AA40: =Z40*X40 -> 700 | AH40: =AG40*AE40 -> 0 | AO40: =AN40*AL40 -> 0
M41: =L41*J41 -> 0 | O41: 小米 | P41: 4/21 | Q41: 5 | R41: kg | S41: 100 | T41: =S41*Q41 -> 500 | V41: 番茄醬 | W41: 3K | X41: 2 | Y41: 罐 | Z41: 280 | AA41: =Z41*X41 -> 560 | AH41: =AG41*AE41 -> 0 | AJ41: 紅藜麥 | AK41: 6/13 | AL41: 2 | AM41: kg | AN41: 300 | AO41: =AN41*AL41 -> 600
M42: =L42*J42 -> 0 | T42: =S42*Q42 -> 0 | AA42: =Z42*X42 -> 0 | AH42: =AG42*AE42 -> 0 | AJ42: 蒜末 | AK42: 0.6k | AL42: 1 | AM42: 包 | AN42: 120 | AO42: =AN42*AL42 -> 120
M43: =L43*J43 -> 0 | T43: =S43*Q43 -> 0 | AA43: =Z43*X43 -> 0 | AH43: =AG43*AE43 -> 0 | AO43: =AN43*AL43 -> 0
M44: =L44*J44 -> 0 | T44: =S44*Q44 -> 0 | AA44: =Z44*X44 -> 0 | AH44: =AG44*AE44 -> 0 | AO44: =AN44*AL44 -> 0
M45: =L45*J45 -> 0 | T45: =S45*Q45 -> 0 | AA45: =Z45*X45 -> 0 | AH45: =AG45*AE45 -> 0 | AO45: =AN45*AL45 -> 0
M46: =L46*J46 -> 0 | T46: =S46*Q46 -> 0 | AA46: =Z46*X46 -> 0 | AH46: =AG46*AE46 -> 0 | AO46: =AN46*AL46 -> 0
M47: =L47*J47 -> 0 | T47: =S47*Q47 -> 0 | AA47: =Z47*X47 -> 0 | AH47: =AG47*AE47 -> 0 | AO47: =AN47*AL47 -> 0
M48: =L48*J48 -> 0 | T48: =S48*Q48 -> 0 | AA48: =Z48*X48 -> 0 | AH48: =AG48*AE48 -> 0 | AO48: =AN48*AL48 -> 0
A49: 主菜二 | M49: =L49*J49 -> 0 | T49: =S49*Q49 -> 0 | AA49: =Z49*X49 -> 0 | AH49: =AG49*AE49 -> 0 | AO49: =AN49*AL49 -> 0
M50: =L50*J50 -> 0 | T50: =S50*Q50 -> 0 | AA50: =Z50*X50 -> 0 | AH50: =AG50*AE50 -> 0 | AO50: =AN50*AL50 -> 0
M51: =L51*J51 -> 0 | T51: =S51*Q51 -> 0 | AA51: =Z51*X51 -> 0 | AH51: =AG51*AE51 -> 0 | AO51: =AN51*AL51 -> 0
M52: =L52*J52 -> 0 | T52: =S52*Q52 -> 0 | AA52: =Z52*X52 -> 0 | AH52: =AG52*AE52 -> 0 | AO52: =AN52*AL52 -> 0
M53: =L53*J53 -> 0 | T53: =S53*Q53 -> 0 | AA53: =Z53*X53 -> 0 | AH53: =AG53*AE53 -> 0 | AO53: =AN53*AL53 -> 0
M54: =L54*J54 -> 0 | T54: =S54*Q54 -> 0 | AA54: =Z54*X54 -> 0 | AH54: =AG54*AE54 -> 0 | AO54: =AN54*AL54 -> 0
M55: =L55*J55 -> 0 | T55: =S55*Q55 -> 0 | AA55: =Z55*X55 -> 0 | AH55: =AG55*AE55 -> 0 | AO55: =AN55*AL55 -> 0
M56: =L56*J56 -> 0 | T56: =S56*Q56 -> 0 | AA56: =Z56*X56 -> 0 | AH56: =AG56*AE56 -> 0 | AO56: =AN56*AL56 -> 0
M57: =L57*J57 -> 0 | T57: =S57*Q57 -> 0 | AA57: =Z57*X57 -> 0 | AH57: =AG57*AE57 -> 0 | AO57: =AN57*AL57 -> 0
M58: =L58*J58 -> 0 | T58: =S58*Q58 -> 0 | AA58: =Z58*X58 -> 0 | AH58: =AG58*AE58 -> 0 | AO58: =AN58*AL58 -> 0
M59: =L59*J59 -> 0 | T59: =S59*Q59 -> 0 | AA59: =Z59*X59 -> 0 | AH59: =AG59*AE59 -> 0 | AO59: =AN59*AL59 -> 0
M60: =L60*J60 -> 0 | T60: =S60*Q60 -> 0 | AA60: =Z60*X60 -> 0 | AH60: =AG60*AE60 -> 0 | AO60: =AN60*AL60 -> 0
M61: =L61*J61 -> 0 | T61: =S61*Q61 -> 0 | AA61: =Z61*X61 -> 0 | AH61: =AG61*AE61 -> 0 | AO61: =AN61*AL61 -> 0
... M63: =L63*J63 -> 0 | T63: =S63*Q63 -> 0 | AA63: =Z63*X63 -> 0 | AH63: =AG63*AE63 -> 0 | AO63: =AN63*AL63 -> 0
A64: 主菜三 | M64: =L64*J64 -> 0 | T64: =S64*Q64 -> 0 | AA64: =Z64*X64 -> 0 | AH64: =AG64*AE64 -> 0 | AO64: =AN64*AL64 -> 0
M65: =L65*J65 -> 0 | T65: =S65*Q65 -> 0 | AA65: =Z65*X65 -> 0 | AH65: =AG65*AE65 -> 0 | AO65: =AN65*AL65 -> 0
M66: =L66*J66 -> 0 | T66: =S66*Q66 -> 0 | AA66: =Z66*X66 -> 0 | AH66: =AG66*AE66 -> 0 | AO66: =AN66*AL66 -> 0
M67: =L67*J67 -> 0 | T67: =S67*Q67 -> 0 | AA67: =Z67*X67 -> 0 | AH67: =AG67*AE67 -> 0 | AO67: =AN67*AL67 -> 0
M68: =L68*J68 -> 0 | T68: =S68*Q68 -> 0 | AA68: =Z68*X68 -> 0 | AH68: =AG68*AE68 -> 0 | AO68: =AN68*AL68 -> 0
M69: =L69*J69 -> 0 | T69: =S69*Q69 -> 0 | AA69: =Z69*X69 -> 0 | AH69: =AG69*AE69 -> 0 | AO69: =AN69*AL69 -> 0
M70: =L70*J70 -> 0 | T70: =S70*Q70 -> 0 | AA70: =Z70*X70 -> 0 | AH70: =AG70*AE70 -> 0 | AO70: =AN70*AL70 -> 0
M71: =L71*J71 -> 0 | T71: =S71*Q71 -> 0 | AA71: =Z71*X71 -> 0 | AH71: =AG71*AE71 -> 0 | AO71: =AN71*AL71 -> 0
M72: =L72*J72 -> 0 | T72: =S72*Q72 -> 0 | AA72: =Z72*X72 -> 0 | AH72: =AG72*AE72 -> 0 | AO72: =AN72*AL72 -> 0
M73: =L73*J73 -> 0 | T73: =S73*Q73 -> 0 | AA73: =Z73*X73 -> 0 | AH73: =AG73*AE73 -> 0 | AO73: =AN73*AL73 -> 0
M74: =L74*J74 -> 0 | T74: =S74*Q74 -> 0 | AA74: =Z74*X74 -> 0 | AH74: =AG74*AE74 -> 0 | AO74: =AN74*AL74 -> 0
M75: =L75*J75 -> 0 | T75: =S75*Q75 -> 0 | AA75: =Z75*X75 -> 0 | AH75: =AG75*AE75 -> 0 | AO75: =AN75*AL75 -> 0
M76: =L76*J76 -> 0 | T76: =S76*Q76 -> 0 | AA76: =Z76*X76 -> 0 | AH76: =AG76*AE76 -> 0 | AO76: =AN76*AL76 -> 0
... M78: =L78*J78 -> 0 | T78: =S78*Q78 -> 0 | AA78: =Z78*X78 -> 0 | AH78: =AG78*AE78 -> 0 | AO78: =AN78*AL78 -> 0
A79: 主菜四 | M79: =L79*J79 -> 0 | T79: =S79*Q79 -> 0 | AA79: =Z79*X79 -> 0 | AH79: =AG79*AE79 -> 0 | AO79: =AN79*AL79 -> 0
M80: =L80*J80 -> 0 | T80: =S80*Q80 -> 0 | AA80: =Z80*X80 -> 0 | AH80: =AG80*AE80 -> 0 | AO80: =AN80*AL80 -> 0
M81: =L81*J81 -> 0 | T81: =S81*Q81 -> 0 | AA81: =Z81*X81 -> 0 | AH81: =AG81*AE81 -> 0 | AO81: =AN81*AL81 -> 0
M82: =L82*J82 -> 0 | T82: =S82*Q82 -> 0 | AA82: =Z82*X82 -> 0 | AH82: =AG82*AE82 -> 0 | AO82: =AN82*AL82 -> 0
M83: =L83*J83 -> 0 | T83: =S83*Q83 -> 0 | AA83: =Z83*X83 -> 0 | AH83: =AG83*AE83 -> 0 | AO83: =AN83*AL83 -> 0
M84: =L84*J84 -> 0 | T84: =S84*Q84 -> 0 | AA84: =Z84*X84 -> 0 | AH84: =AG84*AE84 -> 0 | AO84: =AN84*AL84 -> 0
M85: =L85*J85 -> 0 | T85: =S85*Q85 -> 0 | AA85: =Z85*X85 -> 0 | AH85: =AG85*AE85 -> 0 | AO85: =AN85*AL85 -> 0
M86: =L86*J86 -> 0 | T86: =S86*Q86 -> 0 | AA86: =Z86*X86 -> 0 | AH86: =AG86*AE86 -> 0 | AO86: =AN86*AL86 -> 0
M87: =L87*J87 -> 0 | T87: =S87*Q87 -> 0 | AA87: =Z87*X87 -> 0 | AH87: =AG87*AE87 -> 0 | AO87: =AN87*AL87 -> 0
M88: =L88*J88 -> 0 | T88: =S88*Q88 -> 0 | AA88: =Z88*X88 -> 0 | AH88: =AG88*AE88 -> 0 | AO88: =AN88*AL88 -> 0
M89: =L89*J89 -> 0 | T89: =S89*Q89 -> 0 | AA89: =Z89*X89 -> 0 | AH89: =AG89*AE89 -> 0 | AO89: =AN89*AL89 -> 0
M90: =L90*J90 -> 0 | T90: =S90*Q90 -> 0 | AA90: =Z90*X90 -> 0 | AH90: =AG90*AE90 -> 0 | AO90: =AN90*AL90 -> 0
M91: =L91*J91 -> 0 | T91: =S91*Q91 -> 0 | AA91: =Z91*X91 -> 0 | AH91: =AG91*AE91 -> 0 | AO91: =AN91*AL91 -> 0
... M93: =L93*J93 -> 0 | T93: =S93*Q93 -> 0 | AA93: =Z93*X93 -> 0 | AH93: =AG93*AE93 -> 0 | AO93: =AN93*AL93 -> 0
A94: 副菜 | G94: 麻婆豆腐 | H94: 板豆腐 | I94: 5k | J94: 6 | K94: 板 | L94: 230 | M94: =L94*J94 -> 1380 | N94: 洋蔥炒蛋 | O94: 洋蔥 | P94: 絲 | Q94: 24 | R94: kg | S94: 60 | T94: =S94*Q94 -> 1440 | U94: 蒸肉包 | V94: 桂冠醬燒肉包 | W94: 認證 | X94: 621 | Y94: 個 | Z94: 7 | AA94: =Z94*X94 -> 4347 | AB94: 培根高麗菜 | AC94: 高麗菜 | AE94: 31 | AF94: kg | AG94: 40 | AH94: =AG94*AE94 -> 1240 | AI94: 花椰菜炒肉片 | AJ94: 綠花椰菜 | AK94: 冷凍 | AL94: 39 | AM94: kg | AN94: 55 | AO94: =AN94*AL94 -> 2145
H95: 洋蔥 | I95: 小丁 | J95: 5 | K95: kg | L95: 60 | M95: =L95*J95 -> 300 | O95: 蛋 | Q95: 34 | R95: kg | S95: 100 | T95: =S95*Q95 -> 3400 | V95: 備份 | X95: 20 | Y95: 個 | AA95: =Z95*X95 -> 0 | AC95: 培根 | AD95: 認證 | AE95: 3 | AF95: kg | AG95: 250 | AH95: =AG95*AE95 -> 750 | AJ95: 肉片 | AL95: 3 | AM95: kg | AN95: 220 | AO95: =AN95*AL95 -> 660
H96: 瘦絞肉 | J96: 6 | K96: kg | L96: 180 | M96: =L96*J96 -> 1080 | O96: 蔥珠 | Q96: 0.5 | R96: kg | S96: 95 | T96: =S96*Q96 -> 47.5 | V96: 30g | AA96: =Z96*X96 -> 0 | AC96: 肉片 | AD96: 片 | AE96: 6 | AF96: kg | AG96: 220 | AH96: =AG96*AE96 -> 1320 | AJ96: 紅蘿蔔 | AK96: 絲 | AL96: 3 | AM96: kg | AN96: 40 | AO96: =AN96*AL96 -> 120
H97: 玉米粒 | J97: 6 | K97: kg | L97: 75 | M97: =L97*J97 -> 450 | T97: =S97*Q97 -> 0 | AA97: =Z97*X97 -> 0 | AC97: 袖珍菇 | AE97: 5 | AF97: kg | AG97: 75 | AH97: =AG97*AE97 -> 375 | AJ97: 素皮絲 | AK97: 濕切 | AL97: 3 | AM97: kg | AN97: 160 | AO97: =AN97*AL97 -> 480
H98: 紅蘿蔔 | I98: 小丁 | J98: 3 | K98: kg | L98: 40 | M98: =L98*J98 -> 120 | T98: =S98*Q98 -> 0 | AA98: =Z98*X98 -> 0 | AC98: 薑片 | AE98: 1 | AF98: kg | AG98: 40 | AH98: =AG98*AE98 -> 40 | AJ98: 薑絲 | AL98: 0.5 | AM98: kg | AN98: 120 | AO98: =AN98*AL98 -> 60
H99: 板豆腐 | I99: 1.2k | J99: 2 | K99: 盒 | M99: =L99*J99 -> 0 | T99: =S99*Q99 -> 0 | AA99: =Z99*X99 -> 0 | AH99: =AG99*AE99 -> 0 | AO99: =AN99*AL99 -> 0
M100: =L100*J100 -> 0 | T100: =S100*Q100 -> 0 | AA100: =Z100*X100 -> 0 | AH100: =AG100*AE100 -> 0 | AO100: =AN100*AL100 -> 0
M101: =L101*J101 -> 0 | T101: =S101*Q101 -> 0 | AA101: =Z101*X101 -> 0 | AH101: =AG101*AE101 -> 0 | AO101: =AN101*AL101 -> 0
M102: =L102*J102 -> 0 | T102: =S102*Q102 -> 0 | AA102: =Z102*X102 -> 0 | AH102: =AG102*AE102 -> 0 | AO102: =AN102*AL102 -> 0
M103: =L103*J103 -> 0 | T103: =S103*Q103 -> 0 | AA103: =Z103*X103 -> 0 | AH103: =AG103*AE103 -> 0 | AO103: =AN103*AL103 -> 0
M104: =L104*J104 -> 0 | T104: =S104*Q104 -> 0 | AA104: =Z104*X104 -> 0 | AH104: =AG104*AE104 -> 0 | AO104: =AN104*AL104 -> 0
M105: =L105*J105 -> 0 | T105: =S105*Q105 -> 0 | AA105: =Z105*X105 -> 0 | AH105: =AG105*AE105 -> 0 | AO105: =AN105*AL105 -> 0
M106: =L106*J106 -> 0 | T106: =S106*Q106 -> 0 | AA106: =Z106*X106 -> 0 | AH106: =AG106*AE106 -> 0 | AO106: =AN106*AL106 -> 0
M107: =L107*J107 -> 0 | T107: =S107*Q107 -> 0 | AA107: =Z107*X107 -> 0 | AH107: =AG107*AE107 -> 0 | AO107: =AN107*AL107 -> 0
M108: =L108*J108 -> 0 | T108: =S108*Q108 -> 0 | AA108: =Z108*X108 -> 0 | AH108: =AG108*AE108 -> 0 | AO108: =AN108*AL108 -> 0
A109: 副菜二 | M109: =L109*J109 -> 0 | T109: =S109*Q109 -> 0 | AA109: =Z109*X109 -> 0 | AH109: =AG109*AE109 -> 0 | AO109: =AN109*AL109 -> 0
M110: =L110*J110 -> 0 | T110: =S110*Q110 -> 0 | AA110: =Z110*X110 -> 0 | AH110: =AG110*AE110 -> 0 | AO110: =AN110*AL110 -> 0
M111: =L111*J111 -> 0 | T111: =S111*Q111 -> 0 | AA111: =Z111*X111 -> 0 | AH111: =AG111*AE111 -> 0 | AO111: =AN111*AL111 -> 0
M112: =L112*J112 -> 0 | T112: =S112*Q112 -> 0 | AA112: =Z112*X112 -> 0 | AH112: =AG112*AE112 -> 0 | AO112: =AN112*AL112 -> 0
M113: =L113*J113 -> 0 | T113: =S113*Q113 -> 0 | AA113: =Z113*X113 -> 0 | AH113: =AG113*AE113 -> 0 | AO113: =AN113*AL113 -> 0
M114: =L114*J114 -> 0 | T114: =S114*Q114 -> 0 | AA114: =Z114*X114 -> 0 | AH114: =AG114*AE114 -> 0 | AO114: =AN114*AL114 -> 0
M115: =L115*J115 -> 0 | T115: =S115*Q115 -> 0 | AA115: =Z115*X115 -> 0 | AH115: =AG115*AE115 -> 0 | AO115: =AN115*AL115 -> 0
M116: =L116*J116 -> 0 | T116: =S116*Q116 -> 0 | AA116: =Z116*X116 -> 0 | AH116: =AG116*AE116 -> 0 | AO116: =AN116*AL116 -> 0
M117: =L117*J117 -> 0 | T117: =S117*Q117 -> 0 | AA117: =Z117*X117 -> 0 | AH117: =AG117*AE117 -> 0 | AO117: =AN117*AL117 -> 0
M118: =L118*J118 -> 0 | T118: =S118*Q118 -> 0 | AA118: =Z118*X118 -> 0 | AH118: =AG118*AE118 -> 0 | AO118: =AN118*AL118 -> 0
M119: =L119*J119 -> 0 | T119: =S119*Q119 -> 0 | AA119: =Z119*X119 -> 0 | AH119: =AG119*AE119 -> 0 | AO119: =AN119*AL119 -> 0
M120: =L120*J120 -> 0 | T120: =S120*Q120 -> 0 | AA120: =Z120*X120 -> 0 | AH120: =AG120*AE120 -> 0 | AO120: =AN120*AL120 -> 0
M121: =L121*J121 -> 0 | T121: =S121*Q121 -> 0 | AA121: =Z121*X121 -> 0 | AH121: =AG121*AE121 -> 0 | AO121: =AN121*AL121 -> 0
... M123: =L123*J123 -> 0 | T123: =S123*Q123 -> 0 | AA123: =Z123*X123 -> 0 | AH123: =AG123*AE123 -> 0 | AO123: =AN123*AL123 -> 0
A124: 副菜三 | M124: =L124*J124 -> 0 | T124: =S124*Q124 -> 0 | AA124: =Z124*X124 -> 0 | AH124: =AG124*AE124 -> 0 | AO124: =AN124*AL124 -> 0
M125: =L125*J125 -> 0 | T125: =S125*Q125 -> 0 | AA125: =Z125*X125 -> 0 | AH125: =AG125*AE125 -> 0 | AO125: =AN125*AL125 -> 0
M126: =L126*J126 -> 0 | T126: =S126*Q126 -> 0 | AA126: =Z126*X126 -> 0 | AH126: =AG126*AE126 -> 0 | AO126: =AN126*AL126 -> 0
M127: =L127*J127 -> 0 | T127: =S127*Q127 -> 0 | AA127: =Z127*X127 -> 0 | AH127: =AG127*AE127 -> 0 | AO127: =AN127*AL127 -> 0
M128: =L128*J128 -> 0 | T128: =S128*Q128 -> 0 | AA128: =Z128*X128 -> 0 | AH128: =AG128*AE128 -> 0 | AO128: =AN128*AL128 -> 0
M129: =L129*J129 -> 0 | T129: =S129*Q129 -> 0 | AA129: =Z129*X129 -> 0 | AH129: =AG129*AE129 -> 0 | AO129: =AN129*AL129 -> 0
M130: =L130*J130 -> 0 | T130: =S130*Q130 -> 0 | AA130: =Z130*X130 -> 0 | AH130: =AG130*AE130 -> 0 | AO130: =AN130*AL130 -> 0
M131: =L131*J131 -> 0 | T131: =S131*Q131 -> 0 | AA131: =Z131*X131 -> 0 | AH131: =AG131*AE131 -> 0 | AO131: =AN131*AL131 -> 0
M132: =L132*J132 -> 0 | T132: =S132*Q132 -> 0 | AA132: =Z132*X132 -> 0 | AH132: =AG132*AE132 -> 0 | AO132: =AN132*AL132 -> 0
...

Sheet Week_3 (素)
A1: 嘉義市東區民族國小 2025年6月3週午餐菜單素
B2: 44633 | D2: 日 | F2: 人 | G2: 45824 | I2: 一 | J2: 22 | K2: 人 | N2: =G2+1 -> 45825 | P2: 二 | Q2: 24 | R2: 人 | U2: =N2+1 -> 45826 | W2: 三 | X2: 22 | Y2: 人 | AB2: =U2+1 -> 45827 | AD2: 四 | AE2: 22 | AF2: 人 | AI2: =AB2+1 -> 45828 | AK2: 五 | AL2: 22 | AM2: 人 | AP2: 44639 | AR2: 六 | AT2: 人
B3: 菜名 | C3: 食材 | D3: 規格 | E3: 數量 | F3: 單位 | G3: 菜名 | H3: 食材 | I3: 規格 | J3: 數量 | K3: 單位 | N3: 菜名 | O3: 食材 | P3: 規格 | Q3: 數量 | R3: 單位 | U3: 菜名 | V3: 食材 | W3: 規格 | X3: 數量 | Y3: 單位 | AB3: 菜名 | AC3: 食材 | AD3: 規格 | AE3: 數量 | AF3: 單位 | AI3: 菜名 | AJ3: 食材 | AK3: 規格 | AL3: 數量 | AM3: 單位 | AP3: 菜名 | AQ3: 食材 | AR3: 規格 | AS3: 數量 | AT3: 單位
A4: 主食
A19: 主食二
A34: 主菜 | G34: 香滷翅小腿 | H34: 四角油豆腐 | I34: 52g | J34: 22 | K34: 塊 | L34: 15 | M34: =L34*#REF! -> #REF! | N34: 香菇肉燥 | O34: 黃豆乾丁 | Q34: 2 | R34: kg | S34: 130 | T34: =S34*#REF! -> #REF! | U34: 白醬菇菇燉飯 | V34: 素雞肉絲 | X34: 1 | Y34: 包 | Z34: 22 | AA34: =Z34*X34 -> 22 | AB34: 香酥猴頭菇 | AC34: 酥脆猴頭菇 | AE34: 3 | AF34: kg | AG34: 15 | AH34: =AG34*#REF! -> #REF! | AI34: 安東燉雞 | AJ34: 凍豆腐 | AL34: 1.5 | AM34: kg | AN34: 190 | AO34: =AN34*J34 -> 4180
H35: 備品 | J35: 3 | K35: 塊 | M35: =L35*#REF! -> #REF! | O35: 香菇小朵 | Q35: 0.5 | R35: kg | S35: 40 | T35: =S35*#REF! -> #REF! | V35: 袖珍菇 | X35: 0.3 | Y35: kg | Z35: 150 | AA35: =Z35*X35 -> 45 | AH35: =AG35*#REF! -> #REF! | AJ35: 馬鈴薯 | AK35: 片 | AL35: 1 | AM35: kg | AN35: 60 | AO35: =AN35*J35 -> 180
M36: =L36*#REF! -> #REF! | O36: 乾香菇 | P36: 提前送 | Q36: 0.1 | R36: kg | S36: 200 | T36: =S36*#REF! -> #REF! | V36: 杏鮑菇 | W36: 片 | X36: 0.6 | Y36: kg | Z36: 65 | AA36: =Z36*X36 -> 39 | AH36: =AG36*#REF! -> #REF! | AJ36: 薑片 | AL36: 0.1 | AM36: kg | AN36: 120 | AO36: =AN36*J36 -> 0
M37: =L37*#REF! -> #REF! | O37: 素皮絲 | P37: 濕 | Q37: 0.3 | R37: kg | T37: =S37*#REF! -> #REF! | V37: 玉米粒 | X37: 0.4 | Y37: kg | Z37: 35 | AA37: =Z37*X37 -> 14 | AH37: =AG37*#REF! -> #REF! | AJ37: 紅蘿蔔 | AK37: 片 | AL37: 0.3 | AM37: kg | AN37: 40 | AO37: =AN37*J37 -> 0
M38: =L38*#REF! -> #REF! | T38: =S38*#REF! -> #REF! | V38: 紅蘿蔔 | W38: 小丁 | X38: 0.1 | Y38: kg | Z38: 35 | AA38: =Z38*X38 -> 3.5 | AH38: =AG38*#REF! -> #REF! | AJ38: 冬粉 | AL38: 0.6 | AM38: kg | AN38: 110 | AO38: =AN38*J38 -> 0
M39: =L39*#REF! -> #REF! | T39: =S39*#REF! -> #REF! | V39: 素玉米濃湯粉 | X39: 2 | Y39: 包 | Z39: 45 | AA39: =Z39*X39 -> 90 | AH39: =AG39*#REF! -> #REF! | AJ39: 百頁豆腐 | AL39: 0.3 | AM39: kg | AN39: 95 | AO39: =AN39*J39 -> 0
M40: =L40*#REF! -> #REF! | T40: =S40*#REF! -> #REF! | V40: 康寶濃湯 | AA40: =Z40*X40 -> 0 | AH40: =AG40*#REF! -> #REF! | AO40: =AN40*J40 -> 0
M41: =L41*#REF! -> #REF! | T41: =S41*#REF! -> #REF! | AA41: =Z41*X41 -> 0 | AH41: =AG41*#REF! -> #REF! | AO41: =AN41*J41 -> 0
M42: =L42*#REF! -> #REF! | T42: =S42*#REF! -> #REF! | AA42: =Z42*X42 -> 0 | AH42: =AG42*#REF! -> #REF! | AO42: =AN42*J42 -> 0
M43: =L43*#REF! -> #REF! | T43: =S43*#REF! -> #REF! | AA43: =Z43*X43 -> 0 | AH43: =AG43*#REF! -> #REF! | AO43: =AN43*J43 -> 0
M44: =L44*#REF! -> #REF! | T44: =S44*#REF! -> #REF! | AA44: =Z44*X44 -> 0 | AH44: =AG44*#REF! -> #REF! | AO44: =AN44*J44 -> 0
M45: =L45*#REF! -> #REF! | T45: =S45*#REF! -> #REF! | AA45: =Z45*X45 -> 0 | AH45: =AG45*#REF! -> #REF! | AO45: =AN45*J45 -> 0
M46: =L46*#REF! -> #REF! | T46: =S46*#REF! -> #REF! | AA46: =Z46*X46 -> 0 | AH46: =AG46*#REF! -> #REF! | AO46: =AN46*J46 -> 0
M47: =L47*#REF! -> #REF! | T47: =S47*#REF! -> #REF! | AA47: =Z47*X47 -> 0 | AH47: =AG47*#REF! -> #REF! | AO47: =AN47*J47 -> 0
M48: =L48*#REF! -> #REF! | T48: =S48*#REF! -> #REF! | AA48: =Z48*X48 -> 0 | AH48: =AG48*#REF! -> #REF! | AO48: =AN48*J48 -> 0
A49: 主菜二 | M49: =L49*Q49 -> 0 | T49: =S49*J49 -> 0 | AA49: =Z49*X49 -> 0 | AH49: =AG49*AE49 -> 0 | AO49: =AN49*AL49 -> 0
M50: =L50*Q50 -> 0 | T50: =S50*J50 -> 0 | AA50: =Z50*X50 -> 0 | AH50: =AG50*AE50 -> 0 | AO50: =AN50*AL50 -> 0
M51: =L51*Q51 -> 0 | T51: =S51*J51 -> 0 | AA51: =Z51*X51 -> 0 | AH51: =AG51*AE51 -> 0 | AO51: =AN51*AL51 -> 0
M52: =L52*Q52 -> 0 | T52: =S52*J52 -> 0 | AA52: =Z52*X52 -> 0 | AH52: =AG52*AE52 -> 0 | AO52: =AN52*AL52 -> 0
M53: =L53*Q53 -> 0 | T53: =S53*J53 -> 0 | AA53: =Z53*X53 -> 0 | AH53: =AG53*AE53 -> 0 | AO53: =AN53*AL53 -> 0
M54: =L54*Q54 -> 0 | T54: =S54*J54 -> 0 | AA54: =Z54*X54 -> 0 | AH54: =AG54*AE54 -> 0 | AO54: =AN54*AL54 -> 0
M55: =L55*Q55 -> 0 | T55: =S55*J55 -> 0 | AA55: =Z55*X55 -> 0 | AH55: =AG55*AE55 -> 0 | AO55: =AN55*AL55 -> 0
M56: =L56*Q56 -> 0 | T56: =S56*J56 -> 0 | AA56: =Z56*X56 -> 0 | AH56: =AG56*AE56 -> 0 | AO56: =AN56*AL56 -> 0
M57: =L57*Q57 -> 0 | T57: =S57*J57 -> 0 | AA57: =Z57*X57 -> 0 | AH57: =AG57*AE57 -> 0 | AO57: =AN57*AL57 -> 0
M58: =L58*Q58 -> 0 | T58: =S58*J58 -> 0 | AA58: =Z58*X58 -> 0 | AH58: =AG58*AE58 -> 0 | AO58: =AN58*AL58 -> 0
M59: =L59*Q59 -> 0 | T59: =S59*J59 -> 0 | AA59: =Z59*X59 -> 0 | AH59: =AG59*AE59 -> 0 | AO59: =AN59*AL59 -> 0
M60: =L60*Q60 -> 0 | T60: =S60*J60 -> 0 | AA60: =Z60*X60 -> 0 | AH60: =AG60*AE60 -> 0 | AO60: =AN60*AL60 -> 0
M61: =L61*Q61 -> 0 | T61: =S61*J61 -> 0 | AA61: =Z61*X61 -> 0 | AH61: =AG61*AE61 -> 0 | AO61: =AN61*AL61 -> 0
... M63: =L63*Q63 -> 0 | T63: =S63*J63 -> 0 | AA63: =Z63*X63 -> 0 | AH63: =AG63*AE63 -> 0 | AO63: =AN63*AL63 -> 0
A64: 主菜三 | M64: =L64*Q64 -> 0 | T64: =S64*J64 -> 0 | AA64: =Z64*X64 -> 0 | AH64: =AG64*AE64 -> 0 | AO64: =AN64*AL64 -> 0
M65: =L65*Q65 -> 0 | T65: =S65*J65 -> 0 | AA65: =Z65*X65 -> 0 | AH65: =AG65*AE65 -> 0 | AO65: =AN65*AL65 -> 0
M66: =L66*Q66 -> 0 | T66: =S66*J66 -> 0 | AA66: =Z66*X66 -> 0 | AH66: =AG66*AE66 -> 0 | AO66: =AN66*AL66 -> 0
M67: =L67*Q67 -> 0 | T67: =S67*J67 -> 0 | AA67: =Z67*X67 -> 0 | AH67: =AG67*AE67 -> 0 | AO67: =AN67*AL67 -> 0
M68: =L68*Q68 -> 0 | T68: =S68*J68 -> 0 | AA68: =Z68*X68 -> 0 | AH68: =AG68*AE68 -> 0 | AO68: =AN68*AL68 -> 0
M69: =L69*Q69 -> 0 | T69: =S69*J69 -> 0 | AA69: =Z69*X69 -> 0 | AH69: =AG69*AE69 -> 0 | AO69: =AN69*AL69 -> 0
M70: =L70*Q70 -> 0 | T70: =S70*J70 -> 0 | AA70: =Z70*X70 -> 0 | AH70: =AG70*AE70 -> 0 | AO70: =AN70*AL70 -> 0
M71: =L71*Q71 -> 0 | T71: =S71*J71 -> 0 | AA71: =Z71*X71 -> 0 | AH71: =AG71*AE71 -> 0 | AO71: =AN71*AL71 -> 0
M72: =L72*Q72 -> 0 | T72: =S72*J72 -> 0 | AA72: =Z72*X72 -> 0 | AH72: =AG72*AE72 -> 0 | AO72: =AN72*AL72 -> 0
M73: =L73*Q73 -> 0 | T73: =S73*J73 -> 0 | AA73: =Z73*X73 -> 0 | AH73: =AG73*AE73 -> 0 | AO73: =AN73*AL73 -> 0
M74: =L74*Q74 -> 0 | T74: =S74*J74 -> 0 | AA74: =Z74*X74 -> 0 | AH74: =AG74*AE74 -> 0 | AO74: =AN74*AL74 -> 0
M75: =L75*Q75 -> 0 | T75: =S75*J75 -> 0 | AA75: =Z75*X75 -> 0 | AH75: =AG75*AE75 -> 0 | AO75: =AN75*AL75 -> 0
M76: =L76*Q76 -> 0 | T76: =S76*J76 -> 0 | AA76: =Z76*X76 -> 0 | AH76: =AG76*AE76 -> 0 | AO76: =AN76*AL76 -> 0
... M78: =L78*Q78 -> 0 | T78: =S78*J78 -> 0 | AA78: =Z78*X78 -> 0 | AH78: =AG78*AE78 -> 0 | AO78: =AN78*AL78 -> 0
A79: 主菜四 | M79: =L79*Q79 -> 0 | T79: =S79*J79 -> 0 | AA79: =Z79*X79 -> 0 | AH79: =AG79*AE79 -> 0 | AO79: =AN79*AL79 -> 0
M80: =L80*Q80 -> 0 | T80: =S80*J80 -> 0 | AA80: =Z80*X80 -> 0 | AH80: =AG80*AE80 -> 0 | AO80: =AN80*AL80 -> 0
M81: =L81*Q81 -> 0 | T81: =S81*J81 -> 0 | AA81: =Z81*X81 -> 0 | AH81: =AG81*AE81 -> 0 | AO81: =AN81*AL81 -> 0
M82: =L82*Q82 -> 0 | T82: =S82*J82 -> 0 | AA82: =Z82*X82 -> 0 | AH82: =AG82*AE82 -> 0 | AO82: =AN82*AL82 -> 0
M83: =L83*Q83 -> 0 | T83: =S83*J83 -> 0 | AA83: =Z83*X83 -> 0 | AH83: =AG83*AE83 -> 0 | AO83: =AN83*AL83 -> 0
M84: =L84*Q84 -> 0 | T84: =S84*J84 -> 0 | AA84: =Z84*X84 -> 0 | AH84: =AG84*AE84 -> 0 | AO84: =AN84*AL84 -> 0
M85: =L85*Q85 -> 0 | T85: =S85*J85 -> 0 | AA85: =Z85*X85 -> 0 | AH85: =AG85*AE85 -> 0 | AO85: =AN85*AL85 -> 0
M86: =L86*Q86 -> 0 | T86: =S86*J86 -> 0 | AA86: =Z86*X86 -> 0 | AH86: =AG86*AE86 -> 0 | AO86: =AN86*AL86 -> 0
M87: =L87*Q87 -> 0 | T87: =S87*J87 -> 0 | AA87: =Z87*X87 -> 0 | AH87: =AG87*AE87 -> 0 | AO87: =AN87*AL87 -> 0
M88: =L88*Q88 -> 0 | T88: =S88*J88 -> 0 | AA88: =Z88*X88 -> 0 | AH88: =AG88*AE88 -> 0 | AO88: =AN88*AL88 -> 0
M89: =L89*Q89 -> 0 | T89: =S89*J89 -> 0 | AA89: =Z89*X89 -> 0 | AH89: =AG89*AE89 -> 0 | AO89: =AN89*AL89 -> 0
M90: =L90*Q90 -> 0 | T90: =S90*J90 -> 0 | AA90: =Z90*X90 -> 0 | AH90: =AG90*AE90 -> 0 | AO90: =AN90*AL90 -> 0
M91: =L91*Q91 -> 0 | T91: =S91*J91 -> 0 | AA91: =Z91*X91 -> 0 | AH91: =AG91*AE91 -> 0 | AO91: =AN91*AL91 -> 0
... M93: =L93*Q93 -> 0 | T93: =S93*J93 -> 0 | AA93: =Z93*X93 -> 0 | AH93: =AG93*AE93 -> 0 | AO93: =AN93*AL93 -> 0
A94: 副菜 | G94: 鮮菇豆腐煲 | H94: 雪白菇 | J94: 0.4 | K94: kg | L94: 35 | M94: =L94*#REF! -> #REF! | N94: 菇菇炒蛋 | O94: 洗選蛋Q | Q94: 1 | R94: kg | S94: 35 | T94: =S94*#REF! -> #REF! | U94: 菜包 | V94: 菜包 | W94: 好麥 | X94: 22 | Y94: 個 | Z94: 180 | AA94: =Z94*X94 -> 3960 | AB94: 家常豆腐 | AC94: 板豆腐 | AD94: 1.2k | AE94: 2 | AF94: 盒 | AG94: 150 | AH94: =AG94*AE94 -> 300 | AI94: 花椰菜炒鮮魷 | AJ94: 綠花椰菜 | AK94: 冷凍 | AL94: 2 | AM94: kg | AN94: 85 | AO94: =AN94*#REF! -> #REF!
H95: 鴻喜菇 | J95: 0.4 | K95: kg | L95: 150 | M95: =L95*#REF! -> #REF! | O95: 鴻喜菇 | Q95: 0.1 | R95: kg | S95: 35 | T95: =S95*#REF! -> #REF! | V95: 備份 | X95: 3 | Y95: 個 | Z95: 45 | AA95: =Z95*X95 -> 135 | AC95: 鮮香菇 | AD95: 小朵 | AE95: 0.2 | AF95: kg | AG95: 150 | AH95: =AG95*AE95 -> 30 | AJ95: 素茶鵝 | AL95: 1 | AM95: 條 | AN95: 35 | AO95: =AN95*#REF! -> #REF!
H96: 板豆腐 | I96: 2盒 | J96: 1.2 | K96: kg | L96: 65 | M96: =L96*#REF! -> #REF! | S96: 135 | T96: =S96*#REF! -> #REF! | AA96: =Z96*X96 -> 0 | AC96: 素肉燥 | AE96: 1 | AF96: 小包 | AG96: 80 | AH96: =AG96*AE96 -> 80 | AJ96: 紅蘿蔔 | AK96: 絲 | AL96: 0.1 | AM96: kg | AO96: =AN96*#REF! -> #REF!
H97: 素火腿 | I97: 小丁 | J97: 0.6 | K97: kg | L97: 35 | M97: =L97*#REF! -> #REF! | S97: 120 | T97: =S97*#REF! -> #REF! | AA97: =Z97*X97 -> 0 | AC97: 玉米粒 | AE97: 0.3 | AF97: kg | AG97: 35 | AH97: =AG97*AE97 -> 10.5 | AJ97: 素皮絲 | AK97: 濕切 | AL97: 0.2 | AM97: kg | AO97: =AN97*#REF! -> #REF!
H98: 三色豆 | J98: 0.2 | K98: kg | L98: 420 | M98: =L98*#REF! -> #REF! | T98: =S98*#REF! -> #REF! | AA98: =Z98*X98 -> 0 | AC98: 紅蘿蔔 | AD98: 小丁 | AE98: 0.1 | AF98: kg | AH98: =AG98*AE98 -> 0 | AJ98: 薑絲 | AO98: =AN98*#REF! -> #REF!
M99: =L99*#REF! -> #REF! | T99: =S99*#REF! -> #REF! | AA99: =Z99*X99 -> 0 | AH99: =AG99*AE99 -> 0 | AO99: =AN99*#REF! -> #REF!
M100: =L100*#REF! -> #REF! | T100: =S100*#REF! -> #REF! | AA100: =Z100*X100 -> 0 | AH100: =AG100*AE100 -> 0 | AO100: =AN100*#REF! -> #REF!
M101: =L101*#REF! -> #REF! | T101: =S101*#REF! -> #REF! | AA101: =Z101*X101 -> 0 | AH101: =AG101*AE101 -> 0 | AO101: =AN101*#REF! -> #REF!
M102: =L102*#REF! -> #REF! | T102: =S102*#REF! -> #REF! | AA102: =Z102*X102 -> 0 | AH102: =AG102*AE102 -> 0 | AO102: =AN102*#REF! -> #REF!
M103: =L103*#REF! -> #REF! | T103: =S103*#REF! -> #REF! | AA103: =Z103*X103 -> 0 | AH103: =AG103*AE103 -> 0 | AO103: =AN103*#REF! -> #REF!
M104: =L104*#REF! -> #REF! | T104: =S104*#REF! -> #REF! | AA104: =Z104*X104 -> 0 | AH104: =AG104*AE104 -> 0 | AO104: =AN104*#REF! -> #REF!
M105: =L105*#REF! -> #REF! | T105: =S105*#REF! -> #REF! | AA105: =Z105*X105 -> 0 | AH105: =AG105*AE105 -> 0 | AO105: =AN105*#REF! -> #REF!
M106: =L106*#REF! -> #REF! | T106: =S106*#REF! -> #REF! | AA106: =Z106*X106 -> 0 | AH106: =AG106*AE106 -> 0 | AO106: =AN106*#REF! -> #REF!
M107: =L107*#REF! -> #REF! | T107: =S107*#REF! -> #REF! | AA107: =Z107*X107 -> 0 | AH107: =AG107*AE107 -> 0 | AO107: =AN107*#REF! -> #REF!
M108: =L108*#REF! -> #REF! | T108: =S108*#REF! -> #REF! | AA108: =Z108*X108 -> 0 | AH108: =AG108*AE108 -> 0 | AO108: =AN108*#REF! -> #REF!
A109: 副菜二 | M109: =L109*Q109 -> 0 | T109: =S109*J109 -> 0 | AA109: =Z109*X109 -> 0 | AH109: =AG109*AE109 -> 0 | AO109: =AN109*AL109 -> 0
M110: =L110*Q110 -> 0 | T110: =S110*J110 -> 0 | AA110: =Z110*X110 -> 0 | AH110: =AG110*AE110 -> 0 | AO110: =AN110*AL110 -> 0
M111: =L111*Q111 -> 0 | T111: =S111*J111 -> 0 | AA111: =Z111*X111 -> 0 | AH111: =AG111*AE111 -> 0 | AO111: =AN111*AL111 -> 0
M112: =L112*Q112 -> 0 | T112: =S112*J112 -> 0 | AA112: =Z112*X112 -> 0 | AH112: =AG112*AE112 -> 0 | AO112: =AN112*AL112 -> 0
M113: =L113*Q113 -> 0 | T113: =S113*J113 -> 0 | AA113: =Z113*X113 -> 0 | AH113: =AG113*AE113 -> 0 | AO113: =AN113*AL113 -> 0
M114: =L114*Q114 -> 0 | T114: =S114*J114 -> 0 | AA114: =Z114*X114 -> 0 | AH114: =AG114*AE114 -> 0 | AO114: =AN114*AL114 -> 0
M115: =L115*Q115 -> 0 | T115: =S115*J115 -> 0 | AA115: =Z115*X115 -> 0 | AH115: =AG115*AE115 -> 0 | AO115: =AN115*AL115 -> 0
M116: =L116*Q116 -> 0 | T116: =S116*J116 -> 0 | AA116: =Z116*X116 -> 0 | AH116: =AG116*AE116 -> 0 | AO116: =AN116*AL116 -> 0
M117: =L117*Q117 -> 0 | T117: =S117*J117 -> 0 | AA117: =Z117*X117 -> 0 | AH117: =AG117*AE117 -> 0 | AO117: =AN117*AL117 -> 0
M118: =L118*Q118 -> 0 | T118: =S118*J118 -> 0 | AA118: =Z118*X118 -> 0 | AH118: =AG118*AE118 -> 0 | AO118: =AN118*AL118 -> 0
M119: =L119*Q119 -> 0 | T119: =S119*J119 -> 0 | AA119: =Z119*X119 -> 0 | AH119: =AG119*AE119 -> 0 | AO119: =AN119*AL119 -> 0
M120: =L120*Q120 -> 0 | T120: =S120*J120 -> 0 | AA120: =Z120*X120 -> 0 | AH120: =AG120*AE120 -> 0 | AO120: =AN120*AL120 -> 0
M121: =L121*Q121 -> 0 | T121: =S121*J121 -> 0 | AA121: =Z121*X121 -> 0 | AH121: =AG121*AE121 -> 0 | AO121: =AN121*AL121 -> 0
... M123: =L123*Q123 -> 0 | T123: =S123*J123 -> 0 | AA123: =Z123*X123 -> 0 | AH123: =AG123*AE123 -> 0 | AO123: =AN123*AL123 -> 0
A124: 副菜三 | M124: =L124*Q124 -> 0 | T124: =S124*J124 -> 0 | AA124: =Z124*X124 -> 0 | AH124: =AG124*AE124 -> 0 | AO124: =AN124*AL124 -> 0
M125: =L125*Q125 -> 0 | T125: =S125*J125 -> 0 | AA125: =Z125*X125 -> 0 | AH125: =AG125*AE125 -> 0 | AO125: =AN125*AL125 -> 0
M126: =L126*Q126 -> 0 | T126: =S126*J126 -> 0 | AA126: =Z126*X126 -> 0 | AH126: =AG126*AE126 -> 0 | AO126: =AN126*AL126 -> 0
M127: =L127*Q127 -> 0 | T127: =S127*J127 -> 0 | AA127: =Z127*X127 -> 0 | AH127: =AG127*AE127 -> 0 | AO127: =AN127*AL127 -> 0
M128: =L128*Q128 -> 0 | T128: =S128*J128 -> 0 | AA128: =Z128*X128 -> 0 | AH128: =AG128*AE128 -> 0 | AO128: =AN128*AL128 -> 0
M129: =L129*Q129 -> 0 | T129: =S129*J129 -> 0 | AA129: =Z129*X129 -> 0 | AH129: =AG129*AE129 -> 0 | AO129: =AN129*AL129 -> 0
M130: =L130*Q130 -> 0 | T130: =S130*J130 -> 0 | AA130: =Z130*X130 -> 0 | AH130: =AG130*AE130 -> 0 | AO130: =AN130*AL130 -> 0
M131: =L131*Q131 -> 0 | T131: =S131*J131 -> 0 | AA131: =Z131*X131 -> 0 | AH131: =AG131*AE131 -> 0 | AO131: =AN131*AL131 -> 0
M132: =L132*Q132 -> 0 | T132: =S132*J132 -> 0 | AA132: =Z132*X132 -> 0 | AH132: =AG132*AE132 -> 0 | AO132: =AN132*AL132 -> 0
...

Sheet Week_4
A1: 嘉義市東區民族國小 2025年6月4週午餐菜單
B2: 44633 | D2: 日 | F2: 人 | G2: 45831 | I2: 一 | J2: 621 | K2: 人 | N2: =G2+1 -> 45832 | P2: 二 | Q2: 621 | R2: 人 | U2: =N2+1 -> 45833 | W2: 三 | X2: 621 | Y2: 人 | AB2: =U2+1 -> 45834 | AD2: 四 | AE2: 621 | AF2: 人 | AI2: =AB2+1 -> 45835 | AK2: 五 | AL2: 621 | AM2: 人
B3: 菜名 | C3: 食材 | D3: 規格 | E3: 數量 | F3: 單位 | G3: 菜名 | H3: 食材 | I3: 規格 | J3: 數量 | K3: 單位 | N3: 菜名 | O3: 食材 | P3: 規格 | Q3: 數量 | R3: 單位 | U3: 菜名 | V3: 食材 | W3: 規格 | X3: 數量 | Y3: 單位 | AB3: 菜名 | AC3: 食材 | AD3: 規格 | AE3: 數量 | AF3: 單位 | AI3: 菜名 | AJ3: 食材 | AK3: 規格 | AL3: 數量 | AM3: 單位
A4: 主食 | G4: 薏仁飯 | N4: 有機米 | U4: 麵食 | AB4: 白米飯 | AI4: 五穀米
A19: 主食二
A34: 主菜 | G34: 奶油白菜雞 | H34: 腿丁 | J34: 42 | K34: kg | L34: 190 | M34: =L34*J34 -> 7980 | N34: 南瓜燒肉 | O34: 肉丁 | Q34: 36 | R34: kg | S34: 210 | T34: =S34*Q34 -> 7560 | U34: 紅燒豬肉麵 | V34: 肉丁 | X34: 27 | Y34: kg | Z34: 210 | AA34: =Z34*X34 -> 5670 | AB34: 蔭鳳梨蒸魚 | AC34: 旗魚片 | AD34: 66g | AE34: 621 | AF34: 片 | AG34: 14 | AH34: =AG34*AE34 -> 8694 | AI34: 鹹水雞 | AJ34: 去骨雞腿丁 | AL34: 43 | AM34: kg | AN34: 220 | AO34: =AN34*AL34 -> 9460
H35: 大白菜 | I35: 段 | J35: 18 | K35: kg | L35: 40 | M35: =L35*J35 -> 720 | O35: 南瓜大丁(手切) | P35: 新鮮 | Q35: 12 | R35: kg | S35: 50 | T35: =S35*Q35 -> 600 | V35: 白蘿蔔 | W35: 大丁 | X35: 18 | Y35: kg | Z35: 40 | AA35: =Z35*X35 -> 720 | AC35: 備 | AE35: 10 | AF35: 片 | AH35: =AG35*AE35 -> 0 | AJ35: 脆筍片 | AL35: 11 | AM35: kg | AN35: 75 | AO35: =AN35*AL35 -> 825
H36: 金針菇 | I36: 段 | J36: 4 | K36: kg | L36: 100 | M36: =L36*J36 -> 400 | O36: 薑片 | Q36: 1 | R36: 斤 | S36: 120 | T36: =S36*Q36 -> 120 | V36: 紅蘿蔔 | W36: 大丁 | X36: 3 | Y36: kg | Z36: 40 | AA36: =Z36*X36 -> 120 | AC36: 辣椒 | AE36: 0.2 | AF36: kg | AG36: 150 | AH36: =AG36*AE36 -> 30 | AJ36: 玉米筍段 | AL36: 4 | AM36: kg | AN36: 300 | AO36: =AN36*AL36 -> 1200
H37: 蒜末 | J37: 1 | K37: kg | L37: 230 | M37: =L37*J37 -> 230 | O37: 洋蔥小丁 | Q37: 4 | R37: kg | S37: 60 | T37: =S37*Q37 -> 240 | V37: 洋蔥 | W37: 大丁 | X37: 9 | Y37: kg | Z37: 60 | AA37: =Z37*X37 -> 540 | AC37: 薑絲 | AE37: 3 | AF37: 斤 | AG37: 120 | AH37: =AG37*AE37 -> 360 | AJ37: 鮮木耳片 | AL37: 3 | AM37: kg | AN37: 130 | AO37: =AN37*AL37 -> 390
H38: 玉米濃湯粉 | I38: 1k | J38: 3 | K38: 包 | L38: 180 | M38: =L38*J38 -> 540 | T38: =S38*Q38 -> 0 | V38: 番茄 | W38: 大丁 | X38: 9 | Y38: kg | Z38: 80 | AA38: =Z38*X38 -> 720 | AC38: 蔭鳳梨 | AD38: 3k | AE38: 1 | AF38: 大桶 | AG38: 300 | AH38: =AG38*AE38 -> 300 | AJ38: 杏鮑菇大丁 | AK38: 3*3 | AL38: 4 | AM38: kg | AN38: 130 | AO38: =AN38*AL38 -> 520
M39: =L39*J39 -> 0 | T39: =S39*Q39 -> 0 | V39: 牛肉滷包 | W39: 3k | X39: 7 | Y39: 包 | Z39: 80 | AA39: =Z39*X39 -> 560 | AH39: =AG39*AE39 -> 0 | AJ39: 四季豆段 | AL39: 4 | AM39: kg | AN39: 130 | AO39: =AN39*AL39 -> 520
M40: =L40*J40 -> 0 | T40: =S40*Q40 -> 0 | V40: 不辣豆瓣醬 | W40: 3k | X40: 1 | Y40: 罐 | Z40: 380 | AA40: =Z40*X40 -> 380 | AH40: =AG40*AE40 -> 0 | AJ40: 新鮮檸檬汁 | AK40: 750c.c | AL40: 1 | AM40: 瓶 | AN40: 120 | AO40: =AN40*AL40 -> 120
H41: 薏仁 | I41: 6/23 | J41: 4 | K41: kg | L41: 100 | M41: =L41*J41 -> 400 | T41: =S41*Q41 -> 0 | V41: 烏龍麵-細 | X41: 140 | Y41: 斤 | Z41: 27 | AA41: =Z41*X41 -> 3780 | AH41: =AG41*AE41 -> 0 | AJ41: 五穀米*含紫米 | AK41: 提前送 | AL41: 4 | AM41: kg | AN41: 120 | AO41: =AN41*AL41 -> 480
M42: =L42*J42 -> 0 | T42: =S42*Q42 -> 0 | AA42: =Z42*X42 -> 0 | AH42: =AG42*AE42 -> 0 | AO42: =AN42*AL42 -> 0
M43: =L43*J43 -> 0 | T43: =S43*Q43 -> 0 | AA43: =Z43*X43 -> 0 | AH43: =AG43*AE43 -> 0 | AO43: =AN43*AL43 -> 0
M44: =L44*J44 -> 0 | T44: =S44*Q44 -> 0 | AA44: =Z44*X44 -> 0 | AH44: =AG44*AE44 -> 0 | AO44: =AN44*AL44 -> 0
M45: =L45*J45 -> 0 | T45: =S45*Q45 -> 0 | AA45: =Z45*X45 -> 0 | AH45: =AG45*AE45 -> 0 | AO45: =AN45*AL45 -> 0
M46: =L46*J46 -> 0 | T46: =S46*Q46 -> 0 | AA46: =Z46*X46 -> 0 | AH46: =AG46*AE46 -> 0 | AO46: =AN46*AL46 -> 0
M47: =L47*J47 -> 0 | T47: =S47*Q47 -> 0 | AA47: =Z47*X47 -> 0 | AH47: =AG47*AE47 -> 0 | AO47: =AN47*AL47 -> 0
M48: =L48*J48 -> 0 | T48: =S48*Q48 -> 0 | AA48: =Z48*X48 -> 0 | AH48: =AG48*AE48 -> 0 | AO48: =AN48*AL48 -> 0
A49: 主菜二 | H49: 小烏龍麵 | J49: -1244 | K49: kg | M49: =L49*J49 -> 0 | T49: =S49*Q49 -> 0 | AA49: =Z49*X49 -> 0 | AH49: =AG49*AE49 -> 0 | AO49: =AN49*AL49 -> 0
H50: 毛豆仁 | J50: -1422 | K50: kg | M50: =L50*J50 -> 0 | T50: =S50*Q50 -> 0 | AA50: =Z50*X50 -> 0 | AH50: =AG50*AE50 -> 0 | AO50: =AN50*AL50 -> 0
H51: 小烏龍麵 | J51: -1600 | K51: kg | M51: =L51*J51 -> 0 | T51: =S51*Q51 -> 0 | AA51: =Z51*X51 -> 0 | AH51: =AG51*AE51 -> 0 | AO51: =AN51*AL51 -> 0
H52: 毛豆仁 | J52: -1778 | K52: kg | M52: =L52*J52 -> 0 | T52: =S52*Q52 -> 0 | AA52: =Z52*X52 -> 0 | AH52: =AG52*AE52 -> 0 | AO52: =AN52*AL52 -> 0
H53: 小烏龍麵 | J53: -1956 | K53: kg | M53: =L53*J53 -> 0 | T53: =S53*Q53 -> 0 | AA53: =Z53*X53 -> 0 | AH53: =AG53*AE53 -> 0 | AO53: =AN53*AL53 -> 0
H54: 毛豆仁 | J54: -2134 | K54: kg | M54: =L54*J54 -> 0 | T54: =S54*Q54 -> 0 | AA54: =Z54*X54 -> 0 | AH54: =AG54*AE54 -> 0 | AO54: =AN54*AL54 -> 0
H55: 小烏龍麵 | J55: -2312 | K55: kg | M55: =L55*J55 -> 0 | T55: =S55*Q55 -> 0 | AA55: =Z55*X55 -> 0 | AH55: =AG55*AE55 -> 0 | AO55: =AN55*AL55 -> 0
H56: 毛豆仁 | J56: -2490 | K56: kg | M56: =L56*J56 -> 0 | T56: =S56*Q56 -> 0 | AA56: =Z56*X56 -> 0 | AH56: =AG56*AE56 -> 0 | AO56: =AN56*AL56 -> 0
H57: 小烏龍麵 | J57: -2668 | K57: kg | M57: =L57*J57 -> 0 | T57: =S57*Q57 -> 0 | AA57: =Z57*X57 -> 0 | AH57: =AG57*AE57 -> 0 | AO57: =AN57*AL57 -> 0
H58: 毛豆仁 | J58: -2846 | K58: kg | M58: =L58*J58 -> 0 | T58: =S58*Q58 -> 0 | AA58: =Z58*X58 -> 0 | AH58: =AG58*AE58 -> 0 | AO58: =AN58*AL58 -> 0
H59: 小烏龍麵 | J59: -3024 | K59: kg | M59: =L59*J59 -> 0 | T59: =S59*Q59 -> 0 | AA59: =Z59*X59 -> 0 | AH59: =AG59*AE59 -> 0 | AO59: =AN59*AL59 -> 0
H60: 毛豆仁 | J60: -3202 | K60: kg | M60: =L60*J60 -> 0 | T60: =S60*Q60 -> 0 | AA60: =Z60*X60 -> 0 | AH60: =AG60*AE60 -> 0 | AO60: =AN60*AL60 -> 0
H61: 小烏龍麵 | J61: -3380 | K61: kg | M61: =L61*J61 -> 0 | T61: =S61*Q61 -> 0 | AA61: =Z61*X61 -> 0 | AH61: =AG61*AE61 -> 0 | AO61: =AN61*AL61 -> 0
... H63: 小烏龍麵 | J63: -3736 | K63: kg | M63: =L63*J63 -> 0 | T63: =S63*Q63 -> 0 | AA63: =Z63*X63 -> 0 | AH63: =AG63*AE63 -> 0 | AO63: =AN63*AL63 -> 0
A64: 主菜三 | H64: 毛豆仁 | J64: -3914 | K64: kg | M64: =L64*J64 -> 0 | T64: =S64*Q64 -> 0 | AA64: =Z64*X64 -> 0 | AH64: =AG64*AE64 -> 0 | AO64: =AN64*AL64 -> 0
H65: 小烏龍麵 | J65: -4092 | K65: kg | M65: =L65*J65 -> 0 | T65: =S65*Q65 -> 0 | AA65: =Z65*X65 -> 0 | AH65: =AG65*AE65 -> 0 | AO65: =AN65*AL65 -> 0
H66: 毛豆仁 | J66: -4270 | K66: kg | M66: =L66*J66 -> 0 | T66: =S66*Q66 -> 0 | AA66: =Z66*X66 -> 0 | AH66: =AG66*AE66 -> 0 | AO66: =AN66*AL66 -> 0
H67: 小烏龍麵 | J67: -4448 | K67: kg | M67: =L67*J67 -> 0 | T67: =S67*Q67 -> 0 | AA67: =Z67*X67 -> 0 | AH67: =AG67*AE67 -> 0 | AO67: =AN67*AL67 -> 0
H68: 毛豆仁 | J68: -4626 | K68: kg | M68: =L68*J68 -> 0 | T68: =S68*Q68 -> 0 | AA68: =Z68*X68 -> 0 | AH68: =AG68*AE68 -> 0 | AO68: =AN68*AL68 -> 0
H69: 小烏龍麵 | J69: -4804 | K69: kg | M69: =L69*J69 -> 0 | T69: =S69*Q69 -> 0 | AA69: =Z69*X69 -> 0 | AH69: =AG69*AE69 -> 0 | AO69: =AN69*AL69 -> 0
H70: 毛豆仁 | J70: -4982 | K70: kg | M70: =L70*J70 -> 0 | T70: =S70*Q70 -> 0 | AA70: =Z70*X70 -> 0 | AH70: =AG70*AE70 -> 0 | AO70: =AN70*AL70 -> 0
H71: 小烏龍麵 | J71: -5160 | K71: kg | M71: =L71*J71 -> 0 | T71: =S71*Q71 -> 0 | AA71: =Z71*X71 -> 0 | AH71: =AG71*AE71 -> 0 | AO71: =AN71*AL71 -> 0
H72: 毛豆仁 | J72: -5338 | K72: kg | M72: =L72*J72 -> 0 | T72: =S72*Q72 -> 0 | AA72: =Z72*X72 -> 0 | AH72: =AG72*AE72 -> 0 | AO72: =AN72*AL72 -> 0
H73: 小烏龍麵 | J73: -5516 | K73: kg | M73: =L73*J73 -> 0 | T73: =S73*Q73 -> 0 | AA73: =Z73*X73 -> 0 | AH73: =AG73*AE73 -> 0 | AO73: =AN73*AL73 -> 0
H74: 毛豆仁 | J74: -5694 | K74: kg | M74: =L74*J74 -> 0 | T74: =S74*Q74 -> 0 | AA74: =Z74*X74 -> 0 | AH74: =AG74*AE74 -> 0 | AO74: =AN74*AL74 -> 0
H75: 小烏龍麵 | J75: -5872 | K75: kg | M75: =L75*J75 -> 0 | T75: =S75*Q75 -> 0 | AA75: =Z75*X75 -> 0 | AH75: =AG75*AE75 -> 0 | AO75: =AN75*AL75 -> 0
H76: 毛豆仁 | J76: -6050 | K76: kg | M76: =L76*J76 -> 0 | T76: =S76*Q76 -> 0 | AA76: =Z76*X76 -> 0 | AH76: =AG76*AE76 -> 0 | AO76: =AN76*AL76 -> 0
... H78: 毛豆仁 | J78: -6406 | K78: kg | M78: =L78*J78 -> 0 | T78: =S78*Q78 -> 0 | AA78: =Z78*X78 -> 0 | AH78: =AG78*AE78 -> 0 | AO78: =AN78*AL78 -> 0
A79: 主菜四 | H79: 小烏龍麵 | J79: -6584 | K79: kg | M79: =L79*J79 -> 0 | T79: =S79*Q79 -> 0 | AA79: =Z79*X79 -> 0 | AH79: =AG79*AE79 -> 0 | AO79: =AN79*AL79 -> 0
H80: 毛豆仁 | J80: -6762 | K80: kg | M80: =L80*J80 -> 0 | T80: =S80*Q80 -> 0 | AA80: =Z80*X80 -> 0 | AH80: =AG80*AE80 -> 0 | AO80: =AN80*AL80 -> 0
H81: 小烏龍麵 | J81: -6940 | K81: kg | M81: =L81*J81 -> 0 | T81: =S81*Q81 -> 0 | AA81: =Z81*X81 -> 0 | AH81: =AG81*AE81 -> 0 | AO81: =AN81*AL81 -> 0
H82: 毛豆仁 | J82: -7118 | K82: kg | M82: =L82*J82 -> 0 | T82: =S82*Q82 -> 0 | AA82: =Z82*X82 -> 0 | AH82: =AG82*AE82 -> 0 | AO82: =AN82*AL82 -> 0
H83: 小烏龍麵 | J83: -7296 | K83: kg | M83: =L83*J83 -> 0 | T83: =S83*Q83 -> 0 | AA83: =Z83*X83 -> 0 | AH83: =AG83*AE83 -> 0 | AO83: =AN83*AL83 -> 0
H84: 毛豆仁 | J84: -7474 | K84: kg | M84: =L84*J84 -> 0 | T84: =S84*Q84 -> 0 | AA84: =Z84*X84 -> 0 | AH84: =AG84*AE84 -> 0 | AO84: =AN84*AL84 -> 0
H85: 小烏龍麵 | J85: -7652 | K85: kg | M85: =L85*J85 -> 0 | T85: =S85*Q85 -> 0 | AA85: =Z85*X85 -> 0 | AH85: =AG85*AE85 -> 0 | AO85: =AN85*AL85 -> 0
H86: 毛豆仁 | J86: -7830 | K86: kg | M86: =L86*J86 -> 0 | T86: =S86*Q86 -> 0 | AA86: =Z86*X86 -> 0 | AH86: =AG86*AE86 -> 0 | AO86: =AN86*AL86 -> 0
H87: 小烏龍麵 | J87: -8008 | K87: kg | M87: =L87*J87 -> 0 | T87: =S87*Q87 -> 0 | AA87: =Z87*X87 -> 0 | AH87: =AG87*AE87 -> 0 | AO87: =AN87*AL87 -> 0
H88: 毛豆仁 | J88: -8186 | K88: kg | M88: =L88*J88 -> 0 | T88: =S88*Q88 -> 0 | AA88: =Z88*X88 -> 0 | AH88: =AG88*AE88 -> 0 | AO88: =AN88*AL88 -> 0
H89: 小烏龍麵 | J89: -8364 | K89: kg | M89: =L89*J89 -> 0 | T89: =S89*Q89 -> 0 | AA89: =Z89*X89 -> 0 | AH89: =AG89*AE89 -> 0 | AO89: =AN89*AL89 -> 0
H90: 毛豆仁 | J90: -8542 | K90: kg | M90: =L90*J90 -> 0 | T90: =S90*Q90 -> 0 | AA90: =Z90*X90 -> 0 | AH90: =AG90*AE90 -> 0 | AO90: =AN90*AL90 -> 0
H91: 小烏龍麵 | J91: -8720 | K91: kg | M91: =L91*J91 -> 0 | T91: =S91*Q91 -> 0 | AA91: =Z91*X91 -> 0 | AH91: =AG91*AE91 -> 0 | AO91: =AN91*AL91 -> 0
... H93: 小烏龍麵 | J93: -9076 | K93: kg | M93: =L93*J93 -> 0 | T93: =S93*Q93 -> 0 | AA93: =Z93*X93 -> 0 | AH93: =AG93*AE93 -> 0 | AO93: =AN93*AL93 -> 0
A94: 副菜 | G94: 柴香蒸蛋 | H94: 洗選蛋Q | J94: 33 | K94: kg | L94: 90 | M94: =L94*J94 -> 2970 | N94: 塔香鮑絲 | O94: 白豆干絲 | Q94: 12 | R94: kg | S94: 120 | T94: =S94*Q94 -> 1440 | U94: 小雞塊*2 | V94: 小雞塊 | X94: 1242 | Y94: 個 | Z94: 3 | AA94: =Z94*X94 -> 3726 | AB94: 茄子肉燥豆腐 | AC94: 豆腐 | AD94: 5k | AE94: 7 | AF94: 大板 | AG94: 230 | AH94: =AG94*AE94 -> 1610 | AI94: 刺瓜鳥蛋 | AJ94: 大黃瓜 | AK94: 片 | AL94: 36 | AM94: kg | AN94: 40 | AO94: =AN94*AL94 -> 1440
H95: 鮮香菇 | I95: 片 | J95: 3 | K95: kg | L95: 155 | M95: =L95*J95 -> 465 | O95: 杏鮑菇絲 | Q95: 18 | R95: kg | S95: 130 | T95: =S95*Q95 -> 2340 | V95: 備份 | X95: 10 | Y95: 個 | AA95: =Z95*X95 -> 0 | AC95: 瘦絞肉 | AE95: 6 | AF95: kg | AG95: 180 | AH95: =AG95*AE95 -> 1080 | AJ95: 肉片 | AK95: 切 | AL95: 6 | AM95: kg | AN95: 210 | AO95: =AN95*AL95 -> 1260
H96: 柴魚片 | I96: 150g | J96: 2 | K96: 包 | L96: 180 | M96: =L96*J96 -> 360 | O96: 肉絲 | Q96: 6 | R96: kg | S96: 210 | T96: =S96*Q96 -> 1260 | AA96: =Z96*X96 -> 0 | AC96: 茄子片 | AD96: 3cm | AE96: 4 | AF96: kg | AG96: 60 | AH96: =AG96*AE96 -> 240 | AJ96: 紅蘿蔔 | AK96: 絲 | AL96: 3 | AM96: kg | AN96: 40 | AO96: =AN96*AL96 -> 120
M97: =L97*J97 -> 0 | O97: 紅蘿蔔絲 | Q97: 2 | R97: kg | S97: 40 | T97: =S97*Q97 -> 80 | AA97: =Z97*X97 -> 0 | AC97: 鮮香菇 | AD97: 片 | AE97: 2 | AF97: kg | AG97: 155 | AH97: =AG97*AE97 -> 310 | AJ97: 木耳 | AK97: 絲 | AL97: 2 | AM97: kg | AN97: 130 | AO97: =AN97*AL97 -> 260
M98: =L98*J98 -> 0 | O98: 九層塔 | Q98: 1 | R98: kg | S98: 150 | T98: =S98*Q98 -> 150 | AA98: =Z98*X98 -> 0 | AC98: 蒜末 | AE98: 1 | AF98: kg | AG98: 220 | AH98: =AG98*AE98 -> 220 | AJ98: 鳥蛋 | AK98: 0.9k | AL98: 9 | AM98: 包 | AN98: 250 | AO98: =AN98*AL98 -> 2250
M99: =L99*J99 -> 0 | O99: 薑絲 | Q99: 1 | R99: 包 | S99: 120 | T99: =S99*Q99 -> 120 | AA99: =Z99*X99 -> 0 | AC99: 蔥花 | AE99: 0.5 | AF99: kg | AG99: 95 | AH99: =AG99*AE99 -> 47.5 | AO99: =AN99*AL99 -> 0
M100: =L100*J100 -> 0 | T100: =S100*Q100 -> 0 | AA100: =Z100*X100 -> 0 | AC100: 豆腐 | AD100: 1.2k | AE100: 2 | AF100: 版 | AH100: =AG100*AE100 -> 0 | AO100: =AN100*AL100 -> 0
M101: =L101*J101 -> 0 | T101: =S101*Q101 -> 0 | AA101: =Z101*X101 -> 0 | AH101: =AG101*AE101 -> 0 | AO101: =AN101*AL101 -> 0
M102: =L102*J102 -> 0 | T102: =S102*Q102 -> 0 | AA102: =Z102*X102 -> 0 | AH102: =AG102*AE102 -> 0 | AO102: =AN102*AL102 -> 0
M103: =L103*J103 -> 0 | T103: =S103*Q103 -> 0 | AA103: =Z103*X103 -> 0 | AH103: =AG103*AE103 -> 0 | AO103: =AN103*AL103 -> 0
M104: =L104*J104 -> 0 | T104: =S104*Q104 -> 0 | AA104: =Z104*X104 -> 0 | AH104: =AG104*AE104 -> 0 | AO104: =AN104*AL104 -> 0
M105: =L105*J105 -> 0 | T105: =S105*Q105 -> 0 | AA105: =Z105*X105 -> 0 | AH105: =AG105*AE105 -> 0 | AO105: =AN105*AL105 -> 0
M106: =L106*J106 -> 0 | T106: =S106*Q106 -> 0 | AA106: =Z106*X106 -> 0 | AH106: =AG106*AE106 -> 0 | AO106: =AN106*AL106 -> 0
M107: =L107*J107 -> 0 | T107: =S107*Q107 -> 0 | AA107: =Z107*X107 -> 0 | AH107: =AG107*AE107 -> 0 | AO107: =AN107*AL107 -> 0
M108: =L108*J108 -> 0 | T108: =S108*Q108 -> 0 | AA108: =Z108*X108 -> 0 | AH108: =AG108*AE108 -> 0 | AO108: =AN108*AL108 -> 0
A109: 副菜二 | M109: =L109*J109 -> 0 | T109: =S109*Q109 -> 0 | AA109: =Z109*X109 -> 0 | AH109: =AG109*AE109 -> 0 | AO109: =AN109*AL109 -> 0
M110: =L110*J110 -> 0 | T110: =S110*Q110 -> 0 | AA110: =Z110*X110 -> 0 | AH110: =AG110*AE110 -> 0 | AO110: =AN110*AL110 -> 0
M111: =L111*J111 -> 0 | T111: =S111*Q111 -> 0 | AA111: =Z111*X111 -> 0 | AH111: =AG111*AE111 -> 0 | AO111: =AN111*AL111 -> 0
M112: =L112*J112 -> 0 | T112: =S112*Q112 -> 0 | AA112: =Z112*X112 -> 0 | AH112: =AG112*AE112 -> 0 | AO112: =AN112*AL112 -> 0
M113: =L113*J113 -> 0 | T113: =S113*Q113 -> 0 | AA113: =Z113*X113 -> 0 | AH113: =AG113*AE113 -> 0 | AO113: =AN113*AL113 -> 0
M114: =L114*J114 -> 0 | T114: =S114*Q114 -> 0 | AA114: =Z114*X114 -> 0 | AH114: =AG114*AE114 -> 0 | AO114: =AN114*AL114 -> 0
M115: =L115*J115 -> 0 | T115: =S115*Q115 -> 0 | AA115: =Z115*X115 -> 0 | AH115: =AG115*AE115 -> 0 | AO115: =AN115*AL115 -> 0
M116: =L116*J116 -> 0 | T116: =S116*Q116 -> 0 | AA116: =Z116*X116 -> 0 | AH116: =AG116*AE116 -> 0 | AO116: =AN116*AL116 -> 0
M117: =L117*J117 -> 0 | T117: =S117*Q117 -> 0 | AA117: =Z117*X117 -> 0 | AH117: =AG117*AE117 -> 0 | AO117: =AN117*AL117 -> 0
M118: =L118*J118 -> 0 | T118: =S118*Q118 -> 0 | AA118: =Z118*X118 -> 0 | AH118: =AG118*AE118 -> 0 | AO118: =AN118*AL118 -> 0
M119: =L119*J119 -> 0 | T119: =S119*Q119 -> 0 | AA119: =Z119*X119 -> 0 | AH119: =AG119*AE119 -> 0 | AO119: =AN119*AL119 -> 0
M120: =L120*J120 -> 0 | T120: =S120*Q120 -> 0 | AA120: =Z120*X120 -> 0 | AH120: =AG120*AE120 -> 0 | AO120: =AN120*AL120 -> 0
M121: =L121*J121 -> 0 | T121: =S121*Q121 -> 0 | AA121: =Z121*X121 -> 0 | AH121: =AG121*AE121 -> 0 | AO121: =AN121*AL121 -> 0
... M123: =L123*J123 -> 0 | T123: =S123*Q123 -> 0 | AA123: =Z123*X123 -> 0 | AH123: =AG123*AE123 -> 0 | AO123: =AN123*AL123 -> 0
A124: 副菜三 | M124: =L124*J124 -> 0 | T124: =S124*Q124 -> 0 | AA124: =Z124*X124 -> 0 | AH124: =AG124*AE124 -> 0 | AO124: =AN124*AL124 -> 0
M125: =L125*J125 -> 0 | T125: =S125*Q125 -> 0 | AA125: =Z125*X125 -> 0 | AH125: =AG125*AE125 -> 0 | AO125: =AN125*AL125 -> 0
M126: =L126*J126 -> 0 | T126: =S126*Q126 -> 0 | AA126: =Z126*X126 -> 0 | AH126: =AG126*AE126 -> 0 | AO126: =AN126*AL126 -> 0
M127: =L127*J127 -> 0 | T127: =S127*Q127 -> 0 | AA127: =Z127*X127 -> 0 | AH127: =AG127*AE127 -> 0 | AO127: =AN127*AL127 -> 0
M128: =L128*J128 -> 0 | T128: =S128*Q128 -> 0 | AA128: =Z128*X128 -> 0 | AH128: =AG128*AE128 -> 0 | AO128: =AN128*AL128 -> 0
M129: =L129*J129 -> 0 | T129: =S129*Q129 -> 0 | AA129: =Z129*X129 -> 0 | AH129: =AG129*AE129 -> 0 | AO129: =AN129*AL129 -> 0
M130: =L130*J130 -> 0 | T130: =S130*Q130 -> 0 | AA130: =Z130*X130 -> 0 | AH130: =AG130*AE130 -> 0 | AO130: =AN130*AL130 -> 0
M131: =L131*J131 -> 0 | T131: =S131*Q131 -> 0 | AA131: =Z131*X131 -> 0 | AH131: =AG131*AE131 -> 0 | AO131: =AN131*AL131 -> 0
M132: =L132*J132 -> 0 | T132: =S132*Q132 -> 0 | AA132: =Z132*X132 -> 0 | AH132: =AG132*AE132 -> 0 | AO132: =AN132*AL132 -> 0
...

Sheet Week_4 (素)
A1: 嘉義市東區民族國小 2025年6月4週午餐菜單素
B2: 44640 | D2: 日 | F2: 人 | G2: 45831 | I2: 一 | J2: 22 | N2: =G2+1 -> 45832 | P2: 二 | Q2: 22 | U2: =N2+1 -> 45833 | W2: 三 | X2: 22 | AB2: =U2+1 -> 45834 | AD2: 四 | AE2: 22 | AI2: =AB2+1 -> 45835 | AK2: 五 | AL2: 22 | AP2: 44646 | AR2: 六 | AT2: 人
B3: 菜名 | C3: 食材 | D3: 規格 | E3: 數量 | F3: 單位 | G3: 菜名 | H3: 食材 | I3: 規格 | J3: 數量 | K3: 單位 | N3: 菜名 | O3: 食材 | P3: 規格 | Q3: 數量 | R3: 單位 | U3: 菜名 | V3: 食材 | W3: 規格 | X3: 數量 | Y3: 單位 | AB3: 菜名 | AC3: 食材 | AD3: 規格 | AE3: 數量 | AF3: 單位 | AI3: 菜名 | AJ3: 食材 | AK3: 規格 | AL3: 數量 | AM3: 單位 | AP3: 菜名 | AQ3: 食材 | AR3: 規格 | AS3: 數量 | AT3: 單位
A4: 主食 | G4: 胚芽飯 | N4: 白米飯
A19: 主食二
A34: 主菜 | G34: 奶油白菜雞 | H34: 素豬肚 | J34: 1.5 | K34: kg | L34: 130 | M34: =L34*#REF! -> #REF! | N34: 南瓜燒肉 | O34: 烤麩 | P34: 濕 | Q34: 1 | R34: kg | S34: 150 | T34: =S34*Q34 -> 150 | U34: 紅燒豬肉麵 | V34: 四角油豆腐 | X34: 1 | Y34: kg | AB34: 蔭鳳梨素魚 | AC34: 素魚 | AE34: 22 | AF34: 片 | AI34: 鹹水雞 | AJ34: 角螺-非 | AL34: 0.6 | AM34: kg | AN34: 15 | AO34: =AN34*#REF! -> #REF!
H35: 大白菜 | I35: 段 | J35: 1 | K35: kg | L35: 65 | M35: =L35*#REF! -> #REF! | O35: 生香菇 | P35: 小朵 | Q35: 0.5 | R35: kg | S35: 35 | T35: =S35*Q35 -> 17.5 | V35: 白蘿蔔 | W35: 大丁 | X35: 1 | Y35: kg | AC35: 備 | AE35: 5 | AF35: 片 | AJ35: 脆筍片 | AL35: 0.8 | AM35: kg | AN35: 0 | AO35: =AN35*#REF! -> #REF!
H36: 金針菇 | I36: 段 | J36: 0.3 | K36: kg | L36: 70 | M36: =L36*#REF! -> #REF! | O36: 玉米筍 | Q36: 0.2 | R36: kg | S36: 100 | T36: =S36*Q36 -> 20 | V36: 紅蘿蔔 | W36: 大丁 | X36: 0.3 | Y36: kg | AC36: 玉米筍 | AE36: 0.3 | AF36: kg | AJ36: 玉米筍段 | AL36: 0.4 | AM36: kg | AO36: =AN36*#REF! -> #REF!
H37: 素雞絲 | J37: 1 | K37: 包 | L37: 450 | M37: =L37*#REF! -> #REF! | O37: 南瓜大丁 | P37: 新鮮 | Q37: 1 | R37: kg | S37: 45 | T37: =S37*Q37 -> 45 | V37: 小豆輪 | W37: 大丁 | X37: 0.1 | Y37: kg | AC37: 蔭鳳梨 | AE37: 葷取 | AJ37: 鮮木耳片 | AL37: 0.3 | AM37: kg | AO37: =AN37*#REF! -> #REF!
H38: 康寶玉米濃湯粉 | I38: 素 | J38: 2 | K38: 包 | V38: 番茄 | W38: 大丁 | X38: 0.3 | Y38: kg | AJ38: 杏鮑菇大丁 | AL38: 0.3 | AM38: kg | AO38: =AN38*#REF! -> #REF!
V39: 小白菜 | W39: 段 | X39: 1 | Y39: kg | AJ39: 四季豆段 | AL39: 0.3 | AM39: kg | AO39: =AN39*#REF! -> #REF!
V40: 紅燒滷包 | W40: 3k | X40: 1 | Y40: 包 | AJ40: 新鮮檸檬汁 | AK40: 750c.c | AL40: 葷取 | AO40: =AN40*#REF! -> #REF!
AO41: =AN41*#REF! -> #REF!
AO42: =AN42*#REF! -> #REF!
AO43: =AN43*#REF! -> #REF!
AO44: =AN44*#REF! -> #REF!
AO45: =AN45*#REF! -> #REF!
AO46: =AN46*#REF! -> #REF!
AO47: =AN47*#REF! -> #REF!
AO48: =AN48*#REF! -> #REF!
A49: 主菜二 | H49: 小烏龍麵 | J49: -1244 | K49: kg | AO49: =AN49*AL49 -> 0
H50: 毛豆仁 | J50: -1422 | K50: kg | AO50: =AN50*AL50 -> 0
H51: 小烏龍麵 | J51: -1600 | K51: kg | AO51: =AN51*AL51 -> 0
H52: 毛豆仁 | J52: -1778 | K52: kg | AO52: =AN52*AL52 -> 0
H53: 小烏龍麵 | J53: -1956 | K53: kg | AO53: =AN53*AL53 -> 0
H54: 毛豆仁 | J54: -2134 | K54: kg | AO54: =AN54*AL54 -> 0
H55: 小烏龍麵 | J55: -2312 | K55: kg | AO55: =AN55*AL55 -> 0
H56: 毛豆仁 | J56: -2490 | K56: kg | AO56: =AN56*AL56 -> 0
H57: 小烏龍麵 | J57: -2668 | K57: kg | AO57: =AN57*AL57 -> 0
H58: 毛豆仁 | J58: -2846 | K58: kg | AO58: =AN58*AL58 -> 0
H59: 小烏龍麵 | J59: -3024 | K59: kg | AO59: =AN59*AL59 -> 0
H60: 毛豆仁 | J60: -3202 | K60: kg | AO60: =AN60*AL60 -> 0
H61: 小烏龍麵 | J61: -3380 | K61: kg | AO61: =AN61*AL61 -> 0
... H63: 小烏龍麵 | J63: -3736 | K63: kg | AO63: =AN63*AL63 -> 0
A64: 主菜三 | H64: 毛豆仁 | J64: -3914 | K64: kg | AO64: =AN64*AL64 -> 0
H65: 小烏龍麵 | J65: -4092 | K65: kg | AO65: =AN65*AL65 -> 0
H66: 毛豆仁 | J66: -4270 | K66: kg | AO66: =AN66*AL66 -> 0
H67: 小烏龍麵 | J67: -4448 | K67: kg | AO67: =AN67*AL67 -> 0
H68: 毛豆仁 | J68: -4626 | K68: kg | AO68: =AN68*AL68 -> 0
H69: 小烏龍麵 | J69: -4804 | K69: kg | AO69: =AN69*AL69 -> 0
H70: 毛豆仁 | J70: -4982 | K70: kg | AO70: =AN70*AL70 -> 0
H71: 小烏龍麵 | J71: -5160 | K71: kg | AO71: =AN71*AL71 -> 0
H72: 毛豆仁 | J72: -5338 | K72: kg | AO72: =AN72*AL72 -> 0
H73: 小烏龍麵 | J73: -5516 | K73: kg | AO73: =AN73*AL73 -> 0
H74: 毛豆仁 | J74: -5694 | K74: kg | AO74: =AN74*AL74 -> 0
H75: 小烏龍麵 | J75: -5872 | K75: kg | AO75: =AN75*AL75 -> 0
H76: 毛豆仁 | J76: -6050 | K76: kg | AO76: =AN76*AL76 -> 0
... H78: 毛豆仁 | J78: -6406 | K78: kg | AO78: =AN78*AL78 -> 0
A79: 主菜四 | H79: 小烏龍麵 | J79: -6584 | K79: kg | AO79: =AN79*AL79 -> 0
H80: 毛豆仁 | J80: -6762 | K80: kg | AO80: =AN80*AL80 -> 0
H81: 小烏龍麵 | J81: -6940 | K81: kg | AO81: =AN81*AL81 -> 0
H82: 毛豆仁 | J82: -7118 | K82: kg | AO82: =AN82*AL82 -> 0
H83: 小烏龍麵 | J83: -7296 | K83: kg | AO83: =AN83*AL83 -> 0
H84: 毛豆仁 | J84: -7474 | K84: kg | AO84: =AN84*AL84 -> 0
H85: 小烏龍麵 | J85: -7652 | K85: kg | AO85: =AN85*AL85 -> 0
H86: 毛豆仁 | J86: -7830 | K86: kg | AO86: =AN86*AL86 -> 0
H87: 小烏龍麵 | J87: -8008 | K87: kg | AO87: =AN87*AL87 -> 0
H88: 毛豆仁 | J88: -8186 | K88: kg | AO88: =AN88*AL88 -> 0
H89: 小烏龍麵 | J89: -8364 | K89: kg | AO89: =AN89*AL89 -> 0
H90: 毛豆仁 | J90: -8542 | K90: kg | AO90: =AN90*AL90 -> 0
H91: 小烏龍麵 | J91: -8720 | K91: kg | AO91: =AN91*AL91 -> 0
... H93: 小烏龍麵 | J93: -9076 | K93: kg | AO93: =AN93*AL93 -> 0
A94: 副菜 | G94: 柴香蒸蛋 | H94: 洗選蛋Q | J94: 1 | K94: kg | L94: 35 | M94: =L94*J94 -> 35 | N94: 塔香鮑絲 | O94: 白豆干絲 | Q94: 0.5 | R94: kg | S94: 75 | T94: =S94*Q94 -> 37.5 | U94: 香酥蔬菜捲 | V94: 素食蔬菜捲 | X94: 22 | Y94: 個 | AB94: 冬瓜海帶 | AC94: 冬瓜(手切) | AD94: 大丁 | AE94: 2 | AF94: kg | AI94: 黃瓜鳥蛋 | AJ94: 大黃瓜 | AK94: 片 | AL94: 2 | AM94: kg | AN94: 35 | AO94: =AN94*AE94 -> 70
H95: 翡翠 | I95: 300g | J95: 1 | K95: 盒 | L95: 80 | M95: =L95*J95 -> 80 | O95: 杏鮑菇絲 | Q95: 0.5 | R95: kg | S95: 85 | T95: =S95*Q95 -> 42.5 | V95: 備份 | X95: 5 | Y95: 個 | AC95: 海帶素肉 | AE95: 3 | AF95: 包 | AJ95: 鳥蛋 | AL95: 葷取 | AM95: kg | AN95: 45 | AO95: =AN95*AE95 -> 135
L96: 150 | M96: =L96*J96 -> 0 | O96: 素皮絲 | P96: 泡水 | Q96: 0.3 | R96: kg | S96: 35 | T96: =S96*Q96 -> 10.5 | V96: 山藥捲 | X96: 22 | Y96: 個 | AJ96: 紅蘿蔔 | AK96: 絲 | AL96: 0.3 | AM96: kg | AN96: 150 | AO96: =AN96*AE96 -> 0
L97: 35 | M97: =L97*J97 -> 0 | O97: 紅蘿蔔絲 | Q97: 0.1 | R97: kg | V97: 備份 | X97: 5 | Y97: 個 | AJ97: 木耳 | AK97: 絲 | AL97: 0.3 | AM97: kg | AN97: 90 | AO97: =AN97*AE97 -> 0
L98: 100 | M98: =L98*J98 -> 0 | O98: 九層塔 | AJ98: 素魷魚 | AL98: 0.3 | AM98: kg | AN98: 100 | AO98: =AN98*AE98 -> 0
L99: 100 | M99: =L99*J99 -> 0 | O99: 薑絲 | AO99: =AN99*AE99 -> 0
AO100: =AN100*AE100 -> 0
AO101: =AN101*AE101 -> 0
AO102: =AN102*AE102 -> 0
AO103: =AN103*AE103 -> 0
AO104: =AN104*AE104 -> 0
AO105: =AN105*AE105 -> 0
AO106: =AN106*AE106 -> 0
AO107: =AN107*AE107 -> 0
AO108: =AN108*AE108 -> 0
A109: 副菜二 | AO109: =AN109*AL109 -> 0
AO110: =AN110*AL110 -> 0
AO111: =AN111*AL111 -> 0
AO112: =AN112*AL112 -> 0
AO113: =AN113*AL113 -> 0
AO114: =AN114*AL114 -> 0
AO115: =AN115*AL115 -> 0
AO116: =AN116*AL116 -> 0
AO117: =AN117*AL117 -> 0
AO118: =AN118*AL118 -> 0
AO119: =AN119*AL119 -> 0
AO120: =AN120*AL120 -> 0
AO121: =AN121*AL121 -> 0
... AO123: =AN123*AL123 -> 0
A124: 副菜三 | AO124: =AN124*AL124 -> 0
AO125: =AN125*AL125 -> 0
AO126: =AN126*AL126 -> 0
AO127: =AN127*AL127 -> 0
AO128: =AN128*AL128 -> 0
AO129: =AN129*AL129 -> 0
AO130: =AN130*AL130 -> 0
AO131: =AN131*AL131 -> 0
AO132: =AN132*AL132 -> 0
...

Sheet Week_5
A1: 嘉義市東區民族國小 2025年6月5週午餐菜單
B2: 44647 | D2: 日 | F2: 人 | G2: 45838 | I2: 一 | J2: 621 | K2: 人 | N2: =G2+1 -> 45839 | P2: 二 | Q2: 709 | R2: 人 | U2: =N2+1 -> 45840 | W2: 三 | X2: 709 | Y2: 人 | AB2: =U2+1 -> 45841 | AD2: 四 | AE2: 709 | AF2: 人 | AI2: =AB2+1 -> 45842 | AK2: 五 | AL2: 709 | AM2: 人
B3: 菜名 | C3: 食材 | D3: 規格 | E3: 數量 | F3: 單位 | G3: 菜名 | H3: 食材 | I3: 規格 | J3: 數量 | K3: 單位 | N3: 菜名 | O3: 食材 | P3: 規格 | Q3: 數量 | R3: 單位 | U3: 菜名 | V3: 食材 | W3: 規格 | X3: 數量 | Y3: 單位 | AB3: 菜名 | AC3: 食材 | AD3: 規格 | AE3: 數量 | AF3: 單位 | AI3: 菜名 | AJ3: 食材 | AK3: 規格 | AL3: 數量 | AM3: 單位
A4: 主食 | G4: 小米飯
A19: 主食二
A34: 主菜 | G34: 滷豬排 | H34: 永新黑蜜豬排 | J34: 621 | K34: 片 | L34: 16 | M34: =J34*L34 -> 9936 | S34: 10 | T34: =S34*Q34 -> 0 | Z34: 180 | AA34: =Z34*X34 -> 0 | AN34: 13 | AO34: =AN34*AL34 -> 0
H35: 每人1片 | M35: =J35*L35 -> 0 | T35: =S35*Q35 -> 0 | Z35: 100 | AA35: =Z35*X35 -> 0 | AO35: =AN35*AL35 -> 0
H36: 備份 | J36: 10 | K36: 片 | M36: =J36*L36 -> 0 | S36: 200 | T36: =S36*Q36 -> 0 | Z36: 40 | AA36: =Z36*X36 -> 0 | AN36: 200 | AO36: =AN36*AL36 -> 0
M37: =J37*L37 -> 0 | S37: 300 | T37: =S37*Q37 -> 0 | Z37: 60 | AA37: =Z37*X37 -> 0 | AO37: =AN37*AL37 -> 0
M38: =J38*L38 -> 0 | S38: 300 | T38: =S38*Q38 -> 0 | Z38: 75 | AA38: =Z38*X38 -> 0 | AO38: =AN38*AL38 -> 0
M39: =J39*L39 -> 0 | T39: =S39*Q39 -> 0 | Z39: 120 | AA39: =Z39*X39 -> 0 | AO39: =AN39*AL39 -> 0
M40: =J40*L40 -> 0 | T40: =S40*Q40 -> 0 | Z40: 95 | AA40: =Z40*X40 -> 0 | AO40: =AN40*AL40 -> 0
H41: 小米 | I41: 6/30 | J41: 4 | K41: kg | L41: 100 | M41: =J41*L41 -> 400 | T41: =S41*Q41 -> 0 | Z41: 40 | AA41: =Z41*X41 -> 0 | AO41: =AN41*AL41 -> 0
M42: =J42*L42 -> 0 | T42: =S42*Q42 -> 0 | AA42: =Z42*X42 -> 0 | AO42: =AN42*AL42 -> 0
M43: =J43*L43 -> 0 | T43: =S43*Q43 -> 0 | AA43: =Z43*X43 -> 0 | AO43: =AN43*AL43 -> 0
M44: =J44*L44 -> 0 | T44: =S44*Q44 -> 0 | AA44: =Z44*X44 -> 0 | AO44: =AN44*AL44 -> 0
M45: =J45*L45 -> 0 | T45: =S45*Q45 -> 0 | AA45: =Z45*X45 -> 0 | AO45: =AN45*AL45 -> 0
M46: =J46*L46 -> 0 | T46: =S46*Q46 -> 0 | AA46: =Z46*X46 -> 0 | AO46: =AN46*AL46 -> 0
M47: =J47*L47 -> 0 | T47: =S47*Q47 -> 0 | AA47: =Z47*X47 -> 0 | AO47: =AN47*AL47 -> 0
M48: =J48*L48 -> 0 | T48: =S48*Q48 -> 0 | AA48: =Z48*X48 -> 0 | AO48: =AN48*AL48 -> 0
A49: 主菜二 | M49: =J49*L49 -> 0 | T49: =S49*Q49 -> 0 | AA49: =Z49*X49 -> 0 | AO49: =AN49*AL49 -> 0
M50: =J50*L50 -> 0 | T50: =S50*Q50 -> 0 | AA50: =Z50*X50 -> 0 | AO50: =AN50*AL50 -> 0
M51: =J51*L51 -> 0 | T51: =S51*Q51 -> 0 | AA51: =Z51*X51 -> 0 | AO51: =AN51*AL51 -> 0
M52: =J52*L52 -> 0 | T52: =S52*Q52 -> 0 | AA52: =Z52*X52 -> 0 | AO52: =AN52*AL52 -> 0
M53: =J53*L53 -> 0 | T53: =S53*Q53 -> 0 | AA53: =Z53*X53 -> 0 | AO53: =AN53*AL53 -> 0
M54: =J54*L54 -> 0 | T54: =S54*Q54 -> 0 | AA54: =Z54*X54 -> 0 | AO54: =AN54*AL54 -> 0
M55: =J55*L55 -> 0 | T55: =S55*Q55 -> 0 | AA55: =Z55*X55 -> 0 | AO55: =AN55*AL55 -> 0
M56: =J56*L56 -> 0 | T56: =S56*Q56 -> 0 | AA56: =Z56*X56 -> 0 | AO56: =AN56*AL56 -> 0
M57: =J57*L57 -> 0 | T57: =S57*Q57 -> 0 | AA57: =Z57*X57 -> 0 | AO57: =AN57*AL57 -> 0
M58: =J58*L58 -> 0 | T58: =S58*Q58 -> 0 | AA58: =Z58*X58 -> 0 | AO58: =AN58*AL58 -> 0
M59: =J59*L59 -> 0 | T59: =S59*Q59 -> 0 | AA59: =Z59*X59 -> 0 | AO59: =AN59*AL59 -> 0
M60: =J60*L60 -> 0 | T60: =S60*Q60 -> 0 | AA60: =Z60*X60 -> 0 | AO60: =AN60*AL60 -> 0
M61: =J61*L61 -> 0 | T61: =S61*Q61 -> 0 | AA61: =Z61*X61 -> 0 | AO61: =AN61*AL61 -> 0
... M63: =J63*L63 -> 0 | T63: =S63*Q63 -> 0 | AA63: =Z63*X63 -> 0 | AO63: =AN63*AL63 -> 0
A64: 主菜三 | M64: =J64*L64 -> 0 | T64: =S64*Q64 -> 0 | AA64: =Z64*X64 -> 0 | AO64: =AN64*AL64 -> 0
M65: =J65*L65 -> 0 | T65: =S65*Q65 -> 0 | AA65: =Z65*X65 -> 0 | AO65: =AN65*AL65 -> 0
M66: =J66*L66 -> 0 | T66: =S66*Q66 -> 0 | AA66: =Z66*X66 -> 0 | AO66: =AN66*AL66 -> 0
M67: =J67*L67 -> 0 | T67: =S67*Q67 -> 0 | AA67: =Z67*X67 -> 0 | AO67: =AN67*AL67 -> 0
M68: =J68*L68 -> 0 | T68: =S68*Q68 -> 0 | AA68: =Z68*X68 -> 0 | AO68: =AN68*AL68 -> 0
M69: =J69*L69 -> 0 | T69: =S69*Q69 -> 0 | AA69: =Z69*X69 -> 0 | AO69: =AN69*AL69 -> 0
M70: =J70*L70 -> 0 | T70: =S70*Q70 -> 0 | AA70: =Z70*X70 -> 0 | AO70: =AN70*AL70 -> 0
M71: =J71*L71 -> 0 | T71: =S71*Q71 -> 0 | AA71: =Z71*X71 -> 0 | AO71: =AN71*AL71 -> 0
M72: =J72*L72 -> 0 | T72: =S72*Q72 -> 0 | AA72: =Z72*X72 -> 0 | AO72: =AN72*AL72 -> 0
M73: =J73*L73 -> 0 | T73: =S73*Q73 -> 0 | AA73: =Z73*X73 -> 0 | AO73: =AN73*AL73 -> 0
M74: =J74*L74 -> 0 | T74: =S74*Q74 -> 0 | AA74: =Z74*X74 -> 0 | AO74: =AN74*AL74 -> 0
M75: =J75*L75 -> 0 | T75: =S75*Q75 -> 0 | AA75: =Z75*X75 -> 0 | AO75: =AN75*AL75 -> 0
M76: =J76*L76 -> 0 | T76: =S76*Q76 -> 0 | AA76: =Z76*X76 -> 0 | AO76: =AN76*AL76 -> 0
... M78: =J78*L78 -> 0 | T78: =S78*Q78 -> 0 | AA78: =Z78*X78 -> 0 | AO78: =AN78*AL78 -> 0
A79: 主菜四 | M79: =J79*L79 -> 0 | T79: =S79*Q79 -> 0 | AA79: =Z79*X79 -> 0 | AO79: =AN79*AL79 -> 0
M80: =J80*L80 -> 0 | T80: =S80*Q80 -> 0 | AA80: =Z80*X80 -> 0 | AO80: =AN80*AL80 -> 0
M81: =J81*L81 -> 0 | T81: =S81*Q81 -> 0 | AA81: =Z81*X81 -> 0 | AO81: =AN81*AL81 -> 0
M82: =J82*L82 -> 0 | T82: =S82*Q82 -> 0 | AA82: =Z82*X82 -> 0 | AO82: =AN82*AL82 -> 0
M83: =J83*L83 -> 0 | T83: =S83*Q83 -> 0 | AA83: =Z83*X83 -> 0 | AO83: =AN83*AL83 -> 0
M84: =J84*L84 -> 0 | T84: =S84*Q84 -> 0 | AA84: =Z84*X84 -> 0 | AO84: =AN84*AL84 -> 0
M85: =J85*L85 -> 0 | T85: =S85*Q85 -> 0 | AA85: =Z85*X85 -> 0 | AO85: =AN85*AL85 -> 0
M86: =J86*L86 -> 0 | T86: =S86*Q86 -> 0 | AA86: =Z86*X86 -> 0 | AO86: =AN86*AL86 -> 0
M87: =J87*L87 -> 0 | T87: =S87*Q87 -> 0 | AA87: =Z87*X87 -> 0 | AO87: =AN87*AL87 -> 0
M88: =J88*L88 -> 0 | T88: =S88*Q88 -> 0 | AA88: =Z88*X88 -> 0 | AO88: =AN88*AL88 -> 0
M89: =J89*L89 -> 0 | T89: =S89*Q89 -> 0 | AA89: =Z89*X89 -> 0 | AO89: =AN89*AL89 -> 0
M90: =J90*L90 -> 0 | T90: =S90*Q90 -> 0 | AA90: =Z90*X90 -> 0 | AO90: =AN90*AL90 -> 0
M91: =J91*L91 -> 0 | T91: =S91*Q91 -> 0 | AA91: =Z91*X91 -> 0 | AO91: =AN91*AL91 -> 0
... M93: =J93*L93 -> 0 | T93: =S93*Q93 -> 0 | AA93: =Z93*X93 -> 0 | AO93: =AN93*AL93 -> 0
A94: 副菜 | G94: 絲瓜炒蛋 | H94: 洗選蛋 | J94: 16 | K94: kg | L94: 90 | M94: =J94*L94 -> 1440 | S94: 1000 | T94: =S94*Q94 -> 0 | Z94: 23 | AA94: =Z94*X94 -> 0 | AN94: 40 | AO94: =AN94*AL94 -> 0
H95: 絲瓜 | I95: 片 | J95: 39 | K95: kg | L95: 50 | M95: =J95*L95 -> 1950 | S95: 40 | T95: =S95*Q95 -> 0 | AA95: =Z95*X95 -> 0 | AN95: 130 | AO95: =AN95*AL95 -> 0
H96: 蝦米 | I96: 絲 | J96: 0.6 | K96: kg | L96: 800 | M96: =J96*L96 -> 480 | S96: 1000 | T96: =S96*Q96 -> 0 | Z96: 120 | AA96: =Z96*X96 -> 0 | AN96: 190 | AO96: =AN96*AL96 -> 0
H97: 角螺1.8K-非 | J97: 1 | K97: kg | L97: 180 | M97: =J97*L97 -> 180 | S97: 300 | T97: =S97*Q97 -> 0 | AA97: =Z97*X97 -> 0 | AN97: 40 | AO97: =AN97*AL97 -> 0
H98: 蒜末 | J98: 1 | K98: 斤 | L98: 120 | M98: =J98*L98 -> 120 | S98: 120 | T98: =S98*Q98 -> 0 | AA98: =Z98*X98 -> 0 | AN98: 250 | AO98: =AN98*AL98 -> 0
H99: 紅蘿蔔片 | J99: 1 | K99: kg | L99: 40 | M99: =J99*L99 -> 40 | S99: 200 | T99: =S99*Q99 -> 0 | AA99: =Z99*X99 -> 0 | AO99: =AN99*AL99 -> 0
M100: =J100*L100 -> 0 | S100: 40 | T100: =S100*Q100 -> 0 | AA100: =Z100*X100 -> 0 | AO100: =AN100*AL100 -> 0
M101: =J101*L101 -> 0 | T101: =S101*Q101 -> 0 | AA101: =Z101*X101 -> 0 | AO101: =AN101*AL101 -> 0
M102: =J102*L102 -> 0 | T102: =S102*Q102 -> 0 | AA102: =Z102*X102 -> 0 | AO102: =AN102*AL102 -> 0
M103: =J103*L103 -> 0 | T103: =S103*Q103 -> 0 | AA103: =Z103*X103 -> 0 | AO103: =AN103*AL103 -> 0
M104: =J104*L104 -> 0 | T104: =S104*Q104 -> 0 | AA104: =Z104*X104 -> 0 | AO104: =AN104*AL104 -> 0
M105: =J105*L105 -> 0 | T105: =S105*Q105 -> 0 | AA105: =Z105*X105 -> 0 | AO105: =AN105*AL105 -> 0
M106: =J106*L106 -> 0 | T106: =S106*Q106 -> 0 | AA106: =Z106*X106 -> 0 | AO106: =AN106*AL106 -> 0
M107: =J107*L107 -> 0 | T107: =S107*Q107 -> 0 | AA107: =Z107*X107 -> 0 | AO107: =AN107*AL107 -> 0
M108: =J108*L108 -> 0 | T108: =S108*Q108 -> 0 | AA108: =Z108*X108 -> 0 | AO108: =AN108*AL108 -> 0
A109: 副菜二 | M109: =J109*L109 -> 0 | T109: =S109*Q109 -> 0 | AA109: =Z109*X109 -> 0 | AO109: =AN109*AL109 -> 0
M110: =J110*L110 -> 0 | T110: =S110*Q110 -> 0 | AA110: =Z110*X110 -> 0 | AO110: =AN110*AL110 -> 0
M111: =J111*L111 -> 0 | T111: =S111*Q111 -> 0 | AA111: =Z111*X111 -> 0 | AO111: =AN111*AL111 -> 0
M112: =J112*L112 -> 0 | T112: =S112*Q112 -> 0 | AA112: =Z112*X112 -> 0 | AO112: =AN112*AL112 -> 0
M113: =J113*L113 -> 0 | T113: =S113*Q113 -> 0 | AA113: =Z113*X113 -> 0 | AO113: =AN113*AL113 -> 0
M114: =J114*L114 -> 0 | T114: =S114*Q114 -> 0 | AA114: =Z114*X114 -> 0 | AO114: =AN114*AL114 -> 0
M115: =J115*L115 -> 0 | T115: =S115*Q115 -> 0 | AA115: =Z115*X115 -> 0 | AO115: =AN115*AL115 -> 0
M116: =J116*L116 -> 0 | T116: =S116*Q116 -> 0 | AA116: =Z116*X116 -> 0 | AO116: =AN116*AL116 -> 0
M117: =J117*L117 -> 0 | T117: =S117*Q117 -> 0 | AA117: =Z117*X117 -> 0 | AO117: =AN117*AL117 -> 0
M118: =J118*L118 -> 0 | T118: =S118*Q118 -> 0 | AA118: =Z118*X118 -> 0 | AO118: =AN118*AL118 -> 0
M119: =J119*L119 -> 0 | T119: =S119*Q119 -> 0 | AA119: =Z119*X119 -> 0 | AO119: =AN119*AL119 -> 0
M120: =J120*L120 -> 0 | T120: =S120*Q120 -> 0 | AA120: =Z120*X120 -> 0 | AO120: =AN120*AL120 -> 0
M121: =J121*L121 -> 0 | T121: =S121*Q121 -> 0 | AA121: =Z121*X121 -> 0 | AO121: =AN121*AL121 -> 0
... M123: =J123*L123 -> 0 | T123: =S123*Q123 -> 0 | AA123: =Z123*X123 -> 0 | AO123: =AN123*AL123 -> 0
A124: 副菜三 | M124: =J124*L124 -> 0 | T124: =S124*Q124 -> 0 | AA124: =Z124*X124 -> 0 | AO124: =AN124*AL124 -> 0
M125: =J125*L125 -> 0 | T125: =S125*Q125 -> 0 | AA125: =Z125*X125 -> 0 | AO125: =AN125*AL125 -> 0
M126: =J126*L126 -> 0 | T126: =S126*Q126 -> 0 | AA126: =Z126*X126 -> 0 | AO126: =AN126*AL126 -> 0
M127: =J127*L127 -> 0 | T127: =S127*Q127 -> 0 | AA127: =Z127*X127 -> 0 | AO127: =AN127*AL127 -> 0
M128: =J128*L128 -> 0 | T128: =S128*Q128 -> 0 | AA128: =Z128*X128 -> 0 | AO128: =AN128*AL128 -> 0
M129: =J129*L129 -> 0 | T129: =S129*Q129 -> 0 | AA129: =Z129*X129 -> 0 | AO129: =AN129*AL129 -> 0
M130: =J130*L130 -> 0 | T130: =S130*Q130 -> 0 | AA130: =Z130*X130 -> 0 | AO130: =AN130*AL130 -> 0
M131: =J131*L131 -> 0 | T131: =S131*Q131 -> 0 | AA131: =Z131*X131 -> 0 | AO131: =AN131*AL131 -> 0
M132: =J132*L132 -> 0 | T132: =S132*Q132 -> 0 | AA132: =Z132*X132 -> 0 | AO132: =AN132*AL132 -> 0
...

Sheet Week_5(素)
A1: 嘉義市東區民族國小 2025年6月5週午餐菜單素
B2: 44647 | D2: 日 | F2: 人 | G2: 45838 | I2: 一 | J2: 22 | K2: 人 | N2: =G2+1 -> 45839 | P2: 二 | R2: 人 | U2: =N2+1 -> 45840 | W2: 三 | Y2: 人 | AB2: =U2+1 -> 45841 | AD2: 四 | AF2: 人 | AI2: =AB2+1 -> 45842 | AK2: 五 | AM2: 人 | AR2: 六 | AT2: 人
B3: 菜名 | C3: 食材 | D3: 規格 | E3: 數量 | F3: 單位 | G3: 菜名 | H3: 食材 | I3: 規格 | J3: 數量 | K3: 單位 | N3: 菜名 | O3: 食材 | P3: 規格 | Q3: 數量 | R3: 單位 | U3: 菜名 | V3: 食材 | W3: 規格 | X3: 數量 | Y3: 單位 | AB3: 菜名 | AC3: 食材 | AD3: 規格 | AE3: 數量 | AF3: 單位 | AI3: 菜名 | AJ3: 食材 | AK3: 規格 | AL3: 數量 | AM3: 單位 | AP3: 菜名 | AQ3: 食材 | AR3: 規格 | AS3: 數量 | AT3: 單位
A4: 主食 | G4: 小米飯
A19: 主食二
A34: 主菜 | G34: 滷牛蒡排 | H34: 牛蒡排 | I34: 素 | J34: 22 | K34: 片 | L34: 15 | M34: =L34*J34 -> 330 | S34: 20 | T34: =S34*'Week_1.. (素)'!AE34 -> 460 | Z34: 130 | AA34: =Z34*'Week_1.. (素)'!AL34 -> 130 | AO34: =AN34*AL34 -> 0
H35: 備份 | J35: 3 | K35: 片 | M35: =L35*J35 -> 0 | T35: =S35*'Week_1.. (素)'!AE35 -> 0 | Z35: 100 | AA35: =Z35*'Week_1.. (素)'!AL35 -> 100 | AO35: =AN35*AL35 -> 0
H36: 南瓜去皮去籽 | I36: 不切 | J36: 2 | K36: kg | L36: 120 | M36: =L36*J36 -> 240 | S36: 60 | T36: =S36*'Week_1.. (素)'!AE36 -> 0 | Z36: 40 | AA36: =Z36*'Week_1.. (素)'!AL36 -> 0 | AO36: =AN36*AL36 -> 0
L37: 50 | M37: =L37*J37 -> 0 | T37: =S37*'Week_1.. (素)'!AE37 -> 0 | Z37: 250 | AA37: =Z37*'Week_1.. (素)'!AL37 -> 0 | AO37: =AN37*AL37 -> 0
M38: =L38*J38 -> 0 | T38: =S38*'Week_1.. (素)'!AE38 -> 0 | Z38: 75 | AA38: =Z38*'Week_1.. (素)'!AL38 -> 0 | AO38: =AN38*AL38 -> 0
M39: =L39*J39 -> 0 | T39: =S39*'Week_1.. (素)'!AE39 -> 0 | Z39: 130 | AA39: =Z39*'Week_1.. (素)'!AL39 -> 0 | AO39: =AN39*AL39 -> 0
M40: =L40*J40 -> 0 | T40: =S40*'Week_1.. (素)'!AE40 -> 0 | AA40: =Z40*'Week_1.. (素)'!AL40 -> 0 | AO40: =AN40*AL40 -> 0
M41: =L41*J41 -> 0 | T41: =S41*'Week_1.. (素)'!AE41 -> 0 | Z41: 40 | AA41: =Z41*'Week_1.. (素)'!AL41 -> 0 | AO41: =AN41*AL41 -> 0
M42: =L42*J42 -> 0 | T42: =S42*'Week_1.. (素)'!AE42 -> 0 | AA42: =Z42*'Week_1.. (素)'!AL42 -> 0 | AO42: =AN42*AL42 -> 0
M43: =L43*J43 -> 0 | T43: =S43*'Week_1.. (素)'!AE43 -> 0 | AA43: =Z43*'Week_1.. (素)'!AL43 -> 0 | AO43: =AN43*AL43 -> 0
M44: =L44*J44 -> 0 | T44: =S44*'Week_1.. (素)'!AE44 -> 0 | AA44: =Z44*'Week_1.. (素)'!AL44 -> 0 | AO44: =AN44*AL44 -> 0
M45: =L45*J45 -> 0 | T45: =S45*'Week_1.. (素)'!AE45 -> 0 | AA45: =Z45*'Week_1.. (素)'!AL45 -> 0 | AO45: =AN45*AL45 -> 0
M46: =L46*J46 -> 0 | T46: =S46*'Week_1.. (素)'!AE46 -> 0 | AA46: =Z46*'Week_1.. (素)'!AL46 -> 0 | AO46: =AN46*AL46 -> 0
M47: =L47*J47 -> 0 | T47: =S47*'Week_1.. (素)'!AE47 -> 0 | AA47: =Z47*'Week_1.. (素)'!AL47 -> 0 | AO47: =AN47*AL47 -> 0
M48: =L48*J48 -> 0 | T48: =S48*'Week_1.. (素)'!AE48 -> 0 | AA48: =Z48*'Week_1.. (素)'!AL48 -> 0 | AO48: =AN48*AL48 -> 0
A49: 主菜二 | M49: =L49*J49 -> 0 | T49: =S49*'Week_1.. (素)'!AE49 -> 0 | AA49: =Z49*'Week_1.. (素)'!AL49 -> 0 | AO49: =AN49*AL49 -> 0
M50: =L50*J50 -> 0 | T50: =S50*'Week_1.. (素)'!AE50 -> 0 | AA50: =Z50*'Week_1.. (素)'!AL50 -> 0 | AO50: =AN50*AL50 -> 0
M51: =L51*J51 -> 0 | T51: =S51*'Week_1.. (素)'!AE51 -> 0 | AA51: =Z51*'Week_1.. (素)'!AL51 -> 0 | AO51: =AN51*AL51 -> 0
M52: =L52*J52 -> 0 | T52: =S52*'Week_1.. (素)'!AE52 -> 0 | AA52: =Z52*'Week_1.. (素)'!AL52 -> 0 | AO52: =AN52*AL52 -> 0
M53: =L53*J53 -> 0 | T53: =S53*'Week_1.. (素)'!AE53 -> 0 | AA53: =Z53*'Week_1.. (素)'!AL53 -> 0 | AO53: =AN53*AL53 -> 0
M54: =L54*J54 -> 0 | T54: =S54*'Week_1.. (素)'!AE54 -> 0 | AA54: =Z54*'Week_1.. (素)'!AL54 -> 0 | AO54: =AN54*AL54 -> 0
M55: =L55*J55 -> 0 | T55: =S55*'Week_1.. (素)'!AE55 -> 0 | AA55: =Z55*'Week_1.. (素)'!AL55 -> 0 | AO55: =AN55*AL55 -> 0
M56: =L56*J56 -> 0 | T56: =S56*'Week_1.. (素)'!AE56 -> 0 | AA56: =Z56*'Week_1.. (素)'!AL56 -> 0 | AO56: =AN56*AL56 -> 0
M57: =L57*J57 -> 0 | T57: =S57*'Week_1.. (素)'!AE57 -> 0 | AA57: =Z57*'Week_1.. (素)'!AL57 -> 0 | AO57: =AN57*AL57 -> 0
M58: =L58*J58 -> 0 | T58: =S58*'Week_1.. (素)'!AE58 -> 0 | AA58: =Z58*'Week_1.. (素)'!AL58 -> 0 | AO58: =AN58*AL58 -> 0
M59: =L59*J59 -> 0 | T59: =S59*'Week_1.. (素)'!AE59 -> 0 | AA59: =Z59*'Week_1.. (素)'!AL59 -> 0 | AO59: =AN59*AL59 -> 0
M60: =L60*J60 -> 0 | T60: =S60*'Week_1.. (素)'!AE60 -> 0 | AA60: =Z60*'Week_1.. (素)'!AL60 -> 0 | AO60: =AN60*AL60 -> 0
M61: =L61*J61 -> 0 | T61: =S61*'Week_1.. (素)'!AE61 -> 0 | AA61: =Z61*'Week_1.. (素)'!AL61 -> 0 | AO61: =AN61*AL61 -> 0
... M63: =L63*J63 -> 0 | T63: =S63*'Week_1.. (素)'!AE63 -> 0 | AA63: =Z63*'Week_1.. (素)'!AL63 -> 0 | AO63: =AN63*AL63 -> 0
A64: 主菜三 | M64: =L64*J64 -> 0 | T64: =S64*'Week_1.. (素)'!AE64 -> 0 | AA64: =Z64*'Week_1.. (素)'!AL64 -> 0 | AO64: =AN64*AL64 -> 0
M65: =L65*J65 -> 0 | T65: =S65*'Week_1.. (素)'!AE65 -> 0 | AA65: =Z65*'Week_1.. (素)'!AL65 -> 0 | AO65: =AN65*AL65 -> 0
M66: =L66*J66 -> 0 | T66: =S66*'Week_1.. (素)'!AE66 -> 0 | AA66: =Z66*'Week_1.. (素)'!AL66 -> 0 | AO66: =AN66*AL66 -> 0
M67: =L67*J67 -> 0 | T67: =S67*'Week_1.. (素)'!AE67 -> 0 | AA67: =Z67*'Week_1.. (素)'!AL67 -> 0 | AO67: =AN67*AL67 -> 0
M68: =L68*J68 -> 0 | T68: =S68*'Week_1.. (素)'!AE68 -> 0 | AA68: =Z68*'Week_1.. (素)'!AL68 -> 0 | AO68: =AN68*AL68 -> 0
M69: =L69*J69 -> 0 | T69: =S69*'Week_1.. (素)'!AE69 -> 0 | AA69: =Z69*'Week_1.. (素)'!AL69 -> 0 | AO69: =AN69*AL69 -> 0
M70: =L70*J70 -> 0 | T70: =S70*'Week_1.. (素)'!AE70 -> 0 | AA70: =Z70*'Week_1.. (素)'!AL70 -> 0 | AO70: =AN70*AL70 -> 0
M71: =L71*J71 -> 0 | T71: =S71*'Week_1.. (素)'!AE71 -> 0 | AA71: =Z71*'Week_1.. (素)'!AL71 -> 0 | AO71: =AN71*AL71 -> 0
M72: =L72*J72 -> 0 | T72: =S72*'Week_1.. (素)'!AE72 -> 0 | AA72: =Z72*'Week_1.. (素)'!AL72 -> 0 | AO72: =AN72*AL72 -> 0
M73: =L73*J73 -> 0 | T73: =S73*'Week_1.. (素)'!AE73 -> 0 | AA73: =Z73*'Week_1.. (素)'!AL73 -> 0 | AO73: =AN73*AL73 -> 0
M74: =L74*J74 -> 0 | T74: =S74*'Week_1.. (素)'!AE74 -> 0 | AA74: =Z74*'Week_1.. (素)'!AL74 -> 0 | AO74: =AN74*AL74 -> 0
M75: =L75*J75 -> 0 | T75: =S75*'Week_1.. (素)'!AE75 -> 0 | AA75: =Z75*'Week_1.. (素)'!AL75 -> 0 | AO75: =AN75*AL75 -> 0
M76: =L76*J76 -> 0 | T76: =S76*'Week_1.. (素)'!AE76 -> 0 | AA76: =Z76*'Week_1.. (素)'!AL76 -> 0 | AO76: =AN76*AL76 -> 0
... M78: =L78*J78 -> 0 | T78: =S78*'Week_1.. (素)'!AE78 -> 0 | AA78: =Z78*'Week_1.. (素)'!AL78 -> 0 | AO78: =AN78*AL78 -> 0
A79: 主菜四 | M79: =L79*J79 -> 0 | T79: =S79*'Week_1.. (素)'!AE79 -> 0 | AA79: =Z79*'Week_1.. (素)'!AL79 -> 0 | AO79: =AN79*AL79 -> 0
M80: =L80*J80 -> 0 | T80: =S80*'Week_1.. (素)'!AE80 -> 0 | AA80: =Z80*'Week_1.. (素)'!AL80 -> 0 | AO80: =AN80*AL80 -> 0
M81: =L81*J81 -> 0 | T81: =S81*'Week_1.. (素)'!AE81 -> 0 | AA81: =Z81*'Week_1.. (素)'!AL81 -> 0 | AO81: =AN81*AL81 -> 0
M82: =L82*J82 -> 0 | T82: =S82*'Week_1.. (素)'!AE82 -> 0 | AA82: =Z82*'Week_1.. (素)'!AL82 -> 0 | AO82: =AN82*AL82 -> 0
M83: =L83*J83 -> 0 | T83: =S83*'Week_1.. (素)'!AE83 -> 0 | AA83: =Z83*'Week_1.. (素)'!AL83 -> 0 | AO83: =AN83*AL83 -> 0
M84: =L84*J84 -> 0 | T84: =S84*'Week_1.. (素)'!AE84 -> 0 | AA84: =Z84*'Week_1.. (素)'!AL84 -> 0 | AO84: =AN84*AL84 -> 0
M85: =L85*J85 -> 0 | T85: =S85*'Week_1.. (素)'!AE85 -> 0 | AA85: =Z85*'Week_1.. (素)'!AL85 -> 0 | AO85: =AN85*AL85 -> 0
M86: =L86*J86 -> 0 | T86: =S86*'Week_1.. (素)'!AE86 -> 0 | AA86: =Z86*'Week_1.. (素)'!AL86 -> 0 | AO86: =AN86*AL86 -> 0
M87: =L87*J87 -> 0 | T87: =S87*'Week_1.. (素)'!AE87 -> 0 | AA87: =Z87*'Week_1.. (素)'!AL87 -> 0 | AO87: =AN87*AL87 -> 0
M88: =L88*J88 -> 0 | T88: =S88*'Week_1.. (素)'!AE88 -> 0 | AA88: =Z88*'Week_1.. (素)'!AL88 -> 0 | AO88: =AN88*AL88 -> 0
M89: =L89*J89 -> 0 | T89: =S89*'Week_1.. (素)'!AE89 -> 0 | AA89: =Z89*'Week_1.. (素)'!AL89 -> 0 | AO89: =AN89*AL89 -> 0
M90: =L90*J90 -> 0 | T90: =S90*'Week_1.. (素)'!AE90 -> 0 | AA90: =Z90*'Week_1.. (素)'!AL90 -> 0 | AO90: =AN90*AL90 -> 0
M91: =L91*J91 -> 0 | T91: =S91*'Week_1.. (素)'!AE91 -> 0 | AA91: =Z91*'Week_1.. (素)'!AL91 -> 0 | AO91: =AN91*AL91 -> 0
... M93: =L93*J93 -> 0 | T93: =S93*'Week_1.. (素)'!AE93 -> 0 | AA93: =Z93*'Week_1.. (素)'!AL93 -> 0 | AO93: =AN93*AL93 -> 0
A94: 副菜 | G94: 絲瓜炒蛋 | H94: 洗選蛋 | J94: 1 | K94: kg | L94: 35 | M94: =L94*#REF! -> #REF! | S94: 300 | T94: =S94*'Week_1.. (素)'!AE94 -> 600 | Z94: 25 | AA94: =Z94*'Week_1.. (素)'!AL94 -> 50 | AO94: =AN94*AL94 -> 0
H95: 絲瓜 | I95: 片 | J95: 2 | K95: kg | L95: 150 | M95: =L95*#REF! -> #REF! | S95: 40 | T95: =S95*'Week_1.. (素)'!AE95 -> 20 | AA95: =Z95*'Week_1.. (素)'!AL95 -> 0 | AO95: =AN95*AL95 -> 0
H96: 豆皮 | J96: 1 | K96: 張 | L96: 35 | M96: =L96*#REF! -> #REF! | S96: 40 | T96: =S96*'Week_1.. (素)'!AE96 -> 12 | AA96: =Z96*'Week_1.. (素)'!AL96 -> 0 | AO96: =AN96*AL96 -> 0
H97: 紅蘿蔔 | I97: 絲 | J97: 0.3 | K97: kg | L97: 35 | M97: =L97*#REF! -> #REF! | S97: 250 | T97: =S97*'Week_1.. (素)'!AE97 -> 25 | AA97: =Z97*'Week_1.. (素)'!AL97 -> 0 | AO97: =AN97*AL97 -> 0
M98: =L98*#REF! -> #REF! | S98: 130 | T98: =S98*'Week_1.. (素)'!AE98 -> #VALUE! | AA98: =Z98*'Week_1.. (素)'!AL98 -> 0 | AO98: =AN98*AL98 -> 0
M99: =L99*#REF! -> #REF! | T99: =S99*'Week_1.. (素)'!AE99 -> 0 | AA99: =Z99*'Week_1.. (素)'!AL99 -> 0 | AO99: =AN99*AL99 -> 0
M100: =L100*#REF! -> #REF! | T100: =S100*'Week_1.. (素)'!AE100 -> 0 | AA100: =Z100*'Week_1.. (素)'!AL100 -> 0 | AO100: =AN100*AL100 -> 0
M101: =L101*#REF! -> #REF! | T101: =S101*'Week_1.. (素)'!AE101 -> 0 | AA101: =Z101*'Week_1.. (素)'!AL101 -> 0 | AO101: =AN101*AL101 -> 0
M102: =L102*#REF! -> #REF! | T102: =S102*'Week_1.. (素)'!AE102 -> 0 | AA102: =Z102*'Week_1.. (素)'!AL102 -> 0 | AO102: =AN102*AL102 -> 0
M103: =L103*#REF! -> #REF! | T103: =S103*'Week_1.. (素)'!AE103 -> 0 | AA103: =Z103*'Week_1.. (素)'!AL103 -> 0 | AO103: =AN103*AL103 -> 0
M104: =L104*#REF! -> #REF! | T104: =S104*'Week_1.. (素)'!AE104 -> 0 | AA104: =Z104*'Week_1.. (素)'!AL104 -> 0 | AO104: =AN104*AL104 -> 0
M105: =L105*#REF! -> #REF! | T105: =S105*'Week_1.. (素)'!AE105 -> 0 | AA105: =Z105*'Week_1.. (素)'!AL105 -> 0 | AO105: =AN105*AL105 -> 0
M106: =L106*#REF! -> #REF! | T106: =S106*'Week_1.. (素)'!AE106 -> 0 | AA106: =Z106*'Week_1.. (素)'!AL106 -> 0 | AO106: =AN106*AL106 -> 0
M107: =L107*#REF! -> #REF! | T107: =S107*'Week_1.. (素)'!AE107 -> 0 | AA107: =Z107*'Week_1.. (素)'!AL107 -> 0 | AO107: =AN107*AL107 -> 0
M108: =L108*#REF! -> #REF! | T108: =S108*'Week_1.. (素)'!AE108 -> 0 | AA108: =Z108*'Week_1.. (素)'!AL108 -> 0 | AO108: =AN108*AL108 -> 0
A109: 副菜二 | M109: =L109*J109 -> 0 | T109: =S109*'Week_1.. (素)'!AE109 -> 0 | AA109: =Z109*'Week_1.. (素)'!AL109 -> 0 | AO109: =AN109*AL109 -> 0
M110: =L110*J110 -> 0 | T110: =S110*'Week_1.. (素)'!AE110 -> 0 | AA110: =Z110*'Week_1.. (素)'!AL110 -> 0 | AO110: =AN110*AL110 -> 0
M111: =L111*J111 -> 0 | T111: =S111*'Week_1.. (素)'!AE111 -> 0 | AA111: =Z111*'Week_1.. (素)'!AL111 -> 0 | AO111: =AN111*AL111 -> 0
M112: =L112*J112 -> 0 | T112: =S112*'Week_1.. (素)'!AE112 -> 0 | AA112: =Z112*'Week_1.. (素)'!AL112 -> 0 | AO112: =AN112*AL112 -> 0
M113: =L113*J113 -> 0 | T113: =S113*'Week_1.. (素)'!AE113 -> 0 | AA113: =Z113*'Week_1.. (素)'!AL113 -> 0 | AO113: =AN113*AL113 -> 0
M114: =L114*J114 -> 0 | T114: =S114*'Week_1.. (素)'!AE114 -> 0 | AA114: =Z114*'Week_1.. (素)'!AL114 -> 0 | AO114: =AN114*AL114 -> 0
M115: =L115*J115 -> 0 | T115: =S115*'Week_1.. (素)'!AE115 -> 0 | AA115: =Z115*'Week_1.. (素)'!AL115 -> 0 | AO115: =AN115*AL115 -> 0
M116: =L116*J116 -> 0 | T116: =S116*'Week_1.. (素)'!AE116 -> 0 | AA116: =Z116*'Week_1.. (素)'!AL116 -> 0 | AO116: =AN116*AL116 -> 0
M117: =L117*J117 -> 0 | T117: =S117*'Week_1.. (素)'!AE117 -> 0 | AA117: =Z117*'Week_1.. (素)'!AL117 -> 0 | AO117: =AN117*AL117 -> 0
M118: =L118*J118 -> 0 | T118: =S118*'Week_1.. (素)'!AE118 -> 0 | AA118: =Z118*'Week_1.. (素)'!AL118 -> 0 | AO118: =AN118*AL118 -> 0
M119: =L119*J119 -> 0 | T119: =S119*'Week_1.. (素)'!AE119 -> 0 | AA119: =Z119*'Week_1.. (素)'!AL119 -> 0 | AO119: =AN119*AL119 -> 0
M120: =L120*J120 -> 0 | T120: =S120*'Week_1.. (素)'!AE120 -> 0 | AA120: =Z120*'Week_1.. (素)'!AL120 -> 0 | AO120: =AN120*AL120 -> 0
M121: =L121*J121 -> 0 | T121: =S121*'Week_1.. (素)'!AE121 -> 0 | AA121: =Z121*'Week_1.. (素)'!AL121 -> 0 | AO121: =AN121*AL121 -> 0
... M123: =L123*J123 -> 0 | T123: =S123*'Week_1.. (素)'!AE123 -> 0 | AA123: =Z123*'Week_1.. (素)'!AL123 -> 0 | AO123: =AN123*AL123 -> 0
A124: 副菜三 | M124: =L124*J124 -> 0 | T124: =S124*'Week_1.. (素)'!AE124 -> 0 | AA124: =Z124*'Week_1.. (素)'!AL124 -> 0 | AO124: =AN124*AL124 -> 0
M125: =L125*J125 -> 0 | T125: =S125*'Week_1.. (素)'!AE125 -> 0 | AA125: =Z125*'Week_1.. (素)'!AL125 -> 0 | AO125: =AN125*AL125 -> 0
M126: =L126*J126 -> 0 | T126: =S126*'Week_1.. (素)'!AE126 -> 0 | AA126: =Z126*'Week_1.. (素)'!AL126 -> 0 | AO126: =AN126*AL126 -> 0
M127: =L127*J127 -> 0 | T127: =S127*'Week_1.. (素)'!AE127 -> 0 | AA127: =Z127*'Week_1.. (素)'!AL127 -> 0 | AO127: =AN127*AL127 -> 0
M128: =L128*J128 -> 0 | T128: =S128*'Week_1.. (素)'!AE128 -> 0 | AA128: =Z128*'Week_1.. (素)'!AL128 -> 0 | AO128: =AN128*AL128 -> 0
M129: =L129*J129 -> 0 | T129: =S129*'Week_1.. (素)'!AE129 -> 0 | AA129: =Z129*'Week_1.. (素)'!AL129 -> 0 | AO129: =AN129*AL129 -> 0
M130: =L130*J130 -> 0 | T130: =S130*'Week_1.. (素)'!AE130 -> 0 | AA130: =Z130*'Week_1.. (素)'!AL130 -> 0 | AO130: =AN130*AL130 -> 0
M131: =L131*J131 -> 0 | T131: =S131*'Week_1.. (素)'!AE131 -> 0 | AA131: =Z131*'Week_1.. (素)'!AL131 -> 0 | AO131: =AN131*AL131 -> 0
M132: =L132*J132 -> 0 | T132: =S132*'Week_1.. (素)'!AE132 -> 0 | AA132: =Z132*'Week_1.. (素)'!AL132 -> 0 | AO132: =AN132*AL132 -> 0
...
