Workbook

Sheet Week_1..
A1: 嘉義市東區民族國小 2025年6月1週午餐菜單
B2: 44640 | D2: 日 | F2: 人 | G2: 45810 | I2: 一 | J2: 761 | K2: 人 | N2: =G2+1 -> 45811 | P2: 二 | Q2: 761 | R2: 人 | U2: =N2+1 -> 45812 | W2: 三 | X2: 709 | Y2: 人 | AB2: =U2+1 -> 45813 | AD2: 四 | AE2: 761 | AF2: 人 | AI2: =AB2+1 -> 45814 | AK2: 五 | AL2: 750 | AM2: 人
B3: 菜名 | C3: 食材 | D3: 規格 | E3: 數量 | F3: 單位 | G3: 菜名 | H3: 食材 | I3: 規格 | J3: 數量 | K3: 單位 | N3: 菜名 | O3: 食材 | P3: 規格 | Q3: 數量 | R3: 單位 | U3: 菜名 | V3: 食材 | W3: 規格 | X3: 數量 | Y3: 單位 | AB3: 菜名 | AC3: 食材 | AD3: 規格 | AE3: 數量 | AF3: 單位 | AI3: 菜名 | AJ3: 食材 | AK3: 規格 | AM3: 數量
A4: 主食 | G4: 胚芽米 | H4: 英語村52葷 | N4: 白米飯 | O4: 英語村52葷 | U4: 特餐 | AB4: 白米飯 | AC4: 英語村52葷 | AI4: 薏仁飯 | AJ4: 英語村41葷
A19: 主食二
A34: 主菜 | G34: 照燒雞丁 | H34: 腿丁 | J34: 56 | K34: kg | L34: 190 | M34: =L34*J34 -> 10640 | N34: 馬鈴薯燉肉 | O34: 肉丁 | Q34: 45 | R34: kg | S34: 220 | T34: =S34*Q34 -> 9900 | U34: 鮮肉絲羹飯 | V34: 大白菜 | W34: 段 | X34: 25 | Y34: kg | Z34: 40 | AA34: =Z34*X34 -> 1000 | AB34: 香酥魚 | AC34: 油甘魚 | AE34: 761 | AF34: 片 | AG34: 13 | AH34: =AG34*AE34 -> 9893 | AI34: 黑醋雞 | AJ34: 腿丁 | AL34: 55 | AM34: kg | AN34: 190 | AO34: =AN34*AL34 -> 10450
H35: 洋蔥 | I35: 大丁 | J35: 16 | K35: kg | L35: 60 | M35: =L35*J35 -> 960 | O35: 馬鈴薯 | P35: 手切大丁 | Q35: 21 | R35: kg | S35: 60 | T35: =S35*Q35 -> 1260 | V35: 肉絲 | X35: 21 | Y35: kg | Z35: 220 | AA35: =Z35*X35 -> 4620 | AC35: 備品 | AE35: 10 | AF35: 片 | AH35: =AG35*AE35 -> 0 | AJ35: 洋蔥 | AK35: 片 | AL35: 19 | AM35: kg | AN35: 60 | AO35: =AN35*AL35 -> 1140
H36: 紅蘿蔔(手切) | I36: 大丁 | J36: 3 | K36: kg | L36: 45 | M36: =L36*J36 -> 135 | O36: 洋蔥 | P36: 中丁 | Q36: 11 | R36: kg | S36: 60 | T36: =S36*Q36 -> 660 | V36: 木耳 | W36: 絲 | X36: 3 | Y36: kg | Z36: 130 | AA36: =Z36*X36 -> 390 | AH36: =AG36*AE36 -> 0 | AJ36: 薑泥 | AL36: 1 | AM36: kg | AN36: 200 | AO36: =AN36*AL36 -> 200
H37: 熟白芝麻 | J37: 0.3 | K37: kg | L37: 300 | M37: =L37*J37 -> 90 | O37: 紅蘿蔔 | P37: 手切 | Q37: 3 | R37: kg | S37: 40 | T37: =S37*Q37 -> 120 | V37: 紅蘿蔔 | W37: 絲 | X37: 2 | Y37: kg | Z37: 40 | AA37: =Z37*X37 -> 80 | AH37: =AG37*AE37 -> 0 | AJ37: 紅蘿蔔 | AK37: 片 | AL37: 2 | AM37: kg | AN37: 40 | AO37: =AN37*AL37 -> 80
H38: 照燒醬 | I38: 穀盛1.8L | J38: 2 | K38: 大罐 | L38: 350 | M38: =L38*J38 -> 700 | T38: =S38*Q38 -> 0 | V38: 鮮筍絲 | W38: 絲 | X38: 20 | Y38: kg | Z38: 120 | AA38: =Z38*X38 -> 2400 | AC38: 薏仁 | AD38: 6/5 | AE38: 5 | AF38: kg | AG38: 100 | AH38: =AG38*AE38 -> 500 | AO38: =AN38*AL38 -> 0
M39: =L39*J39 -> 0 | T39: =S39*Q39 -> 0 | V39: 鮮香菇 | W39: 絲 | X39: 4 | Y39: kg | Z39: 100 | AA39: =Z39*X39 -> 400 | AH39: =AG39*AE39 -> 0 | AO39: =AN39*AL39 -> 0
M40: =L40*J40 -> 0 | T40: =S40*Q40 -> 0 | V40: 雞蛋 | X40: 10 | Y40: kg | Z40: 100 | AA40: =Z40*X40 -> 1000 | AH40: =AG40*AE40 -> 0 | AJ40: 醬油白醋糖比例各一.淋上香油勾薄芡 | AO40: =AN40*AL40 -> 0
H41: 胚芽米 | I41: 6/2 | J41: 5 | K41: kg | L41: 100 | M41: =L41*J41 -> 500 | T41: =S41*Q41 -> 0 | AA41: =Z41*X41 -> 0 | AC41: 筆管麵沒有備案螺旋麵 | AH41: =AG41*AE41 -> 0 | AO41: =AN41*AL41 -> 0
M42: =L42*J42 -> 0 | T42: =S42*Q42 -> 0 | AA42: =Z42*X42 -> 0 | AC42: 番茄醬 | AD42: 3K | AE42: 2 | AF42: 桶 | AG42: 280 | AH42: =AG42*AE42 -> 560 | AO42: =AN42*AL42 -> 0
M43: =L43*J43 -> 0 | T43: =S43*Q43 -> 0 | AA43: =Z43*X43 -> 0 | AH43: =AG43*AE43 -> 0 | AO43: =AN43*AL43 -> 0
M44: =L44*J44 -> 0 | T44: =S44*Q44 -> 0 | AA44: =Z44*X44 -> 0 | AH44: =AG44*AE44 -> 0 | AO44: =AN44*AL44 -> 0
M45: =L45*J45 -> 0 | T45: =S45*Q45 -> 0 | AA45: =Z45*X45 -> 0 | AH45: =AG45*AE45 -> 0 | AO45: =AN45*AL45 -> 0
M46: =L46*J46 -> 0 | T46: =S46*Q46 -> 0 | AA46: =Z46*X46 -> 0 | AH46: =AG46*AE46 -> 0 | AO46: =AN46*AL46 -> 0
M47: =L47*J47 -> 0 | T47: =S47*Q47 -> 0 | AA47: =Z47*X47 -> 0 | AH47: =AG47*AE47 -> 0 | AO47: =AN47*AL47 -> 0
M48: =L48*J48 -> 0 | T48: =S48*Q48 -> 0 | AA48: =Z48*X48 -> 0 | AH48: =AG48*AE48 -> 0 | AO48: =AN48*AL48 -> 0
A49: 主菜二 | M49: =L49*J49 -> 0 | T49: =S49*Q49 -> 0 | X49: 10 | AA49: =Z49*X49 -> 0 | AH49: =AG49*AE49 -> 0 | AO49: =AN49*AL49 -> 0
M50: =L50*J50 -> 0 | T50: =S50*Q50 -> 0 | X50: 10 | AA50: =Z50*X50 -> 0 | AH50: =AG50*AE50 -> 0 | AO50: =AN50*AL50 -> 0
M51: =L51*J51 -> 0 | T51: =S51*Q51 -> 0 | X51: 10 | AA51: =Z51*X51 -> 0 | AH51: =AG51*AE51 -> 0 | AO51: =AN51*AL51 -> 0
M52: =L52*J52 -> 0 | T52: =S52*Q52 -> 0 | X52: 10 | AA52: =Z52*X52 -> 0 | AH52: =AG52*AE52 -> 0 | AO52: =AN52*AL52 -> 0
M53: =L53*J53 -> 0 | T53: =S53*Q53 -> 0 | X53: 10 | AA53: =Z53*X53 -> 0 | AH53: =AG53*AE53 -> 0 | AO53: =AN53*AL53 -> 0
M54: =L54*J54 -> 0 | T54: =S54*Q54 -> 0 | X54: 10 | AA54: =Z54*X54 -> 0 | AH54: =AG54*AE54 -> 0 | AO54: =AN54*AL54 -> 0
M55: =L55*J55 -> 0 | T55: =S55*Q55 -> 0 | X55: 10 | AA55: =Z55*X55 -> 0 | AH55: =AG55*AE55 -> 0 | AO55: =AN55*AL55 -> 0
M56: =L56*J56 -> 0 | T56: =S56*Q56 -> 0 | X56: 10 | AA56: =Z56*X56 -> 0 | AH56: =AG56*AE56 -> 0 | AO56: =AN56*AL56 -> 0
M57: =L57*J57 -> 0 | T57: =S57*Q57 -> 0 | X57: 10 | AA57: =Z57*X57 -> 0 | AH57: =AG57*AE57 -> 0 | AO57: =AN57*AL57 -> 0
M58: =L58*J58 -> 0 | T58: =S58*Q58 -> 0 | X58: 10 | AA58: =Z58*X58 -> 0 | AH58: =AG58*AE58 -> 0 | AO58: =AN58*AL58 -> 0
M59: =L59*J59 -> 0 | T59: =S59*Q59 -> 0 | X59: 10 | AA59: =Z59*X59 -> 0 | AH59: =AG59*AE59 -> 0 | AO59: =AN59*AL59 -> 0
M60: =L60*J60 -> 0 | T60: =S60*Q60 -> 0 | X60: 10 | AA60: =Z60*X60 -> 0 | AH60: =AG60*AE60 -> 0 | AO60: =AN60*AL60 -> 0
M61: =L61*J61 -> 0 | T61: =S61*Q61 -> 0 | X61: 10 | AA61: =Z61*X61 -> 0 | AH61: =AG61*AE61 -> 0 | AO61: =AN61*AL61 -> 0
... M63: =L63*J63 -> 0 | T63: =S63*Q63 -> 0 | X63: 10 | AA63: =Z63*X63 -> 0 | AH63: =AG63*AE63 -> 0 | AO63: =AN63*AL63 -> 0
A64: 主菜三 | M64: =L64*J64 -> 0 | T64: =S64*Q64 -> 0 | X64: 10 | AA64: =Z64*X64 -> 0 | AH64: =AG64*AE64 -> 0 | AO64: =AN64*AL64 -> 0
M65: =L65*J65 -> 0 | T65: =S65*Q65 -> 0 | X65: 10 | AA65: =Z65*X65 -> 0 | AH65: =AG65*AE65 -> 0 | AO65: =AN65*AL65 -> 0
M66: =L66*J66 -> 0 | T66: =S66*Q66 -> 0 | X66: 10 | AA66: =Z66*X66 -> 0 | AH66: =AG66*AE66 -> 0 | AO66: =AN66*AL66 -> 0
M67: =L67*J67 -> 0 | T67: =S67*Q67 -> 0 | X67: 10 | AA67: =Z67*X67 -> 0 | AH67: =AG67*AE67 -> 0 | AO67: =AN67*AL67 -> 0
M68: =L68*J68 -> 0 | T68: =S68*Q68 -> 0 | X68: 10 | AA68: =Z68*X68 -> 0 | AH68: =AG68*AE68 -> 0 | AO68: =AN68*AL68 -> 0
M69: =L69*J69 -> 0 | T69: =S69*Q69 -> 0 | X69: 10 | AA69: =Z69*X69 -> 0 | AH69: =AG69*AE69 -> 0 | AO69: =AN69*AL69 -> 0
...

Sheet Week_1.. (素)
A1: 嘉義市東區民族國小 2025年6月1週午餐菜單素
B2: 44640 | D2: 日 | F2: 人 | G2: 45810 | I2: 一 | J2: 23 | K2: 人 | N2: =G2+1 -> 45811 | P2: 二 | Q2: 23 | R2: 人 | U2: =N2+1 -> 45812 | W2: 三 | X2: 23 | Y2: 人 | AB2: =U2+1 -> 45813 | AD2: 四 | AE2: 23 | AF2: 人 | AI2: =AB2+1 -> 45814 | AK2: 五 | AL2: 23 | AM2: 人
B3: 菜名 | C3: 食材 | D3: 規格 | E3: 數量 | F3: 單位 | G3: 菜名 | H3: 食材 | I3: 規格 | J3: 數量 | K3: 單位 | N3: 菜名 | O3: 食材 | P3: 規格 | Q3: 數量 | R3: 單位 | U3: 菜名 | V3: 食材 | W3: 規格 | X3: 數量 | Y3: 單位 | AB3: 菜名 | AC3: 食材 | AD3: 規格 | AE3: 數量 | AF3: 單位 | AI3: 菜名 | AJ3: 食材 | AK3: 規格 | AL3: 數量 | AM3: 單位
A4: 主食
A19: 主食二
A34: 主菜 | G34: 照燒雞丁 | H34: 小四方豆干 | J34: 1 | K34: kg | L34: 100 | M34: =L34*J34 -> 100 | N34: 馬鈴薯燉肉 | O34: 素雞丁 | Q34: 2 | R34: kg | S34: 190 | T34: =S34*Q34 -> 380 | U34: 鮮肉絲羹飯 | V34: 大白菜 | W34: 段 | X34: 0.6 | Y34: kg | Z34: 40 | AA34: =Z34*X34 -> 24 | AB34: 炸鰻魚 | AC34: 素鰻魚 | AD34: 每人1片 | AE34: 23 | AF34: 片 | AI34: 黑醋雞 | AJ34: 杏鮑菇 | AK34: 大丁 | AL34: 1 | AM34: kg | AN34: 190 | AO34: =AN34*AL34 -> 190
H35: 素雞丁 | J35: 1 | K35: kg | L35: 250 | M35: =L35*J35 -> 250 | O35: 馬K | P35: 手切大丁 | Q35: 1.5 | R35: kg | S35: 60 | T35: =S35*Q35 -> 90 | V35: 素皮絲 | W35: 濕切 | X35: 0.6 | Y35: kg | Z35: 190 | AA35: =Z35*X35 -> 114 | AC35: 地瓜削皮 | AD35: 不切 | AE35: 2 | AF35: kg | AJ35: 小四方豆干 | AL35: 1 | AM35: kg | AN35: 40 | AO35: =AN35*AL35 -> 40
H36: 紅蘿蔔 | I36: 大丁 | J36: 0.2 | K36: kg | L36: 40 | M36: =L36*J36 -> 8 | O36: 紅蘿蔔 | P36: 手切 | Q36: 0.3 | R36: kg | S36: 40 | T36: =S36*Q36 -> 12 | V36: 木耳 | W36: 絲 | X36: 0.1 | Y36: kg | Z36: 130 | AA36: =Z36*X36 -> 13 | AN36: 150 | AO36: =AN36*AL36 -> 0
H37: 小黃瓜 | I37: 大丁 | J37: 0.2 | K37: kg | L37: 40 | M37: =L37*J37 -> 8 | S37: 95 | T37: =S37*Q37 -> 0 | V37: 紅蘿蔔 | W37: 絲 | X37: 0.1 | Y37: kg | Z37: 40 | AA37: =Z37*X37 -> 4 | AN37: 130 | AO37: =AN37*AL37 -> 0
H38: 白芝麻 | J38: 同葷 | M38: 0 | S38: 200 | T38: =S38*Q38 -> 0 | V38: 鮮筍絲 | W38: 絲 | X38: 0.3 | Y38: kg | Z38: 95 | AA38: =Z38*X38 -> 28.5 | AN38: 120 | AO38: =AN38*AL38 -> 0
M39: =L39*J39 -> 0 | T39: =S39*Q39 -> 0 | V39: 鮮香菇 | W39: 絲 | X39: 0.1 | Y39: kg | Z39: 155 | AA39: =Z39*X39 -> 15.5 | AN39: 180 | AO39: =AN39*AL39 -> 0
M40: =L40*J40 -> 0 | T40: =S40*Q40 -> 0 | V40: 雞蛋 | X40: 0.1 | Y40: kg | Z40: 113 | AA40: =Z40*X40 -> 11.3 | AN40: 180 | AO40: =AN40*AL40 -> 0
M41: =L41*J41 -> 0 | T41: =S41*Q41 -> 0 | Z41: 150 | AA41: =Z41*X41 -> 0 | AO41: =AN41*AL41 -> 0
M42: =L42*J42 -> 0 | T42: =S42*Q42 -> 0 | AA42: =Z42*X42 -> 0 | AO42: =AN42*AL42 -> 0
M43: =L43*J43 -> 0 | T43: =S43*Q43 -> 0 | AA43: =Z43*X43 -> 0 | AO43: =AN43*AL43 -> 0
M44: =L44*J44 -> 0 | T44: =S44*Q44 -> 0 | AA44: =Z44*X44 -> 0 | AO44: =AN44*AL44 -> 0
M45: =L45*J45 -> 0 | T45: =S45*Q45 -> 0 | AA45: =Z45*X45 -> 0 | AO45: =AN45*AL45 -> 0
M46: =L46*J46 -> 0 | T46: =S46*Q46 -> 0 | AA46: =Z46*X46 -> 0 | AO46: =AN46*AL46 -> 0
M47: =L47*J47 -> 0 | T47: =S47*Q47 -> 0 | AA47: =Z47*X47 -> 0 | AO47: =AN47*AL47 -> 0
M48: =L48*J48 -> 0 | T48: =S48*Q48 -> 0 | AA48: =Z48*X48 -> 0 | AO48: =AN48*AL48 -> 0
A49: 主菜二 | M49: =L49*J49 -> 0 | T49: =S49*Q49 -> 0 | X49: 10 | AA49: =Z49*X49 -> 0 | AO49: =AN49*AL49 -> 0
M50: =L50*J50 -> 0 | T50: =S50*Q50 -> 0 | X50: 10 | AA50: =Z50*X50 -> 0 | AO50: =AN50*AL50 -> 0
M51: =L51*J51 -> 0 | T51: =S51*Q51 -> 0 | X51: 10 | AA51: =Z51*X51 -> 0 | AO51: =AN51*AL51 -> 0
M52: =L52*J52 -> 0 | T52: =S52*Q52 -> 0 | X52: 10 | AA52: =Z52*X52 -> 0 | AO52: =AN52*AL52 -> 0
M53: =L53*J53 -> 0 | T53: =S53*Q53 -> 0 | X53: 10 | AA53: =Z53*X53 -> 0 | AO53: =AN53*AL53 -> 0
M54: =L54*J54 -> 0 | T54: =S54*Q54 -> 0 | X54: 10 | AA54: =Z54*X54 -> 0 | AO54: =AN54*AL54 -> 0
M55: =L55*J55 -> 0 | T55: =S55*Q55 -> 0 | X55: 10 | AA55: =Z55*X55 -> 0 | AO55: =AN55*AL55 -> 0
M56: =L56*J56 -> 0 | T56: =S56*Q56 -> 0 | X56: 10 | AA56: =Z56*X56 -> 0 | AO56: =AN56*AL56 -> 0
M57: =L57*J57 -> 0 | T57: =S57*Q57 -> 0 | X57: 10 | AA57: =Z57*X57 -> 0 | AO57: =AN57*AL57 -> 0
M58: =L58*J58 -> 0 | T58: =S58*Q58 -> 0 | X58: 10 | AA58: =Z58*X58 -> 0 | AO58: =AN58*AL58 -> 0
M59: =L59*J59 -> 0 | T59: =S59*Q59 -> 0 | X59: 10 | AA59: =Z59*X59 -> 0 | AO59: =AN59*AL59 -> 0
M60: =L60*J60 -> 0 | T60: =S60*Q60 -> 0 | X60: 10 | AA60: =Z60*X60 -> 0 | AO60: =AN60*AL60 -> 0
M61: =L61*J61 -> 0 | T61: =S61*Q61 -> 0 | X61: 10 | AA61: =Z61*X61 -> 0 | AO61: =AN61*AL61 -> 0
... M63: =L63*J63 -> 0 | T63: =S63*Q63 -> 0 | X63: 10 | AA63: =Z63*X63 -> 0 | AO63: =AN63*AL63 -> 0
A64: 主菜三 | M64: =L64*J64 -> 0 | T64: =S64*Q64 -> 0 | X64: 10 | AA64: =Z64*X64 -> 0 | AO64: =AN64*AL64 -> 0
M65: =L65*J65 -> 0 | T65: =S65*Q65 -> 0 | X65: 10 | AA65: =Z65*X65 -> 0 | AO65: =AN65*AL65 -> 0
M66: =L66*J66 -> 0 | T66: =S66*Q66 -> 0 | X66: 10 | AA66: =Z66*X66 -> 0 | AO66: =AN66*AL66 -> 0
M67: =L67*J67 -> 0 | T67: =S67*Q67 -> 0 | X67: 10 | AA67: =Z67*X67 -> 0 | AO67: =AN67*AL67 -> 0
M68: =L68*J68 -> 0 | T68: =S68*Q68 -> 0 | X68: 10 | AA68: =Z68*X68 -> 0 | AO68: =AN68*AL68 -> 0
M69: =L69*J69 -> 0 | T69: =S69*Q69 -> 0 | X69: 10 | AA69: =Z69*X69 -> 0 | AO69: =AN69*AL69 -> 0
...

Sheet Week_2
A1: 嘉義市東區民族國小 2025年6月2週午餐菜單
D2: 日 | F2: 人 | G2: 45817 | I2: 一 | J2: 709 | K2: 人 | N2: =G2+1 -> 45818 | P2: 二 | Q2: 765 | R2: 人 | U2: =N2+1 -> 45819 | W2: 三 | X2: 709 | Y2: 人 | AB2: =U2+1 -> 45820 | AD2: 四 | AE2: 709 | AF2: 人 | AI2: =AB2+1 -> 45821 | AK2: 五 | AL2: 621 | AM2: 人
B3: 菜名 | C3: 食材 | D3: 規格 | E3: 數量 | F3: 單位 | G3: 菜名 | H3: 食材 | I3: 規格 | J3: 數量 | K3: 單位 | N3: 菜名 | O3: 食材 | P3: 規格 | Q3: 數量 | R3: 單位 | U3: 菜名 | V3: 食材 | W3: 規格 | X3: 數量 | Y3: 單位 | AB3: 菜名 | AC3: 食材 | AD3: 規格 | AE3: 數量 | AF3: 單位 | AI3: 菜名 | AJ3: 食材 | AK3: 規格 | AL3: 數量 | AM3: 單位
A4: 主食 | G4: 燕麥飯 | N4: 白米飯 | O4: 英語村56葷1素 | U4: 麵 | AB4: 白米飯 | AI4: 糙米飯 | AJ4: 六年級畢業典禮 當天開始六年級不用餐88葷+1素
A6: 主菜 | G6: 紅燒豬腳 | H6: 肉丁 | J6: 21 | K6: kg | L6: 220 | M6: =J6*L6 -> 4620 | N6: 泰式檸檬魚 | O6: 水鯊魚丁 | Q6: 81 | R6: kg | S6: 130 | T6: =S6*Q6 -> 10530 | U6: 榨菜肉絲乾麵 | V6: 肉絲 | X6: 24 | Y6: kg | Z6: 220 | AA6: =Z6*X6 -> 5280 | AB6: 薑汁燒肉 | AC6: 肉片 | AE6: 45 | AF6: kg | AG6: 220 | AH6: =AG6*AE6 -> 9900 | AI6: 香酥雞翅 | AJ6: 卜蜂裹粉雞翅 | AK6: CAS | AL6: 621 | AM6: 片 | AN6: 13 | AO6: =AN6*AL6 -> 8073
H7: 蹄膀 | I7: 溫 | J7: 27 | K7: kg | L7: 190 | M7: =J7*L7 -> 5130 | O7: 番茄 | P7: 小丁 | Q7: 6 | R7: kg | S7: 80 | T7: =S7*Q7 -> 480 | V7: 白豆干絲 | X7: 15 | Y7: kg | Z7: 100 | AA7: =Z7*X7 -> 1500 | AC7: 杏鮑菇 | AD7: 片 | AE7: 7 | AF7: kg | AG7: 130 | AH7: =AG7*AE7 -> 910 | AJ7: 備份 | AL7: 10 | AM7: 片 | AO7: =AN7*AL7 -> 0
H8: 紅蘿蔔 | I8: 手切大丁 | J8: 5 | K8: kg | L8: 40 | M8: =J8*L8 -> 200 | O8: 洋蔥 | P8: 小丁 | Q8: 11 | R8: kg | S8: 60 | T8: =S8*Q8 -> 660 | V8: 榨菜絲 | X8: 5 | Y8: kg | Z8: 75 | AA8: =Z8*X8 -> 375 | AC8: 洋蔥 | AD8: 絲 | AE8: 12 | AF8: kg | AG8: 60 | AH8: =AG8*AE8 -> 720 | AO8: =AN8*AL8 -> 0
H9: 白蘿蔔 | I9: 手切大丁 | J9: 20 | K9: kg | L9: 40 | M9: =J9*L9 -> 800 | O9: 九層塔 | Q9: 2 | R9: kg | S9: 150 | T9: =S9*Q9 -> 300 | V9: 高麗菜 | W9: 段 | X9: 10 | Y9: kg | Z9: 40 | AA9: =Z9*X9 -> 400 | AC9: 薑片 | AE9: 1 | AF9: kg | AG9: 120 | AH9: =AG9*AE9 -> 120 | AO9: =AN9*AL9 -> 0
H10: 薑片 | J10: 1 | K10: kg | L10: 120 | M10: =J10*L10 -> 120 | O10: 新鮮檸檬汁 | P10: 700cc | Q10: 3 | R10: 罐 | S10: 120 | T10: =S10*Q10 -> 360 | V10: 蒜末 | X10: 2 | Y10: kg | Z10: 200 | AA10: =Z10*X10 -> 400 | AC10: 薑汁 | AD10: 700cc | AE10: 1 | AF10: 罐 | AG10: 120 | AH10: =AG10*AE10 -> 120 | AO10: =AN10*AL10 -> 0
M11: =J11*L11 -> 0 | O11: 魚露 | P11: 700cc | Q11: 1 | R11: 罐 | S11: 180 | T11: =S11*Q11 -> 180 | V11: 陽春麵 | X11: 150 | Y11: 斤 | Z11: 27 | AA11: =Z11*X11 -> 4050 | AC11: 味霖 | AD11: 3k | AE11: 1 | AF11: 罐 | AG11: 280 | AH11: =AG11*AE11 -> 280 | AO11: =AN11*AL11 -> 0
M12: =J12*L12 -> 0 | T12: =S12*Q12 -> 0 | AA12: =Z12*X12 -> 0 | AC12: 薄鹽醬油 | AD12: 3k | AE12: 2 | AF12: 罐 | AG12: 280 | AH12: =AG12*AE12 -> 560 | AO12: =AN12*AL12 -> 0
H13: 燕麥 | I13: 6/2 | J13: 5 | K13: kg | L13: 100 | M13: =J13*L13 -> 500 | T13: =S13*Q13 -> 0 | AA13: =Z13*X13 -> 0 | AH13: =AG13*AE13 -> 0 | AJ13: 糙米 | AK13: 6/6 | AL13: 5 | AM13: kg | AN13: 100 | AO13: =AN13*AL13 -> 500
M14: =J14*L14 -> 0 | T14: =S14*Q14 -> 0 | AA14: =Z14*X14 -> 0 | AH14: =AG14*AE14 -> 0 | AJ14: 凍豆腐 | AL14: 18 | AM14: kg | AN14: 100 | AO14: =AN14*AL14 -> 1800
M15: =J15*L15 -> 0 | T15: =S15*Q15 -> 0 | AA15: =Z15*X15 -> 0 | AH15: =AG15*AE15 -> 0 | AO15: =AN15*AL15 -> 0
M16: =J16*L16 -> 0 | T16: =S16*Q16 -> 0 | AA16: =Z16*X16 -> 0 | AH16: =AG16*AE16 -> 0 | AO16: =AN16*AL16 -> 0
M17: =J17*L17 -> 0 | T17: =S17*Q17 -> 0 | AA17: =Z17*X17 -> 0 | AH17: =AG17*AE17 -> 0 | AO17: =AN17*AL17 -> 0
M18: =J18*L18 -> 0 | T18: =S18*Q18 -> 0 | AA18: =Z18*X18 -> 0 | AH18: =AG18*AE18 -> 0 | AO18: =AN18*AL18 -> 0
M19: =J19*L19 -> 0 | T19: =S19*Q19 -> 0 | AA19: =Z19*X19 -> 0 | AH19: =AG19*AE19 -> 0 | AO19: =AN19*AL19 -> 0
M20: =J20*L20 -> 0 | T20: =S20*Q20 -> 0 | AA20: =Z20*X20 -> 0 | AH20: =AG20*AE20 -> 0 | AO20: =AN20*AL20 -> 0
A21: 主菜二 | M21: =J21*L21 -> 0 | T21: =S21*Q21 -> 0 | AA21: =Z21*X21 -> 0 | AH21: =AG21*AE21 -> 0 | AO21: =AN21*AL21 -> 0
M22: =J22*L22 -> 0 | T22: =S22*Q22 -> 0 | AA22: =Z22*X22 -> 0 | AH22: =AG22*AE22 -> 0 | AO22: =AN22*AL22 -> 0
M23: =J23*L23 -> 0 | T23: =S23*Q23 -> 0 | AA23: =Z23*X23 -> 0 | AH23: =AG23*AE23 -> 0 | AO23: =AN23*AL23 -> 0
M24: =J24*L24 -> 0 | T24: =S24*Q24 -> 0 | AA24: =Z24*X24 -> 0 | AH24: =AG24*AE24 -> 0 | AO24: =AN24*AL24 -> 0
M25: =J25*L25 -> 0 | T25: =S25*Q25 -> 0 | AA25: =Z25*X25 -> 0 | AH25: =AG25*AE25 -> 0 | AO25: =AN25*AL25 -> 0
M26: =J26*L26 -> 0 | T26: =S26*Q26 -> 0 | AA26: =Z26*X26 -> 0 | AH26: =AG26*AE26 -> 0 | AO26: =AN26*AL26 -> 0
M27: =J27*L27 -> 0 | T27: =S27*Q27 -> 0 | AA27: =Z27*X27 -> 0 | AH27: =AG27*AE27 -> 0 | AO27: =AN27*AL27 -> 0
M28: =J28*L28 -> 0 | T28: =S28*Q28 -> 0 | AA28: =Z28*X28 -> 0 | AH28: =AG28*AE28 -> 0 | AO28: =AN28*AL28 -> 0
M29: =J29*L29 -> 0 | T29: =S29*Q29 -> 0 | AA29: =Z29*X29 -> 0 | AH29: =AG29*AE29 -> 0 | AO29: =AN29*AL29 -> 0
M30: =J30*L30 -> 0 | T30: =S30*Q30 -> 0 | AA30: =Z30*X30 -> 0 | AH30: =AG30*AE30 -> 0 | AO30: =AN30*AL30 -> 0
M31: =J31*L31 -> 0 | T31: =S31*Q31 -> 0 | AA31: =Z31*X31 -> 0 | AH31: =AG31*AE31 -> 0 | AO31: =AN31*AL31 -> 0
M32: =J32*L32 -> 0 | T32: =S32*Q32 -> 0 | AA32: =Z32*X32 -> 0 | AH32: =AG32*AE32 -> 0 | AO32: =AN32*AL32 -> 0
M33: =J33*L33 -> 0 | T33: =S33*Q33 -> 0 | AA33: =Z33*X33 -> 0 | AH33: =AG33*AE33 -> 0 | AO33: =AN33*AL33 -> 0
... M35: =J35*L35 -> 0 | T35: =S35*Q35 -> 0 | AA35: =Z35*X35 -> 0 | AH35: =AG35*AE35 -> 0 | AO35: =AN35*AL35 -> 0
A36: 主菜三 | M36: =J36*L36 -> 0 | T36: =S36*Q36 -> 0 | AA36: =Z36*X36 -> 0 | AH36: =AG36*AE36 -> 0 | AO36: =AN36*AL36 -> 0
M37: =J37*L37 -> 0 | T37: =S37*Q37 -> 0 | AA37: =Z37*X37 -> 0 | AH37: =AG37*AE37 -> 0 | AO37: =AN37*AL37 -> 0
M38: =J38*L38 -> 0 | T38: =S38*Q38 -> 0 | AA38: =Z38*X38 -> 0 | AH38: =AG38*AE38 -> 0 | AO38: =AN38*AL38 -> 0
M39: =J39*L39 -> 0 | T39: =S39*Q39 -> 0 | AA39: =Z39*X39 -> 0 | AH39: =AG39*AE39 -> 0 | AO39: =AN39*AL39 -> 0
M40: =J40*L40 -> 0 | T40: =S40*Q40 -> 0 | AA40: =Z40*X40 -> 0 | AH40: =AG40*AE40 -> 0 | AO40: =AN40*AL40 -> 0
M41: =J41*L41 -> 0 | T41: =S41*Q41 -> 0 | AA41: =Z41*X41 -> 0 | AH41: =AG41*AE41 -> 0 | AO41: =AN41*AL41 -> 0
M42: =J42*L42 -> 0 | T42: =S42*Q42 -> 0 | AA42: =Z42*X42 -> 0 | AH42: =AG42*AE42 -> 0 | AO42: =AN42*AL42 -> 0
...

Sheet 4.10校外研習另計
A1: 嘉義市東區民族國小 2024年4月2週午餐菜單
D2: 日 | F2: 人 | G2: 45390 | I2: 一 | K2: 人 | N2: =G2+1 -> 45391 | P2: 二 | R2: 人 | U2: =N2+1 -> 45392 | W2: 三 | X2: 60 | Y2: 人 | AB2: =U2+1 -> 45393 | AD2: 四 | AF2: 人 | AI2: =AB2+1 -> 45394 | AK2: 五 | AM2: 人
B3: 菜名 | C3: 食材 | D3: 規格 | E3: 數量 | F3: 單位 | G3: 菜名 | H3: 食材 | I3: 規格 | J3: 數量 | K3: 單位 | N3: 菜名 | O3: 食材 | P3: 規格 | Q3: 數量 | R3: 單位 | U3: 菜名 | V3: 食材 | W3: 規格 | X3: 數量 | Y3: 單位 | AB3: 菜名 | AC3: 食材 | AD3: 規格 | AE3: 數量 | AF3: 單位 | AI3: 菜名 | AJ3: 食材 | AK3: 規格 | AL3: 數量 | AM3: 單位
A4: 主食 | U4: 白米飯 | V4: 校外研習另計
A6: 主菜 | S6: 13 | T6: =S6*Q6 -> 0 | U6: 筍絲肉粥 | V6: 絞肉 | X6: 1.5 | Y6: kg | Z6: 180 | AA6: =Z6*X6 -> 270 | AN6: 170 | AO6: =AN6*AL6 -> 0
T7: =S7*Q7 -> 0 | V7: 鮮筍絲 | X7: 1.5 | Y7: kg | Z7: 95 | AA7: =Z7*X7 -> 142.5 | AN7: 350 | AO7: =AN7*AL7 -> 0
S8: 150 | T8: =S8*Q8 -> 0 | V8: 鮮香菇 | W8: 絲 | X8: 0.5 | Y8: kg | Z8: 155 | AA8: =Z8*X8 -> 77.5 | AN8: 200 | AO8: =AN8*AL8 -> 0
S9: 120 | T9: =S9*Q9 -> 0 | V9: 乾香菇 | W9: 絲 | X9: 0.1 | Y9: 斤 | Z9: 1200 | AA9: =Z9*X9 -> 120 | AN9: 120 | AO9: =AN9*AL9 -> 0
S10: 450 | T10: =S10*Q10 -> 0 | V10: 高麗菜 | W10: 絲 | X10: 1 | Y10: kg | Z10: 40 | AA10: =Z10*X10 -> 40 | AN10: 130 | AO10: =AN10*AL10 -> 0
T11: =S11*Q11 -> 0 | V11: 芹菜珠 | W11: 切珠 | X11: 0.5 | Y11: kg | Z11: 100 | AA11: =Z11*X11 -> 50 | AO11: =AN11*AL11 -> 0
T12: =S12*Q12 -> 0 | V12: 紅蔥頭 | W12: 片 | X12: 0.1 | Y12: kg | Z12: 180 | AA12: =Z12*X12 -> 18 | AO12: =AN12*AL12 -> 0
T13: =S13*Q13 -> 0 | V13: 油蔥酥廚房叫貨 | AA13: =Z13*X13 -> 0 | AO13: =AN13*AL13 -> 0
T14: =S14*Q14 -> 0 | AA14: =Z14*X14 -> 0 | AO14: =AN14*AL14 -> 0
T15: =S15*Q15 -> 0 | AA15: =Z15*X15 -> 0 | AO15: =AN15*AL15 -> 0
T16: =S16*Q16 -> 0 | AA16: =Z16*X16 -> 0 | AO16: =AN16*AL16 -> 0
T17: =S17*Q17 -> 0 | AA17: =Z17*X17 -> 0 | AO17: =AN17*AL17 -> 0
T18: =S18*Q18 -> 0 | AA18: =Z18*X18 -> 0 | AO18: =AN18*AL18 -> 0
T19: =S19*Q19 -> 0 | AA19: =Z19*X19 -> 0 | AO19: =AN19*AL19 -> 0
T20: =S20*Q20 -> 0 | AA20: =Z20*X20 -> 0 | AO20: =AN20*AL20 -> 0
A21: 主菜二 | T21: =S21*Q21 -> 0 | AA21: =Z21*X21 -> 0 | AO21: =AN21*AL21 -> 0
T22: =S22*Q22 -> 0 | AA22: =Z22*X22 -> 0 | AO22: =AN22*AL22 -> 0
T23: =S23*Q23 -> 0 | AA23: =Z23*X23 -> 0 | AO23: =AN23*AL23 -> 0
T24: =S24*Q24 -> 0 | AA24: =Z24*X24 -> 0 | AO24: =AN24*AL24 -> 0
T25: =S25*Q25 -> 0 | AA25: =Z25*X25 -> 0 | AO25: =AN25*AL25 -> 0
T26: =S26*Q26 -> 0 | AA26: =Z26*X26 -> 0 | AO26: =AN26*AL26 -> 0
T27: =S27*Q27 -> 0 | AA27: =Z27*X27 -> 0 | AO27: =AN27*AL27 -> 0
T28: =S28*Q28 -> 0 | AA28: =Z28*X28 -> 0 | AO28: =AN28*AL28 -> 0
T29: =S29*Q29 -> 0 | AA29: =Z29*X29 -> 0 | AO29: =AN29*AL29 -> 0
T30: =S30*Q30 -> 0 | AA30: =Z30*X30 -> 0 | AO30: =AN30*AL30 -> 0
T31: =S31*Q31 -> 0 | AA31: =Z31*X31 -> 0 | AO31: =AN31*AL31 -> 0
T32: =S32*Q32 -> 0 | AA32: =Z32*X32 -> 0 | AO32: =AN32*AL32 -> 0
T33: =S33*Q33 -> 0 | AA33: =Z33*X33 -> 0 | AO33: =AN33*AL33 -> 0
... T35: =S35*Q35 -> 0 | AA35: =Z35*X35 -> 0 | AO35: =AN35*AL35 -> 0
A36: 主菜三 | T36: =S36*Q36 -> 0 | AA36: =Z36*X36 -> 0 | AO36: =AN36*AL36 -> 0
T37: =S37*Q37 -> 0 | AA37: =Z37*X37 -> 0 | AO37: =AN37*AL37 -> 0
T38: =S38*Q38 -> 0 | AA38: =Z38*X38 -> 0 | AO38: =AN38*AL38 -> 0
T39: =S39*Q39 -> 0 | AA39: =Z39*X39 -> 0 | AO39: =AN39*AL39 -> 0
T40: =S40*Q40 -> 0 | AA40: =Z40*X40 -> 0 | AO40: =AN40*AL40 -> 0
T41: =S41*Q41 -> 0 | AA41: =Z41*X41 -> 0 | AO41: =AN41*AL41 -> 0
T42: =S42*Q42 -> 0 | AA42: =Z42*X42 -> 0 | AO42: =AN42*AL42 -> 0
...

Sheet Week_2(素)
A1: 嘉義市東區民族國小 2025年6月2週午餐菜單素
D2: 日 | F2: 人 | G2: 45817 | I2: 一 | J2: 23 | K2: 人 | N2: =G2+1 -> 45818 | P2: 二 | Q2: 24 | R2: 人 | U2: =N2+1 -> 45819 | W2: 三 | X2: 23 | Y2: 人 | AB2: =U2+1 -> 45820 | AD2: 四 | AE2: 23 | AF2: 人 | AI2: =AB2+1 -> 45821 | AK2: 五 | AL2: 22 | AM2: 人
B3: 菜名 | C3: 食材 | D3: 規格 | E3: 數量 | F3: 單位 | G3: 菜名 | H3: 食材 | I3: 規格 | J3: 數量 | K3: 單位 | N3: 菜名 | O3: 食材 | P3: 規格 | Q3: 數量 | R3: 單位 | U3: 菜名 | V3: 食材 | W3: 規格 | X3: 數量 | Y3: 單位 | AB3: 菜名 | AC3: 食材 | AD3: 規格 | AE3: 數量 | AF3: 單位 | AI3: 菜名 | AJ3: 食材 | AK3: 規格 | AL3: 數量 | AM3: 單位
A4: 主食
A19: 主食二
A34: 主菜 | G34: 紅燒豬腳 | L34: 150 | M34: =L34*J34 -> 0 | N34: 打拋麵腸 | O34: 麵腸 | P34: 不切 | Q34: 1 | R34: kg | S34: 15 | T34: =S34*AE34 -> 22.5 | U34: 榨菜肉絲乾麵 | V34: 白豆干絲 | X34: 2 | Y34: kg | Z34: 24 | AA34: =Z34*X34 -> 48 | AB34: 薑汁燒肉 | AC34: 豆腸 | AE34: 1.5 | AF34: kg | AG34: 150 | AH34: =AG34*Q35 -> 90 | AI34: 香酥豬排 | AJ34: 素豬排 | AL34: 22 | AM34: 片 | AN34: 130 | AO34: =AN34*AL34 -> 2860
H35: 麵輪 | I35: 濕 | J35: 1.5 | K35: kg | L35: 35 | M35: =L35*J35 -> 52.5 | O35: 番茄 | P35: 不切 | Q35: 0.6 | R35: kg | V35: 杏鮑菇 | W35: 不切 | X35: 1 | Y35: kg | Z35: 120 | AA35: =Z35*X35 -> 120 | AC35: 杏鮑菇 | AD35: 手切大丁 | AE35: 0.3 | AF35: kg | AG35: 35 | AH35: =AG35*#REF! -> #REF! | AJ35: 備份 | AL35: 3 | AM35: 片 | AN35: 35 | AO35: =AN35*AL35 -> 105
H36: 紅蘿蔔 | I36: 手切大丁 | J36: 0.1 | K36: kg | L36: 100 | M36: =L36*J36 -> 10 | O36: 杏鮑菇 | P36: 不切 | Q36: 0.6 | R36: kg | V36: 高麗菜 | W36: 片 | X36: 0.5 | Y36: kg | Z36: 800 | AA36: =Z36*X36 -> 400 | AC36: 紅蘿蔔 | AD36: 中丁 | AE36: 0.2 | AF36: kg | AG36: 85 | AH36: =AG36*Q36 -> 51 | AJ36: 四季豆 | AK36: (去頭尾) | AL36: 1.5 | AM36: kg | AN36: 100 | AO36: =AN36*AL36 -> 150
H37: 白蘿蔔 | I37: 手切大丁 | J37: 0.5 | K37: kg | L37: 450 | M37: =L37*J37 -> 225 | O37: 九層塔 | Q37: 0.1 | R37: kg | V37: 榨菜絲 | X37: 0.3 | Y37: kg | Z37: 150 | AA37: =Z37*X37 -> 45 | AG37: 120 | AH37: =AG37*Q37 -> 12 | AN37: 100 | AO37: =AN37*AL37 -> 0
H38: 薑片 | J38: 0.1 | K38: kg | M38: =L38*J38 -> 0 | O38: 新鮮檸檬汁 | Q38: 葷取 | AA38: =Z38*X38 -> 0 | AC38: 薑片 | AE38: 0.1 | AF38: kg | AG38: 50 | AH38: =AG38*Q38 -> #VALUE! | AN38: 100 | AO38: =AN38*AL38 -> 0
M39: =L39*J39 -> 0 | AA39: =Z39*X39 -> 0 | AC39: 薑汁 | AE39: 葷取 | AF39: 罐 | AG39: 100 | AH39: =AG39*Q39 -> 0 | AO39: =AN39*AL39 -> 0
M40: =L40*J40 -> 0 | AA40: =Z40*X40 -> 0 | AO40: =AN40*AL40 -> 0
M41: =L41*J41 -> 0 | AA41: =Z41*X41 -> 0 | AO41: =AN41*AL41 -> 0
M42: =L42*J42 -> 0 | AA42: =Z42*X42 -> 0 | AO42: =AN42*AL42 -> 0
M43: =L43*J43 -> 0 | AA43: =Z43*X43 -> 0 | AO43: =AN43*AL43 -> 0
M44: =L44*J44 -> 0 | AA44: =Z44*X44 -> 0 | AO44: =AN44*AL44 -> 0
M45: =L45*J45 -> 0 | AA45: =Z45*X45 -> 0 | AO45: =AN45*AL45 -> 0
M46: =L46*J46 -> 0 | AA46: =Z46*X46 -> 0 | AO46: =AN46*AL46 -> 0
M47: =L47*J47 -> 0 | AA47: =Z47*X47 -> 0 | AO47: =AN47*AL47 -> 0
M48: =L48*J48 -> 0 | AA48: =Z48*X48 -> 0 | AO48: =AN48*AL48 -> 0
A49: 主菜二 | AO49: =AN49*AL49 -> 0
AO50: =AN50*AL50 -> 0
AO51: =AN51*AL51 -> 0
AO52: =AN52*AL52 -> 0
AO53: =AN53*AL53 -> 0
AO54: =AN54*AL54 -> 0
AO55: =AN55*AL55 -> 0
AO56: =AN56*AL56 -> 0
AO57: =AN57*AL57 -> 0
AO58: =AN58*AL58 -> 0
AO59: =AN59*AL59 -> 0
AO60: =AN60*AL60 -> 0
AO61: =AN61*AL61 -> 0
... AO63: =AN63*AL63 -> 0
A64: 主菜三 | AO64: =AN64*AL64 -> 0
AO65: =AN65*AL65 -> 0
AO66: =AN66*AL66 -> 0
AO67: =AN67*AL67 -> 0
AO68: =AN68*AL68 -> 0
AO69: =AN69*AL69 -> 0
...

Sheet Week_3
A1: 嘉義市東區民族國小 2025年6月3週午餐菜單
B2: 44626 | D2: 日 | F2: 人 | G2: 45824 | I2: 一 | J2: 672 | K2: 人 | N2: =G2+1 -> 45825 | P2: 二 | Q2: 671 | R2: 人 | U2: =N2+1 -> 45826 | W2: 三 | X2: 621 | Y2: 人 | AB2: =U2+1 -> 45827 | AD2: 四 | AE2: 621 | AF2: 人 | AI2: =AB2+1 -> 45828 | AK2: 五 | AL2: 621 | AM2: 人
B3: 菜名 | C3: 食材 | D3: 規格 | E3: 數量 | F3: 單位 | G3: 菜名 | H3: 食材 | I3: 規格 | J3: 數量 | K3: 單位 | N3: 菜名 | O3: 食材 | P3: 規格 | Q3: 數量 | R3: 單位 | U3: 菜名 | V3: 食材 | W3: 規格 | X3: 數量 | Y3: 單位 | AB3: 菜名 | AC3: 食材 | AD3: 規格 | AE3: 數量 | AF3: 單位 | AI3: 菜名 | AJ3: 食材 | AK3: 規格 | AL3: 數量 | AM3: 單位
A4: 主食 | G4: 小米飯 | H4: 英語村51葷 | N4: 白米飯 | O4: 英語村50葷2素 | U4: 白米飯 | AB4: 白米飯 | AI4: 紅黎飯
A19: 主食二
A34: 主菜 | G34: 香滷翅小腿 | H34: 翅小腿 | J34: 1344 | K34: 塊 | L34: 7 | M34: =L34*J34 -> 9408 | N34: 香菇肉燥 | O34: 瘦絞肉 | Q34: 42 | R34: kg | S34: 180 | T34: =S34*Q34 -> 7560 | U34: 茄汁菇菇燉飯 | V34: 清雞胸肉 | W34: 片 | X34: 26 | Y34: kg | Z34: 180 | AA34: =Z34*X34 -> 4680 | AB34: 香酥魚排 | AC34: 調理魚排 | AE34: 621 | AF34: 片 | AG34: 10 | AH34: =AG34*AE34 -> 6210 | AI34: 安東燉雞 | AJ34: 腿丁 | AL34: 46 | AM34: kg | AN34: 190 | AO34: =AN34*AL34 -> 8740
H35: 備品 | J35: 20 | K35: 塊 | M35: =L35*J35 -> 0 | O35: 香菇小朵 | Q35: 9 | R35: kg | S35: 155 | T35: =S35*Q35 -> 1395 | V35: 秀珍菇 | X35: 8 | Y35: kg | Z35: 180 | AA35: =Z35*X35 -> 1440 | AC35: 備 | AE35: 10 | AF35: 顆 | AH35: =AG35*AE35 -> 0 | AJ35: 馬鈴薯 | AK35: 片 | AL35: 11 | AM35: kg | AN35: 60 | AO35: =AN35*AL35 -> 660
H36: 一人兩隻 | M36: =L36*J36 -> 0 | O36: 乾香菇 | P36: 提前送 | Q36: 1 | R36: 斤 | S36: 1200 | T36: =S36*Q36 -> 1200 | V36: 洋蔥 | W36: 小丁 | X36: 13 | Y36: kg | Z36: 60 | AA36: =Z36*X36 -> 780 | AH36: =AG36*AE36 -> 0 | AJ36: 薑片 | AL36: 1 | AM36: kg | AN36: 120 | AO36: =AN36*AL36 -> 120
M37: =L37*J37 -> 0 | O37: 薑片 | Q37: 1 | R37: 斤 | S37: 120 | T37: =S37*Q37 -> 120 | V37: 杏鮑菇 | W37: 小丁 | X37: 4 | Y37: kg | Z37: 130 | AA37: =Z37*X37 -> 520 | AH37: =AG37*AE37 -> 0 | AJ37: 紅蘿蔔 | AK37: 片 | AL37: 4 | AM37: kg | AN37: 40 | AO37: =AN37*AL37 -> 160
M38: =L38*J38 -> 0 | O38: 油蔥酥 | P38: 0.6k | Q38: 2 | R38: 包 | S38: 90 | T38: =S38*Q38 -> 180 | V38: 玉米粒 | X38: 6 | Y38: kg | Z38: 75 | AA38: =Z38*X38 -> 450 | AH38: =AG38*AE38 -> 0 | AJ38: 冬粉 | AL38: 3 | AM38: kg | AN38: 110 | AO38: =AN38*AL38 -> 330
M39: =L39*J39 -> 0 | T39: =S39*Q39 -> 0 | V39: 紅蘿蔔 | W39: 小丁 | X39: 3 | Y39: kg | Z39: 40 | AA39: =Z39*X39 -> 120 | AH39: =AG39*AE39 -> 0 | AJ39: 蔥段 | AL39: 1 | AM39: kg | AN39: 95 | AO39: =AN39*AL39 -> 95
M40: =L40*J40 -> 0 | T40: =S40*Q40 -> 0 | V40: 番茄糊 | W40: 3k | X40: 2 | Y40: 罐 | Z40: 350 | AA40: =Z40*X40 -> 700 | AH40: =AG40*AE40 -> 0 | AO40: =AN40*AL40 -> 0
M41: =L41*J41 -> 0 | O41: 小米 | P41: 4/21 | Q41: 5 | R41: kg | S41: 100 | T41: =S41*Q41 -> 500 | V41: 番茄醬 | W41: 3K | X41: 2 | Y41: 罐 | Z41: 280 | AA41: =Z41*X41 -> 560 | AH41: =AG41*AE41 -> 0 | AJ41: 紅藜麥 | AK41: 6/13 | AL41: 2 | AM41: kg | AN41: 300 | AO41: =AN41*AL41 -> 600
M42: =L42*J42 -> 0 | T42: =S42*Q42 -> 0 | AA42: =Z42*X42 -> 0 | AH42: =AG42*AE42 -> 0 | AJ42: 蒜末 | AK42: 0.6k | AL42: 1 | AM42: 包 | AN42: 120 | AO42: =AN42*AL42 -> 120
M43: =L43*J43 -> 0 | T43: =S43*Q43 -> 0 | AA43: =Z43*X43 -> 0 | AH43: =AG43*AE43 -> 0 | AO43: =AN43*AL43 -> 0
M44: =L44*J44 -> 0 | T44: =S44*Q44 -> 0 | AA44: =Z44*X44 -> 0 | AH44: =AG44*AE44 -> 0 | AO44: =AN44*AL44 -> 0
M45: =L45*J45 -> 0 | T45: =S45*Q45 -> 0 | AA45: =Z45*X45 -> 0 | AH45: =AG45*AE45 -> 0 | AO45: =AN45*AL45 -> 0
M46: =L46*J46 -> 0 | T46: =S46*Q46 -> 0 | AA46: =Z46*X46 -> 0 | AH46: =AG46*AE46 -> 0 | AO46: =AN46*AL46 -> 0
M47: =L47*J47 -> 0 | T47: =S47*Q47 -> 0 | AA47: =Z47*X47 -> 0 | AH47: =AG47*AE47 -> 0 | AO47: =AN47*AL47 -> 0
M48: =L48*J48 -> 0 | T48: =S48*Q48 -> 0 | AA48: =Z48*X48 -> 0 | AH48: =AG48*AE48 -> 0 | AO48: =AN48*AL48 -> 0
A49: 主菜二 | M49: =L49*J49 -> 0 | T49: =S49*Q49 -> 0 | AA49: =Z49*X49 -> 0 | AH49: =AG49*AE49 -> 0 | AO49: =AN49*AL49 -> 0
M50: =L50*J50 -> 0 | T50: =S50*Q50 -> 0 | AA50: =Z50*X50 -> 0 | AH50: =AG50*AE50 -> 0 | AO50: =AN50*AL50 -> 0
M51: =L51*J51 -> 0 | T51: =S51*Q51 -> 0 | AA51: =Z51*X51 -> 0 | AH51: =AG51*AE51 -> 0 | AO51: =AN51*AL51 -> 0
M52: =L52*J52 -> 0 | T52: =S52*Q52 -> 0 | AA52: =Z52*X52 -> 0 | AH52: =AG52*AE52 -> 0 | AO52: =AN52*AL52 -> 0
M53: =L53*J53 -> 0 | T53: =S53*Q53 -> 0 | AA53: =Z53*X53 -> 0 | AH53: =AG53*AE53 -> 0 | AO53: =AN53*AL53 -> 0
M54: =L54*J54 -> 0 | T54: =S54*Q54 -> 0 | AA54: =Z54*X54 -> 0 | AH54: =AG54*AE54 -> 0 | AO54: =AN54*AL54 -> 0
M55: =L55*J55 -> 0 | T55: =S55*Q55 -> 0 | AA55: =Z55*X55 -> 0 | AH55: =AG55*AE55 -> 0 | AO55: =AN55*AL55 -> 0
M56: =L56*J56 -> 0 | T56: =S56*Q56 -> 0 | AA56: =Z56*X56 -> 0 | AH56: =AG56*AE56 -> 0 | AO56: =AN56*AL56 -> 0
M57: =L57*J57 -> 0 | T57: =S57*Q57 -> 0 | AA57: =Z57*X57 -> 0 | AH57: =AG57*AE57 -> 0 | AO57: =AN57*AL57 -> 0
M58: =L58*J58 -> 0 | T58: =S58*Q58 -> 0 | AA58: =Z58*X58 -> 0 | AH58: =AG58*AE58 -> 0 | AO58: =AN58*AL58 -> 0
M59: =L59*J59 -> 0 | T59: =S59*Q59 -> 0 | AA59: =Z59*X59 -> 0 | AH59: =AG59*AE59 -> 0 | AO59: =AN59*AL59 -> 0
M60: =L60*J60 -> 0 | T60: =S60*Q60 -> 0 | AA60: =Z60*X60 -> 0 | AH60: =AG60*AE60 -> 0 | AO60: =AN60*AL60 -> 0
M61: =L61*J61 -> 0 | T61: =S61*Q61 -> 0 | AA61: =Z61*X61 -> 0 | AH61: =AG61*AE61 -> 0 | AO61: =AN61*AL61 -> 0
... M63: =L63*J63 -> 0 | T63: =S63*Q63 -> 0 | AA63: =Z63*X63 -> 0 | AH63: =AG63*AE63 -> 0 | AO63: =AN63*AL63 -> 0
A64: 主菜三 | M64: =L64*J64 -> 0 | T64: =S64*Q64 -> 0 | AA64: =Z64*X64 -> 0 | AH64: =AG64*AE64 -> 0 | AO64: =AN64*AL64 -> 0
M65: =L65*J65 -> 0 | T65: =S65*Q65 -> 0 | AA65: =Z65*X65 -> 0 | AH65: =AG65*AE65 -> 0 | AO65: =AN65*AL65 -> 0
M66: =L66*J66 -> 0 | T66: =S66*Q66 -> 0 | AA66: =Z66*X66 -> 0 | AH66: =AG66*AE66 -> 0 | AO66: =AN66*AL66 -> 0
M67: =L67*J67 -> 0 | T67: =S67*Q67 -> 0 | AA67: =Z67*X67 -> 0 | AH67: =AG67*AE67 -> 0 | AO67: =AN67*AL67 -> 0
M68: =L68*J68 -> 0 | T68: =S68*Q68 -> 0 | AA68: =Z68*X68 -> 0 | AH68: =AG68*AE68 -> 0 | AO68: =AN68*AL68 -> 0
M69: =L69*J69 -> 0 | T69: =S69*Q69 -> 0 | AA69: =Z69*X69 -> 0 | AH69: =AG69*AE69 -> 0 | AO69: =AN69*AL69 -> 0
...

Sheet Week_3 (素)
A1: 嘉義市東區民族國小 2025年6月3週午餐菜單素
B2: 44633 | D2: 日 | F2: 人 | G2: 45824 | I2: 一 | J2: 22 | K2: 人 | N2: =G2+1 -> 45825 | P2: 二 | Q2: 24 | R2: 人 | U2: =N2+1 -> 45826 | W2: 三 | X2: 22 | Y2: 人 | AB2: =U2+1 -> 45827 | AD2: 四 | AE2: 22 | AF2: 人 | AI2: =AB2+1 -> 45828 | AK2: 五 | AL2: 22 | AM2: 人 | AP2: 44639 | AR2: 六 | AT2: 人
B3: 菜名 | C3: 食材 | D3: 規格 | E3: 數量 | F3: 單位 | G3: 菜名 | H3: 食材 | I3: 規格 | J3: 數量 | K3: 單位 | N3: 菜名 | O3: 食材 | P3: 規格 | Q3: 數量 | R3: 單位 | U3: 菜名 | V3: 食材 | W3: 規格 | X3: 數量 | Y3: 單位 | AB3: 菜名 | AC3: 食材 | AD3: 規格 | AE3: 數量 | AF3: 單位 | AI3: 菜名 | AJ3: 食材 | AK3: 規格 | AL3: 數量 | AM3: 單位 | AP3: 菜名 | AQ3: 食材 | AR3: 規格 | AS3: 數量 | AT3: 單位
A4: 主食
A19: 主食二
A34: 主菜 | G34: 香滷翅小腿 | H34: 四角油豆腐 | I34: 52g | J34: 22 | K34: 塊 | L34: 15 | M34: =L34*#REF! -> #REF! | N34: 香菇肉燥 | O34: 黃豆乾丁 | Q34: 2 | R34: kg | S34: 130 | T34: =S34*#REF! -> #REF! | U34: 白醬菇菇燉飯 | V34: 素雞肉絲 | X34: 1 | Y34: 包 | Z34: 22 | AA34: =Z34*X34 -> 22 | AB34: 香酥猴頭菇 | AC34: 酥脆猴頭菇 | AE34: 3 | AF34: kg | AG34: 15 | AH34: =AG34*#REF! -> #REF! | AI34: 安東燉雞 | AJ34: 凍豆腐 | AL34: 1.5 | AM34: kg | AN34: 190 | AO34: =AN34*J34 -> 4180
H35: 備品 | J35: 3 | K35: 塊 | M35: =L35*#REF! -> #REF! | O35: 香菇小朵 | Q35: 0.5 | R35: kg | S35: 40 | T35: =S35*#REF! -> #REF! | V35: 袖珍菇 | X35: 0.3 | Y35: kg | Z35: 150 | AA35: =Z35*X35 -> 45 | AH35: =AG35*#REF! -> #REF! | AJ35: 馬鈴薯 | AK35: 片 | AL35: 1 | AM35: kg | AN35: 60 | AO35: =AN35*J35 -> 180
M36: =L36*#REF! -> #REF! | O36: 乾香菇 | P36: 提前送 | Q36: 0.1 | R36: kg | S36: 200 | T36: =S36*#REF! -> #REF! | V36: 杏鮑菇 | W36: 片 | X36: 0.6 | Y36: kg | Z36: 65 | AA36: =Z36*X36 -> 39 | AH36: =AG36*#REF! -> #REF! | AJ36: 薑片 | AL36: 0.1 | AM36: kg | AN36: 120 | AO36: =AN36*J36 -> 0
M37: =L37*#REF! -> #REF! | O37: 素皮絲 | P37: 濕 | Q37: 0.3 | R37: kg | T37: =S37*#REF! -> #REF! | V37: 玉米粒 | X37: 0.4 | Y37: kg | Z37: 35 | AA37: =Z37*X37 -> 14 | AH37: =AG37*#REF! -> #REF! | AJ37: 紅蘿蔔 | AK37: 片 | AL37: 0.3 | AM37: kg | AN37: 40 | AO37: =AN37*J37 -> 0
M38: =L38*#REF! -> #REF! | T38: =S38*#REF! -> #REF! | V38: 紅蘿蔔 | W38: 小丁 | X38: 0.1 | Y38: kg | Z38: 35 | AA38: =Z38*X38 -> 3.5 | AH38: =AG38*#REF! -> #REF! | AJ38: 冬粉 | AL38: 0.6 | AM38: kg | AN38: 110 | AO38: =AN38*J38 -> 0
M39: =L39*#REF! -> #REF! | T39: =S39*#REF! -> #REF! | V39: 素玉米濃湯粉 | X39: 2 | Y39: 包 | Z39: 45 | AA39: =Z39*X39 -> 90 | AH39: =AG39*#REF! -> #REF! | AJ39: 百頁豆腐 | AL39: 0.3 | AM39: kg | AN39: 95 | AO39: =AN39*J39 -> 0
M40: =L40*#REF! -> #REF! | T40: =S40*#REF! -> #REF! | V40: 康寶濃湯 | AA40: =Z40*X40 -> 0 | AH40: =AG40*#REF! -> #REF! | AO40: =AN40*J40 -> 0
M41: =L41*#REF! -> #REF! | T41: =S41*#REF! -> #REF! | AA41: =Z41*X41 -> 0 | AH41: =AG41*#REF! -> #REF! | AO41: =AN41*J41 -> 0
M42: =L42*#REF! -> #REF! | T42: =S42*#REF! -> #REF! | AA42: =Z42*X42 -> 0 | AH42: =AG42*#REF! -> #REF! | AO42: =AN42*J42 -> 0
M43: =L43*#REF! -> #REF! | T43: =S43*#REF! -> #REF! | AA43: =Z43*X43 -> 0 | AH43: =AG43*#REF! -> #REF! | AO43: =AN43*J43 -> 0
M44: =L44*#REF! -> #REF! | T44: =S44*#REF! -> #REF! | AA44: =Z44*X44 -> 0 | AH44: =AG44*#REF! -> #REF! | AO44: =AN44*J44 -> 0
M45: =L45*#REF! -> #REF! | T45: =S45*#REF! -> #REF! | AA45: =Z45*X45 -> 0 | AH45: =AG45*#REF! -> #REF! | AO45: =AN45*J45 -> 0
M46: =L46*#REF! -> #REF! | T46: =S46*#REF! -> #REF! | AA46: =Z46*X46 -> 0 | AH46: =AG46*#REF! -> #REF! | AO46: =AN46*J46 -> 0
M47: =L47*#REF! -> #REF! | T47: =S47*#REF! -> #REF! | AA47: =Z47*X47 -> 0 | AH47: =AG47*#REF! -> #REF! | AO47: =AN47*J47 -> 0
M48: =L48*#REF! -> #REF! | T48: =S48*#REF! -> #REF! | AA48: =Z48*X48 -> 0 | AH48: =AG48*#REF! -> #REF! | AO48: =AN48*J48 -> 0
A49: 主菜二 | M49: =L49*Q49 -> 0 | T49: =S49*J49 -> 0 | AA49: =Z49*X49 -> 0 | AH49: =AG49*AE49 -> 0 | AO49: =AN49*AL49 -> 0
M50: =L50*Q50 -> 0 | T50: =S50*J50 -> 0 | AA50: =Z50*X50 -> 0 | AH50: =AG50*AE50 -> 0 | AO50: =AN50*AL50 -> 0
M51: =L51*Q51 -> 0 | T51: =S51*J51 -> 0 | AA51: =Z51*X51 -> 0 | AH51: =AG51*AE51 -> 0 | AO51: =AN51*AL51 -> 0
M52: =L52*Q52 -> 0 | T52: =S52*J52 -> 0 | AA52: =Z52*X52 -> 0 | AH52: =AG52*AE52 -> 0 | AO52: =AN52*AL52 -> 0
M53: =L53*Q53 -> 0 | T53: =S53*J53 -> 0 | AA53: =Z53*X53 -> 0 | AH53: =AG53*AE53 -> 0 | AO53: =AN53*AL53 -> 0
M54: =L54*Q54 -> 0 | T54: =S54*J54 -> 0 | AA54: =Z54*X54 -> 0 | AH54: =AG54*AE54 -> 0 | AO54: =AN54*AL54 -> 0
M55: =L55*Q55 -> 0 | T55: =S55*J55 -> 0 | AA55: =Z55*X55 -> 0 | AH55: =AG55*AE55 -> 0 | AO55: =AN55*AL55 -> 0
M56: =L56*Q56 -> 0 | T56: =S56*J56 -> 0 | AA56: =Z56*X56 -> 0 | AH56: =AG56*AE56 -> 0 | AO56: =AN56*AL56 -> 0
M57: =L57*Q57 -> 0 | T57: =S57*J57 -> 0 | AA57: =Z57*X57 -> 0 | AH57: =AG57*AE57 -> 0 | AO57: =AN57*AL57 -> 0
M58: =L58*Q58 -> 0 | T58: =S58*J58 -> 0 | AA58: =Z58*X58 -> 0 | AH58: =AG58*AE58 -> 0 | AO58: =AN58*AL58 -> 0
M59: =L59*Q59 -> 0 | T59: =S59*J59 -> 0 | AA59: =Z59*X59 -> 0 | AH59: =AG59*AE59 -> 0 | AO59: =AN59*AL59 -> 0
M60: =L60*Q60 -> 0 | T60: =S60*J60 -> 0 | AA60: =Z60*X60 -> 0 | AH60: =AG60*AE60 -> 0 | AO60: =AN60*AL60 -> 0
M61: =L61*Q61 -> 0 | T61: =S61*J61 -> 0 | AA61: =Z61*X61 -> 0 | AH61: =AG61*AE61 -> 0 | AO61: =AN61*AL61 -> 0
... M63: =L63*Q63 -> 0 | T63: =S63*J63 -> 0 | AA63: =Z63*X63 -> 0 | AH63: =AG63*AE63 -> 0 | AO63: =AN63*AL63 -> 0
A64: 主菜三 | M64: =L64*Q64 -> 0 | T64: =S64*J64 -> 0 | AA64: =Z64*X64 -> 0 | AH64: =AG64*AE64 -> 0 | AO64: =AN64*AL64 -> 0
M65: =L65*Q65 -> 0 | T65: =S65*J65 -> 0 | AA65: =Z65*X65 -> 0 | AH65: =AG65*AE65 -> 0 | AO65: =AN65*AL65 -> 0
M66: =L66*Q66 -> 0 | T66: =S66*J66 -> 0 | AA66: =Z66*X66 -> 0 | AH66: =AG66*AE66 -> 0 | AO66: =AN66*AL66 -> 0
M67: =L67*Q67 -> 0 | T67: =S67*J67 -> 0 | AA67: =Z67*X67 -> 0 | AH67: =AG67*AE67 -> 0 | AO67: =AN67*AL67 -> 0
M68: =L68*Q68 -> 0 | T68: =S68*J68 -> 0 | AA68: =Z68*X68 -> 0 | AH68: =AG68*AE68 -> 0 | AO68: =AN68*AL68 -> 0
M69: =L69*Q69 -> 0 | T69: =S69*J69 -> 0 | AA69: =Z69*X69 -> 0 | AH69: =AG69*AE69 -> 0 | AO69: =AN69*AL69 -> 0
...

Sheet Week_4
A1: 嘉義市東區民族國小 2025年6月4週午餐菜單
B2: 44633 | D2: 日 | F2: 人 | G2: 45831 | I2: 一 | J2: 621 | K2: 人 | N2: =G2+1 -> 45832 | P2: 二 | Q2: 621 | R2: 人 | U2: =N2+1 -> 45833 | W2: 三 | X2: 621 | Y2: 人 | AB2: =U2+1 -> 45834 | AD2: 四 | AE2: 621 | AF2: 人 | AI2: =AB2+1 -> 45835 | AK2: 五 | AL2: 621 | AM2: 人
B3: 菜名 | C3: 食材 | D3: 規格 | E3: 數量 | F3: 單位 | G3: 菜名 | H3: 食材 | I3: 規格 | J3: 數量 | K3: 單位 | N3: 菜名 | O3: 食材 | P3: 規格 | Q3: 數量 | R3: 單位 | U3: 菜名 | V3: 食材 | W3: 規格 | X3: 數量 | Y3: 單位 | AB3: 菜名 | AC3: 食材 | AD3: 規格 | AE3: 數量 | AF3: 單位 | AI3: 菜名 | AJ3: 食材 | AK3: 規格 | AL3: 數量 | AM3: 單位
A4: 主食 | G4: 薏仁飯 | N4: 有機米 | U4: 麵食 | AB4: 白米飯 | AI4: 五穀米
A19: 主食二
A34: 主菜 | G34: 奶油白菜雞 | H34: 腿丁 | J34: 42 | K34: kg | L34: 190 | M34: =L34*J34 -> 7980 | N34: 南瓜燒肉 | O34: 肉丁 | Q34: 36 | R34: kg | S34: 210 | T34: =S34*Q34 -> 7560 | U34: 紅燒豬肉麵 | V34: 肉丁 | X34: 27 | Y34: kg | Z34: 210 | AA34: =Z34*X34 -> 5670 | AB34: 蔭鳳梨蒸魚 | AC34: 旗魚片 | AD34: 66g | AE34: 621 | AF34: 片 | AG34: 14 | AH34: =AG34*AE34 -> 8694 | AI34: 鹹水雞 | AJ34: 去骨雞腿丁 | AL34: 43 | AM34: kg | AN34: 220 | AO34: =AN34*AL34 -> 9460
H35: 大白菜 | I35: 段 | J35: 18 | K35: kg | L35: 40 | M35: =L35*J35 -> 720 | O35: 南瓜大丁(手切) | P35: 新鮮 | Q35: 12 | R35: kg | S35: 50 | T35: =S35*Q35 -> 600 | V35: 白蘿蔔 | W35: 大丁 | X35: 18 | Y35: kg | Z35: 40 | AA35: =Z35*X35 -> 720 | AC35: 備 | AE35: 10 | AF35: 片 | AH35: =AG35*AE35 -> 0 | AJ35: 脆筍片 | AL35: 11 | AM35: kg | AN35: 75 | AO35: =AN35*AL35 -> 825
H36: 金針菇 | I36: 段 | J36: 4 | K36: kg | L36: 100 | M36: =L36*J36 -> 400 | O36: 薑片 | Q36: 1 | R36: 斤 | S36: 120 | T36: =S36*Q36 -> 120 | V36: 紅蘿蔔 | W36: 大丁 | X36: 3 | Y36: kg | Z36: 40 | AA36: =Z36*X36 -> 120 | AC36: 辣椒 | AE36: 0.2 | AF36: kg | AG36: 150 | AH36: =AG36*AE36 -> 30 | AJ36: 玉米筍段 | AL36: 4 | AM36: kg | AN36: 300 | AO36: =AN36*AL36 -> 1200
H37: 蒜末 | J37: 1 | K37: kg | L37: 230 | M37: =L37*J37 -> 230 | O37: 洋蔥小丁 | Q37: 4 | R37: kg | S37: 60 | T37: =S37*Q37 -> 240 | V37: 洋蔥 | W37: 大丁 | X37: 9 | Y37: kg | Z37: 60 | AA37: =Z37*X37 -> 540 | AC37: 薑絲 | AE37: 3 | AF37: 斤 | AG37: 120 | AH37: =AG37*AE37 -> 360 | AJ37: 鮮木耳片 | AL37: 3 | AM37: kg | AN37: 130 | AO37: =AN37*AL37 -> 390
H38: 玉米濃湯粉 | I38: 1k | J38: 3 | K38: 包 | L38: 180 | M38: =L38*J38 -> 540 | T38: =S38*Q38 -> 0 | V38: 番茄 | W38: 大丁 | X38: 9 | Y38: kg | Z38: 80 | AA38: =Z38*X38 -> 720 | AC38: 蔭鳳梨 | AD38: 3k | AE38: 1 | AF38: 大桶 | AG38: 300 | AH38: =AG38*AE38 -> 300 | AJ38: 杏鮑菇大丁 | AK38: 3*3 | AL38: 4 | AM38: kg | AN38: 130 | AO38: =AN38*AL38 -> 520
M39: =L39*J39 -> 0 | T39: =S39*Q39 -> 0 | V39: 牛肉滷包 | W39: 3k | X39: 7 | Y39: 包 | Z39: 80 | AA39: =Z39*X39 -> 560 | AH39: =AG39*AE39 -> 0 | AJ39: 四季豆段 | AL39: 4 | AM39: kg | AN39: 130 | AO39: =AN39*AL39 -> 520
M40: =L40*J40 -> 0 | T40: =S40*Q40 -> 0 | V40: 不辣豆瓣醬 | W40: 3k | X40: 1 | Y40: 罐 | Z40: 380 | AA40: =Z40*X40 -> 380 | AH40: =AG40*AE40 -> 0 | AJ40: 新鮮檸檬汁 | AK40: 750c.c | AL40: 1 | AM40: 瓶 | AN40: 120 | AO40: =AN40*AL40 -> 120
H41: 薏仁 | I41: 6/23 | J41: 4 | K41: kg | L41: 100 | M41: =L41*J41 -> 400 | T41: =S41*Q41 -> 0 | V41: 烏龍麵-細 | X41: 140 | Y41: 斤 | Z41: 27 | AA41: =Z41*X41 -> 3780 | AH41: =AG41*AE41 -> 0 | AJ41: 五穀米*含紫米 | AK41: 提前送 | AL41: 4 | AM41: kg | AN41: 120 | AO41: =AN41*AL41 -> 480
M42: =L42*J42 -> 0 | T42: =S42*Q42 -> 0 | AA42: =Z42*X42 -> 0 | AH42: =AG42*AE42 -> 0 | AO42: =AN42*AL42 -> 0
M43: =L43*J43 -> 0 | T43: =S43*Q43 -> 0 | AA43: =Z43*X43 -> 0 | AH43: =AG43*AE43 -> 0 | AO43: =AN43*AL43 -> 0
M44: =L44*J44 -> 0 | T44: =S44*Q44 -> 0 | AA44: =Z44*X44 -> 0 | AH44: =AG44*AE44 -> 0 | AO44: =AN44*AL44 -> 0
M45: =L45*J45 -> 0 | T45: =S45*Q45 -> 0 | AA45: =Z45*X45 -> 0 | AH45: =AG45*AE45 -> 0 | AO45: =AN45*AL45 -> 0
M46: =L46*J46 -> 0 | T46: =S46*Q46 -> 0 | AA46: =Z46*X46 -> 0 | AH46: =AG46*AE46 -> 0 | AO46: =AN46*AL46 -> 0
M47: =L47*J47 -> 0 | T47: =S47*Q47 -> 0 | AA47: =Z47*X47 -> 0 | AH47: =AG47*AE47 -> 0 | AO47: =AN47*AL47 -> 0
M48: =L48*J48 -> 0 | T48: =S48*Q48 -> 0 | AA48: =Z48*X48 -> 0 | AH48: =AG48*AE48 -> 0 | AO48: =AN48*AL48 -> 0
A49: 主菜二 | H49: 小烏龍麵 | J49: -1244 | K49: kg | M49: =L49*J49 -> 0 | T49: =S49*Q49 -> 0 | AA49: =Z49*X49 -> 0 | AH49: =AG49*AE49 -> 0 | AO49: =AN49*AL49 -> 0
H50: 毛豆仁 | J50: -1422 | K50: kg | M50: =L50*J50 -> 0 | T50: =S50*Q50 -> 0 | AA50: =Z50*X50 -> 0 | AH50: =AG50*AE50 -> 0 | AO50: =AN50*AL50 -> 0
H51: 小烏龍麵 | J51: -1600 | K51: kg | M51: =L51*J51 -> 0 | T51: =S51*Q51 -> 0 | AA51: =Z51*X51 -> 0 | AH51: =AG51*AE51 -> 0 | AO51: =AN51*AL51 -> 0
H52: 毛豆仁 | J52: -1778 | K52: kg | M52: =L52*J52 -> 0 | T52: =S52*Q52 -> 0 | AA52: =Z52*X52 -> 0 | AH52: =AG52*AE52 -> 0 | AO52: =AN52*AL52 -> 0
H53: 小烏龍麵 | J53: -1956 | K53: kg | M53: =L53*J53 -> 0 | T53: =S53*Q53 -> 0 | AA53: =Z53*X53 -> 0 | AH53: =AG53*AE53 -> 0 | AO53: =AN53*AL53 -> 0
H54: 毛豆仁 | J54: -2134 | K54: kg | M54: =L54*J54 -> 0 | T54: =S54*Q54 -> 0 | AA54: =Z54*X54 -> 0 | AH54: =AG54*AE54 -> 0 | AO54: =AN54*AL54 -> 0
H55: 小烏龍麵 | J55: -2312 | K55: kg | M55: =L55*J55 -> 0 | T55: =S55*Q55 -> 0 | AA55: =Z55*X55 -> 0 | AH55: =AG55*AE55 -> 0 | AO55: =AN55*AL55 -> 0
H56: 毛豆仁 | J56: -2490 | K56: kg | M56: =L56*J56 -> 0 | T56: =S56*Q56 -> 0 | AA56: =Z56*X56 -> 0 | AH56: =AG56*AE56 -> 0 | AO56: =AN56*AL56 -> 0
H57: 小烏龍麵 | J57: -2668 | K57: kg | M57: =L57*J57 -> 0 | T57: =S57*Q57 -> 0 | AA57: =Z57*X57 -> 0 | AH57: =AG57*AE57 -> 0 | AO57: =AN57*AL57 -> 0
H58: 毛豆仁 | J58: -2846 | K58: kg | M58: =L58*J58 -> 0 | T58: =S58*Q58 -> 0 | AA58: =Z58*X58 -> 0 | AH58: =AG58*AE58 -> 0 | AO58: =AN58*AL58 -> 0
H59: 小烏龍麵 | J59: -3024 | K59: kg | M59: =L59*J59 -> 0 | T59: =S59*Q59 -> 0 | AA59: =Z59*X59 -> 0 | AH59: =AG59*AE59 -> 0 | AO59: =AN59*AL59 -> 0
H60: 毛豆仁 | J60: -3202 | K60: kg | M60: =L60*J60 -> 0 | T60: =S60*Q60 -> 0 | AA60: =Z60*X60 -> 0 | AH60: =AG60*AE60 -> 0 | AO60: =AN60*AL60 -> 0
H61: 小烏龍麵 | J61: -3380 | K61: kg | M61: =L61*J61 -> 0 | T61: =S61*Q61 -> 0 | AA61: =Z61*X61 -> 0 | AH61: =AG61*AE61 -> 0 | AO61: =AN61*AL61 -> 0
... H63: 小烏龍麵 | J63: -3736 | K63: kg | M63: =L63*J63 -> 0 | T63: =S63*Q63 -> 0 | AA63: =Z63*X63 -> 0 | AH63: =AG63*AE63 -> 0 | AO63: =AN63*AL63 -> 0
A64: 主菜三 | H64: 毛豆仁 | J64: -3914 | K64: kg | M64: =L64*J64 -> 0 | T64: =S64*Q64 -> 0 | AA64: =Z64*X64 -> 0 | AH64: =AG64*AE64 -> 0 | AO64: =AN64*AL64 -> 0
H65: 小烏龍麵 | J65: -4092 | K65: kg | M65: =L65*J65 -> 0 | T65: =S65*Q65 -> 0 | AA65: =Z65*X65 -> 0 | AH65: =AG65*AE65 -> 0 | AO65: =AN65*AL65 -> 0
H66: 毛豆仁 | J66: -4270 | K66: kg | M66: =L66*J66 -> 0 | T66: =S66*Q66 -> 0 | AA66: =Z66*X66 -> 0 | AH66: =AG66*AE66 -> 0 | AO66: =AN66*AL66 -> 0
H67: 小烏龍麵 | J67: -4448 | K67: kg | M67: =L67*J67 -> 0 | T67: =S67*Q67 -> 0 | AA67: =Z67*X67 -> 0 | AH67: =AG67*AE67 -> 0 | AO67: =AN67*AL67 -> 0
H68: 毛豆仁 | J68: -4626 | K68: kg | M68: =L68*J68 -> 0 | T68: =S68*Q68 -> 0 | AA68: =Z68*X68 -> 0 | AH68: =AG68*AE68 -> 0 | AO68: =AN68*AL68 -> 0
H69: 小烏龍麵 | J69: -4804 | K69: kg | M69: =L69*J69 -> 0 | T69: =S69*Q69 -> 0 | AA69: =Z69*X69 -> 0 | AH69: =AG69*AE69 -> 0 | AO69: =AN69*AL69 -> 0
...

Sheet Week_4 (素)
A1: 嘉義市東區民族國小 2025年6月4週午餐菜單素
B2: 44640 | D2: 日 | F2: 人 | G2: 45831 | I2: 一 | J2: 22 | N2: =G2+1 -> 45832 | P2: 二 | Q2: 22 | U2: =N2+1 -> 45833 | W2: 三 | X2: 22 | AB2: =U2+1 -> 45834 | AD2: 四 | AE2: 22 | AI2: =AB2+1 -> 45835 | AK2: 五 | AL2: 22 | AP2: 44646 | AR2: 六 | AT2: 人
B3: 菜名 | C3: 食材 | D3: 規格 | E3: 數量 | F3: 單位 | G3: 菜名 | H3: 食材 | I3: 規格 | J3: 數量 | K3: 單位 | N3: 菜名 | O3: 食材 | P3: 規格 | Q3: 數量 | R3: 單位 | U3: 菜名 | V3: 食材 | W3: 規格 | X3: 數量 | Y3: 單位 | AB3: 菜名 | AC3: 食材 | AD3: 規格 | AE3: 數量 | AF3: 單位 | AI3: 菜名 | AJ3: 食材 | AK3: 規格 | AL3: 數量 | AM3: 單位 | AP3: 菜名 | AQ3: 食材 | AR3: 規格 | AS3: 數量 | AT3: 單位
A4: 主食 | G4: 胚芽飯 | N4: 白米飯
A19: 主食二
A34: 主菜 | G34: 奶油白菜雞 | H34: 素豬肚 | J34: 1.5 | K34: kg | L34: 130 | M34: =L34*#REF! -> #REF! | N34: 南瓜燒肉 | O34: 烤麩 | P34: 濕 | Q34: 1 | R34: kg | S34: 150 | T34: =S34*Q34 -> 150 | U34: 紅燒豬肉麵 | V34: 四角油豆腐 | X34: 1 | Y34: kg | AB34: 蔭鳳梨素魚 | AC34: 素魚 | AE34: 22 | AF34: 片 | AI34: 鹹水雞 | AJ34: 角螺-非 | AL34: 0.6 | AM34: kg | AN34: 15 | AO34: =AN34*#REF! -> #REF!
H35: 大白菜 | I35: 段 | J35: 1 | K35: kg | L35: 65 | M35: =L35*#REF! -> #REF! | O35: 生香菇 | P35: 小朵 | Q35: 0.5 | R35: kg | S35: 35 | T35: =S35*Q35 -> 17.5 | V35: 白蘿蔔 | W35: 大丁 | X35: 1 | Y35: kg | AC35: 備 | AE35: 5 | AF35: 片 | AJ35: 脆筍片 | AL35: 0.8 | AM35: kg | AN35: 0 | AO35: =AN35*#REF! -> #REF!
H36: 金針菇 | I36: 段 | J36: 0.3 | K36: kg | L36: 70 | M36: =L36*#REF! -> #REF! | O36: 玉米筍 | Q36: 0.2 | R36: kg | S36: 100 | T36: =S36*Q36 -> 20 | V36: 紅蘿蔔 | W36: 大丁 | X36: 0.3 | Y36: kg | AC36: 玉米筍 | AE36: 0.3 | AF36: kg | AJ36: 玉米筍段 | AL36: 0.4 | AM36: kg | AO36: =AN36*#REF! -> #REF!
H37: 素雞絲 | J37: 1 | K37: 包 | L37: 450 | M37: =L37*#REF! -> #REF! | O37: 南瓜大丁 | P37: 新鮮 | Q37: 1 | R37: kg | S37: 45 | T37: =S37*Q37 -> 45 | V37: 小豆輪 | W37: 大丁 | X37: 0.1 | Y37: kg | AC37: 蔭鳳梨 | AE37: 葷取 | AJ37: 鮮木耳片 | AL37: 0.3 | AM37: kg | AO37: =AN37*#REF! -> #REF!
H38: 康寶玉米濃湯粉 | I38: 素 | J38: 2 | K38: 包 | V38: 番茄 | W38: 大丁 | X38: 0.3 | Y38: kg | AJ38: 杏鮑菇大丁 | AL38: 0.3 | AM38: kg | AO38: =AN38*#REF! -> #REF!
V39: 小白菜 | W39: 段 | X39: 1 | Y39: kg | AJ39: 四季豆段 | AL39: 0.3 | AM39: kg | AO39: =AN39*#REF! -> #REF!
V40: 紅燒滷包 | W40: 3k | X40: 1 | Y40: 包 | AJ40: 新鮮檸檬汁 | AK40: 750c.c | AL40: 葷取 | AO40: =AN40*#REF! -> #REF!
AO41: =AN41*#REF! -> #REF!
AO42: =AN42*#REF! -> #REF!
AO43: =AN43*#REF! -> #REF!
AO44: =AN44*#REF! -> #REF!
AO45: =AN45*#REF! -> #REF!
AO46: =AN46*#REF! -> #REF!
AO47: =AN47*#REF! -> #REF!
AO48: =AN48*#REF! -> #REF!
A49: 主菜二 | H49: 小烏龍麵 | J49: -1244 | K49: kg | AO49: =AN49*AL49 -> 0
H50: 毛豆仁 | J50: -1422 | K50: kg | AO50: =AN50*AL50 -> 0
H51: 小烏龍麵 | J51: -1600 | K51: kg | AO51: =AN51*AL51 -> 0
H52: 毛豆仁 | J52: -1778 | K52: kg | AO52: =AN52*AL52 -> 0
H53: 小烏龍麵 | J53: -1956 | K53: kg | AO53: =AN53*AL53 -> 0
H54: 毛豆仁 | J54: -2134 | K54: kg | AO54: =AN54*AL54 -> 0
H55: 小烏龍麵 | J55: -2312 | K55: kg | AO55: =AN55*AL55 -> 0
H56: 毛豆仁 | J56: -2490 | K56: kg | AO56: =AN56*AL56 -> 0
H57: 小烏龍麵 | J57: -2668 | K57: kg | AO57: =AN57*AL57 -> 0
H58: 毛豆仁 | J58: -2846 | K58: kg | AO58: =AN58*AL58 -> 0
H59: 小烏龍麵 | J59: -3024 | K59: kg | AO59: =AN59*AL59 -> 0
H60: 毛豆仁 | J60: -3202 | K60: kg | AO60: =AN60*AL60 -> 0
H61: 小烏龍麵 | J61: -3380 | K61: kg | AO61: =AN61*AL61 -> 0
... H63: 小烏龍麵 | J63: -3736 | K63: kg | AO63: =AN63*AL63 -> 0
A64: 主菜三 | H64: 毛豆仁 | J64: -3914 | K64: kg | AO64: =AN64*AL64 -> 0
H65: 小烏龍麵 | J65: -4092 | K65: kg | AO65: =AN65*AL65 -> 0
H66: 毛豆仁 | J66: -4270 | K66: kg | AO66: =AN66*AL66 -> 0
H67: 小烏龍麵 | J67: -4448 | K67: kg | AO67: =AN67*AL67 -> 0
H68: 毛豆仁 | J68: -4626 | K68: kg | AO68: =AN68*AL68 -> 0
H69: 小烏龍麵 | J69: -4804 | K69: kg | AO69: =AN69*AL69 -> 0
...

Sheet Week_5
A1: 嘉義市東區民族國小 2025年6月5週午餐菜單
B2: 44647 | D2: 日 | F2: 人 | G2: 45838 | I2: 一 | J2: 621 | K2: 人 | N2: =G2+1 -> 45839 | P2: 二 | Q2: 709 | R2: 人 | U2: =N2+1 -> 45840 | W2: 三 | X2: 709 | Y2: 人 | AB2: =U2+1 -> 45841 | AD2: 四 | AE2: 709 | AF2: 人 | AI2: =AB2+1 -> 45842 | AK2: 五 | AL2: 709 | AM2: 人
B3: 菜名 | C3: 食材 | D3: 規格 | E3: 數量 | F3: 單位 | G3: 菜名 | H3: 食材 | I3: 規格 | J3: 數量 | K3: 單位 | N3: 菜名 | O3: 食材 | P3: 規格 | Q3: 數量 | R3: 單位 | U3: 菜名 | V3: 食材 | W3: 規格 | X3: 數量 | Y3: 單位 | AB3: 菜名 | AC3: 食材 | AD3: 規格 | AE3: 數量 | AF3: 單位 | AI3: 菜名 | AJ3: 食材 | AK3: 規格 | AL3: 數量 | AM3: 單位
A4: 主食 | G4: 小米飯
A19: 主食二
A34: 主菜 | G34: 滷豬排 | H34: 永新黑蜜豬排 | J34: 621 | K34: 片 | L34: 16 | M34: =J34*L34 -> 9936 | S34: 10 | T34: =S34*Q34 -> 0 | Z34: 180 | AA34: =Z34*X34 -> 0 | AN34: 13 | AO34: =AN34*AL34 -> 0
H35: 每人1片 | M35: =J35*L35 -> 0 | T35: =S35*Q35 -> 0 | Z35: 100 | AA35: =Z35*X35 -> 0 | AO35: =AN35*AL35 -> 0
H36: 備份 | J36: 10 | K36: 片 | M36: =J36*L36 -> 0 | S36: 200 | T36: =S36*Q36 -> 0 | Z36: 40 | AA36: =Z36*X36 -> 0 | AN36: 200 | AO36: =AN36*AL36 -> 0
M37: =J37*L37 -> 0 | S37: 300 | T37: =S37*Q37 -> 0 | Z37: 60 | AA37: =Z37*X37 -> 0 | AO37: =AN37*AL37 -> 0
M38: =J38*L38 -> 0 | S38: 300 | T38: =S38*Q38 -> 0 | Z38: 75 | AA38: =Z38*X38 -> 0 | AO38: =AN38*AL38 -> 0
M39: =J39*L39 -> 0 | T39: =S39*Q39 -> 0 | Z39: 120 | AA39: =Z39*X39 -> 0 | AO39: =AN39*AL39 -> 0
M40: =J40*L40 -> 0 | T40: =S40*Q40 -> 0 | Z40: 95 | AA40: =Z40*X40 -> 0 | AO40: =AN40*AL40 -> 0
H41: 小米 | I41: 6/30 | J41: 4 | K41: kg | L41: 100 | M41: =J41*L41 -> 400 | T41: =S41*Q41 -> 0 | Z41: 40 | AA41: =Z41*X41 -> 0 | AO41: =AN41*AL41 -> 0
M42: =J42*L42 -> 0 | T42: =S42*Q42 -> 0 | AA42: =Z42*X42 -> 0 | AO42: =AN42*AL42 -> 0
M43: =J43*L43 -> 0 | T43: =S43*Q43 -> 0 | AA43: =Z43*X43 -> 0 | AO43: =AN43*AL43 -> 0
M44: =J44*L44 -> 0 | T44: =S44*Q44 -> 0 | AA44: =Z44*X44 -> 0 | AO44: =AN44*AL44 -> 0
M45: =J45*L45 -> 0 | T45: =S45*Q45 -> 0 | AA45: =Z45*X45 -> 0 | AO45: =AN45*AL45 -> 0
M46: =J46*L46 -> 0 | T46: =S46*Q46 -> 0 | AA46: =Z46*X46 -> 0 | AO46: =AN46*AL46 -> 0
M47: =J47*L47 -> 0 | T47: =S47*Q47 -> 0 | AA47: =Z47*X47 -> 0 | AO47: =AN47*AL47 -> 0
M48: =J48*L48 -> 0 | T48: =S48*Q48 -> 0 | AA48: =Z48*X48 -> 0 | AO48: =AN48*AL48 -> 0
A49: 主菜二 | M49: =J49*L49 -> 0 | T49: =S49*Q49 -> 0 | AA49: =Z49*X49 -> 0 | AO49: =AN49*AL49 -> 0
M50: =J50*L50 -> 0 | T50: =S50*Q50 -> 0 | AA50: =Z50*X50 -> 0 | AO50: =AN50*AL50 -> 0
M51: =J51*L51 -> 0 | T51: =S51*Q51 -> 0 | AA51: =Z51*X51 -> 0 | AO51: =AN51*AL51 -> 0
M52: =J52*L52 -> 0 | T52: =S52*Q52 -> 0 | AA52: =Z52*X52 -> 0 | AO52: =AN52*AL52 -> 0
M53: =J53*L53 -> 0 | T53: =S53*Q53 -> 0 | AA53: =Z53*X53 -> 0 | AO53: =AN53*AL53 -> 0
M54: =J54*L54 -> 0 | T54: =S54*Q54 -> 0 | AA54: =Z54*X54 -> 0 | AO54: =AN54*AL54 -> 0
M55: =J55*L55 -> 0 | T55: =S55*Q55 -> 0 | AA55: =Z55*X55 -> 0 | AO55: =AN55*AL55 -> 0
M56: =J56*L56 -> 0 | T56: =S56*Q56 -> 0 | AA56: =Z56*X56 -> 0 | AO56: =AN56*AL56 -> 0
M57: =J57*L57 -> 0 | T57: =S57*Q57 -> 0 | AA57: =Z57*X57 -> 0 | AO57: =AN57*AL57 -> 0
M58: =J58*L58 -> 0 | T58: =S58*Q58 -> 0 | AA58: =Z58*X58 -> 0 | AO58: =AN58*AL58 -> 0
M59: =J59*L59 -> 0 | T59: =S59*Q59 -> 0 | AA59: =Z59*X59 -> 0 | AO59: =AN59*AL59 -> 0
M60: =J60*L60 -> 0 | T60: =S60*Q60 -> 0 | AA60: =Z60*X60 -> 0 | AO60: =AN60*AL60 -> 0
M61: =J61*L61 -> 0 | T61: =S61*Q61 -> 0 | AA61: =Z61*X61 -> 0 | AO61: =AN61*AL61 -> 0
... M63: =J63*L63 -> 0 | T63: =S63*Q63 -> 0 | AA63: =Z63*X63 -> 0 | AO63: =AN63*AL63 -> 0
A64: 主菜三 | M64: =J64*L64 -> 0 | T64: =S64*Q64 -> 0 | AA64: =Z64*X64 -> 0 | AO64: =AN64*AL64 -> 0
M65: =J65*L65 -> 0 | T65: =S65*Q65 -> 0 | AA65: =Z65*X65 -> 0 | AO65: =AN65*AL65 -> 0
M66: =J66*L66 -> 0 | T66: =S66*Q66 -> 0 | AA66: =Z66*X66 -> 0 | AO66: =AN66*AL66 -> 0
M67: =J67*L67 -> 0 | T67: =S67*Q67 -> 0 | AA67: =Z67*X67 -> 0 | AO67: =AN67*AL67 -> 0
M68: =J68*L68 -> 0 | T68: =S68*Q68 -> 0 | AA68: =Z68*X68 -> 0 | AO68: =AN68*AL68 -> 0
M69: =J69*L69 -> 0 | T69: =S69*Q69 -> 0 | AA69: =Z69*X69 -> 0 | AO69: =AN69*AL69 -> 0
...

Sheet Week_5(素)
A1: 嘉義市東區民族國小 2025年6月5週午餐菜單素
B2: 44647 | D2: 日 | F2: 人 | G2: 45838 | I2: 一 | J2: 22 | K2: 人 | N2: =G2+1 -> 45839 | P2: 二 | R2: 人 | U2: =N2+1 -> 45840 | W2: 三 | Y2: 人 | AB2: =U2+1 -> 45841 | AD2: 四 | AF2: 人 | AI2: =AB2+1 -> 45842 | AK2: 五 | AM2: 人 | AR2: 六 | AT2: 人
B3: 菜名 | C3: 食材 | D3: 規格 | E3: 數量 | F3: 單位 | G3: 菜名 | H3: 食材 | I3: 規格 | J3: 數量 | K3: 單位 | N3: 菜名 | O3: 食材 | P3: 規格 | Q3: 數量 | R3: 單位 | U3: 菜名 | V3: 食材 | W3: 規格 | X3: 數量 | Y3: 單位 | AB3: 菜名 | AC3: 食材 | AD3: 規格 | AE3: 數量 | AF3: 單位 | AI3: 菜名 | AJ3: 食材 | AK3: 規格 | AL3: 數量 | AM3: 單位 | AP3: 菜名 | AQ3: 食材 | AR3: 規格 | AS3: 數量 | AT3: 單位
A4: 主食 | G4: 小米飯
A19: 主食二
A34: 主菜 | G34: 滷牛蒡排 | H34: 牛蒡排 | I34: 素 | J34: 22 | K34: 片 | L34: 15 | M34: =L34*J34 -> 330 | S34: 20 | T34: =S34*'Week_1.. (素)'!AE34 -> 460 | Z34: 130 | AA34: =Z34*'Week_1.. (素)'!AL34 -> 130 | AO34: =AN34*AL34 -> 0
H35: 備份 | J35: 3 | K35: 片 | M35: =L35*J35 -> 0 | T35: =S35*'Week_1.. (素)'!AE35 -> 0 | Z35: 100 | AA35: =Z35*'Week_1.. (素)'!AL35 -> 100 | AO35: =AN35*AL35 -> 0
H36: 南瓜去皮去籽 | I36: 不切 | J36: 2 | K36: kg | L36: 120 | M36: =L36*J36 -> 240 | S36: 60 | T36: =S36*'Week_1.. (素)'!AE36 -> 0 | Z36: 40 | AA36: =Z36*'Week_1.. (素)'!AL36 -> 0 | AO36: =AN36*AL36 -> 0
L37: 50 | M37: =L37*J37 -> 0 | T37: =S37*'Week_1.. (素)'!AE37 -> 0 | Z37: 250 | AA37: =Z37*'Week_1.. (素)'!AL37 -> 0 | AO37: =AN37*AL37 -> 0
M38: =L38*J38 -> 0 | T38: =S38*'Week_1.. (素)'!AE38 -> 0 | Z38: 75 | AA38: =Z38*'Week_1.. (素)'!AL38 -> 0 | AO38: =AN38*AL38 -> 0
M39: =L39*J39 -> 0 | T39: =S39*'Week_1.. (素)'!AE39 -> 0 | Z39: 130 | AA39: =Z39*'Week_1.. (素)'!AL39 -> 0 | AO39: =AN39*AL39 -> 0
M40: =L40*J40 -> 0 | T40: =S40*'Week_1.. (素)'!AE40 -> 0 | AA40: =Z40*'Week_1.. (素)'!AL40 -> 0 | AO40: =AN40*AL40 -> 0
M41: =L41*J41 -> 0 | T41: =S41*'Week_1.. (素)'!AE41 -> 0 | Z41: 40 | AA41: =Z41*'Week_1.. (素)'!AL41 -> 0 | AO41: =AN41*AL41 -> 0
M42: =L42*J42 -> 0 | T42: =S42*'Week_1.. (素)'!AE42 -> 0 | AA42: =Z42*'Week_1.. (素)'!AL42 -> 0 | AO42: =AN42*AL42 -> 0
M43: =L43*J43 -> 0 | T43: =S43*'Week_1.. (素)'!AE43 -> 0 | AA43: =Z43*'Week_1.. (素)'!AL43 -> 0 | AO43: =AN43*AL43 -> 0
M44: =L44*J44 -> 0 | T44: =S44*'Week_1.. (素)'!AE44 -> 0 | AA44: =Z44*'Week_1.. (素)'!AL44 -> 0 | AO44: =AN44*AL44 -> 0
M45: =L45*J45 -> 0 | T45: =S45*'Week_1.. (素)'!AE45 -> 0 | AA45: =Z45*'Week_1.. (素)'!AL45 -> 0 | AO45: =AN45*AL45 -> 0
M46: =L46*J46 -> 0 | T46: =S46*'Week_1.. (素)'!AE46 -> 0 | AA46: =Z46*'Week_1.. (素)'!AL46 -> 0 | AO46: =AN46*AL46 -> 0
M47: =L47*J47 -> 0 | T47: =S47*'Week_1.. (素)'!AE47 -> 0 | AA47: =Z47*'Week_1.. (素)'!AL47 -> 0 | AO47: =AN47*AL47 -> 0
M48: =L48*J48 -> 0 | T48: =S48*'Week_1.. (素)'!AE48 -> 0 | AA48: =Z48*'Week_1.. (素)'!AL48 -> 0 | AO48: =AN48*AL48 -> 0
A49: 主菜二 | M49: =L49*J49 -> 0 | T49: =S49*'Week_1.. (素)'!AE49 -> 0 | AA49: =Z49*'Week_1.. (素)'!AL49 -> 0 | AO49: =AN49*AL49 -> 0
M50: =L50*J50 -> 0 | T50: =S50*'Week_1.. (素)'!AE50 -> 0 | AA50: =Z50*'Week_1.. (素)'!AL50 -> 0 | AO50: =AN50*AL50 -> 0
M51: =L51*J51 -> 0 | T51: =S51*'Week_1.. (素)'!AE51 -> 0 | AA51: =Z51*'Week_1.. (素)'!AL51 -> 0 | AO51: =AN51*AL51 -> 0
M52: =L52*J52 -> 0 | T52: =S52*'Week_1.. (素)'!AE52 -> 0 | AA52: =Z52*'Week_1.. (素)'!AL52 -> 0 | AO52: =AN52*AL52 -> 0
M53: =L53*J53 -> 0 | T53: =S53*'Week_1.. (素)'!AE53 -> 0 | AA53: =Z53*'Week_1.. (素)'!AL53 -> 0 | AO53: =AN53*AL53 -> 0
M54: =L54*J54 -> 0 | T54: =S54*'Week_1.. (素)'!AE54 -> 0 | AA54: =Z54*'Week_1.. (素)'!AL54 -> 0 | AO54: =AN54*AL54 -> 0
M55: =L55*J55 -> 0 | T55: =S55*'Week_1.. (素)'!AE55 -> 0 | AA55: =Z55*'Week_1.. (素)'!AL55 -> 0 | AO55: =AN55*AL55 -> 0
M56: =L56*J56 -> 0 | T56: =S56*'Week_1.. (素)'!AE56 -> 0 | AA56: =Z56*'Week_1.. (素)'!AL56 -> 0 | AO56: =AN56*AL56 -> 0
M57: =L57*J57 -> 0 | T57: =S57*'Week_1.. (素)'!AE57 -> 0 | AA57: =Z57*'Week_1.. (素)'!AL57 -> 0 | AO57: =AN57*AL57 -> 0
M58: =L58*J58 -> 0 | T58: =S58*'Week_1.. (素)'!AE58 -> 0 | AA58: =Z58*'Week_1.. (素)'!AL58 -> 0 | AO58: =AN58*AL58 -> 0
M59: =L59*J59 -> 0 | T59: =S59*'Week_1.. (素)'!AE59 -> 0 | AA59: =Z59*'Week_1.. (素)'!AL59 -> 0 | AO59: =AN59*AL59 -> 0
M60: =L60*J60 -> 0 | T60: =S60*'Week_1.. (素)'!AE60 -> 0 | AA60: =Z60*'Week_1.. (素)'!AL60 -> 0 | AO60: =AN60*AL60 -> 0
M61: =L61*J61 -> 0 | T61: =S61*'Week_1.. (素)'!AE61 -> 0 | AA61: =Z61*'Week_1.. (素)'!AL61 -> 0 | AO61: =AN61*AL61 -> 0
... M63: =L63*J63 -> 0 | T63: =S63*'Week_1.. (素)'!AE63 -> 0 | AA63: =Z63*'Week_1.. (素)'!AL63 -> 0 | AO63: =AN63*AL63 -> 0
A64: 主菜三 | M64: =L64*J64 -> 0 | T64: =S64*'Week_1.. (素)'!AE64 -> 0 | AA64: =Z64*'Week_1.. (素)'!AL64 -> 0 | AO64: =AN64*AL64 -> 0
M65: =L65*J65 -> 0 | T65: =S65*'Week_1.. (素)'!AE65 -> 0 | AA65: =Z65*'Week_1.. (素)'!AL65 -> 0 | AO65: =AN65*AL65 -> 0
M66: =L66*J66 -> 0 | T66: =S66*'Week_1.. (素)'!AE66 -> 0 | AA66: =Z66*'Week_1.. (素)'!AL66 -> 0 | AO66: =AN66*AL66 -> 0
M67: =L67*J67 -> 0 | T67: =S67*'Week_1.. (素)'!AE67 -> 0 | AA67: =Z67*'Week_1.. (素)'!AL67 -> 0 | AO67: =AN67*AL67 -> 0
M68: =L68*J68 -> 0 | T68: =S68*'Week_1.. (素)'!AE68 -> 0 | AA68: =Z68*'Week_1.. (素)'!AL68 -> 0 | AO68: =AN68*AL68 -> 0
M69: =L69*J69 -> 0 | T69: =S69*'Week_1.. (素)'!AE69 -> 0 | AA69: =Z69*'Week_1.. (素)'!AL69 -> 0 | AO69: =AN69*AL69 -> 0
...
